BEGIN:VCALENDAR
VERSION:2.0
PRODID:-//Svenska Judoförbundet - ECPv6.15.20//NONSGML v1.0//EN
CALSCALE:GREGORIAN
METHOD:PUBLISH
X-ORIGINAL-URL:https://judo.se
X-WR-CALDESC:Händelser för Svenska Judoförbundet
REFRESH-INTERVAL;VALUE=DURATION:PT1H
X-Robots-Tag:noindex
X-PUBLISHED-TTL:PT1H
BEGIN:VTIMEZONE
TZID:Europe/Stockholm
BEGIN:DAYLIGHT
TZOFFSETFROM:+0100
TZOFFSETTO:+0200
TZNAME:CEST
DTSTART:20230326T010000
END:DAYLIGHT
BEGIN:STANDARD
TZOFFSETFROM:+0200
TZOFFSETTO:+0100
TZNAME:CET
DTSTART:20231029T010000
END:STANDARD
BEGIN:DAYLIGHT
TZOFFSETFROM:+0100
TZOFFSETTO:+0200
TZNAME:CEST
DTSTART:20240331T010000
END:DAYLIGHT
BEGIN:STANDARD
TZOFFSETFROM:+0200
TZOFFSETTO:+0100
TZNAME:CET
DTSTART:20241027T010000
END:STANDARD
BEGIN:DAYLIGHT
TZOFFSETFROM:+0100
TZOFFSETTO:+0200
TZNAME:CEST
DTSTART:20250330T010000
END:DAYLIGHT
BEGIN:STANDARD
TZOFFSETFROM:+0200
TZOFFSETTO:+0100
TZNAME:CET
DTSTART:20251026T010000
END:STANDARD
END:VTIMEZONE
BEGIN:VEVENT
DTSTART;TZID=Europe/Stockholm:20241101T143000
DTEND;TZID=Europe/Stockholm:20241103T120000
DTSTAMP:20260422T003544
CREATED:20241017T142316Z
LAST-MODIFIED:20241017T142316Z
UID:16623-1730471400-1730635200@judo.se
SUMMARY:Höstjudoläger (parajudo) 2024\, Göteborg
DESCRIPTION:
URL:https://judo.se/event/hostjudolager-parajudo-2024-goteborg/
LOCATION:Frölunda Judoklubb\, Klubbvägen 8\, Västra Frölunda\, 421 47\, Sverige
CATEGORIES:Läger,Special Needs/Parajudo,Startsida
END:VEVENT
BEGIN:VEVENT
DTSTART;VALUE=DATE:20241102
DTEND;VALUE=DATE:20241103
DTSTAMP:20260422T003544
CREATED:20240110T102143Z
LAST-MODIFIED:20240625T164854Z
UID:15160-1730505600-1730591999@judo.se
SUMMARY:Judits pokal 4\, 2024
DESCRIPTION:Länk till anmälan i Smoothcomp.
URL:https://judo.se/event/judits-pokal-4-2024/
LOCATION:Göteborgs Judoklubb\, Andra långgatan 48\, Göteborg\, Sverige
CATEGORIES:Startsida,Tävlingar
ORGANIZER;CN="G%C3%B6teborgs Judoklubb":MAILTO:info@gjk.se
END:VEVENT
BEGIN:VEVENT
DTSTART;VALUE=DATE:20241104
DTEND;VALUE=DATE:20241107
DTSTAMP:20260422T003544
CREATED:20240613T093128Z
LAST-MODIFIED:20240613T113501Z
UID:16028-1730678400-1730937599@judo.se
SUMMARY:Veteran-VM 2024
DESCRIPTION:Information om anmälan finns här (Observera att anmälningstiderna för svenska deltagare är andra än i den internationella inbjudan!).
URL:https://judo.se/event/veteran-vm-2024/
LOCATION:Las Vegas
CATEGORIES:Startsida
END:VEVENT
BEGIN:VEVENT
DTSTART;TZID=Europe/Stockholm:20241104T190000
DTEND;TZID=Europe/Stockholm:20241104T210000
DTSTAMP:20260422T003544
CREATED:20240814T161449Z
LAST-MODIFIED:20240814T161449Z
UID:16363-1730746800-1730754000@judo.se
SUMMARY:Steg 5\, B-domarkurs\, del 3/4 digitalt
DESCRIPTION:﻿
URL:https://judo.se/event/steg-5-b-domarkurs-del-3-4-digitalt/
LOCATION:Digitalt
CATEGORIES:Utbildningar
END:VEVENT
BEGIN:VEVENT
DTSTART;VALUE=DATE:20241107
DTEND;VALUE=DATE:20241111
DTSTAMP:20260422T003544
CREATED:20240515T121910Z
LAST-MODIFIED:20240515T121910Z
UID:15854-1730937600-1731283199@judo.se
SUMMARY:Veteran VM 2024\, Las Vegas
DESCRIPTION:Mer info kommer! \n  \nIJF:s sida med info: https://www.ijf.org/competition/2855 \n 
URL:https://judo.se/event/veteran-vm-2024-las-vegas/
LOCATION:Las Vegas
CATEGORIES:Startsida,Tävlingar,Veteran
END:VEVENT
BEGIN:VEVENT
DTSTART;TZID=Europe/Stockholm:20241109T080000
DTEND;TZID=Europe/Stockholm:20241110T170000
DTSTAMP:20260422T003544
CREATED:20240405T084038Z
LAST-MODIFIED:20240405T091418Z
UID:15662-1731139200-1731258000@judo.se
SUMMARY:Trollträffen 2\, 2024
DESCRIPTION:Nivå B. \nInbjudan kommer att läggas upp i Smoothcomp.
URL:https://judo.se/event/trolltraffen-2-2024/
LOCATION:Arena Älvhögsborgs\, Trollhättan\, Storgatan 1\, Trollhättan\, Väst\, 46131\, Sweden
CATEGORIES:Startsida,Tävlingar
ORGANIZER;CN="Trollh%C3%A4ttans Judoklubb":MAILTO:trollhattansjk@gmail.com
END:VEVENT
BEGIN:VEVENT
DTSTART;VALUE=DATE:20241116
DTEND;VALUE=DATE:20241117
DTSTAMP:20260422T003544
CREATED:20240531T123711Z
LAST-MODIFIED:20240531T123711Z
UID:15905-1731715200-1731801599@judo.se
SUMMARY:Staffanstorps Judo Games 2024
DESCRIPTION:Nivå B. \nInbjudan kommer att läggas upp i Smoothcomp.
URL:https://judo.se/event/staffanstorps-judo-games-2024/
LOCATION:Staffanstorps Judoklubb\, Hagalidvägen 4\, Staffanstorp\, 245 45\, Sverige
CATEGORIES:Startsida,Tävlingar
ORGANIZER;CN="Staffanstorps JK":MAILTO:judogames@staffanstorpsjudo.se
END:VEVENT
BEGIN:VEVENT
DTSTART;TZID=Europe/Stockholm:20241116T090000
DTEND;TZID=Europe/Stockholm:20241117T160000
DTSTAMP:20260422T003544
CREATED:20240529T133047Z
LAST-MODIFIED:20240529T133047Z
UID:15882-1731747600-1731859200@judo.se
SUMMARY:Assisterande klubbtränarutbildning\, Lilla Edet
DESCRIPTION:﻿
URL:https://judo.se/event/assisterande-klubbtranarutbildning-lilla-edet/
LOCATION:Lilla Edets JK\, Brodalsvägen 3\, Lilla Edet\, 463 32\, Sverige
CATEGORIES:Startsida,Utbildningar
END:VEVENT
BEGIN:VEVENT
DTSTART;VALUE=DATE:20241117
DTEND;VALUE=DATE:20241118
DTSTAMP:20260422T003544
CREATED:20240531T124146Z
LAST-MODIFIED:20240531T124146Z
UID:15907-1731801600-1731887999@judo.se
SUMMARY:Skåneserien 4 Staffanstorp\, 2024
DESCRIPTION:Mer info och inbjudan kommer läggas upp i SmoothComp.
URL:https://judo.se/event/skaneserien-4-staffanstorp-2024/
LOCATION:Staffanstorps Judoklubb\, Hagalidvägen 4\, Staffanstorp\, 245 45\, Sverige
CATEGORIES:Startsida,Tävlingar
ORGANIZER;CN="Staffanstorps JK":MAILTO:judogames@staffanstorpsjudo.se
END:VEVENT
BEGIN:VEVENT
DTSTART;TZID=Europe/Stockholm:20241118T190000
DTEND;TZID=Europe/Stockholm:20241118T210000
DTSTAMP:20260422T003544
CREATED:20240814T161521Z
LAST-MODIFIED:20240814T161521Z
UID:16364-1731956400-1731963600@judo.se
SUMMARY:Steg 5\, B-domarkurs\, del 4/4 digitalt
DESCRIPTION:﻿
URL:https://judo.se/event/steg-5-b-domarkurs-del-4-4-digitalt/
LOCATION:Digitalt
CATEGORIES:Utbildningar
END:VEVENT
BEGIN:VEVENT
DTSTART;VALUE=DATE:20241123
DTEND;VALUE=DATE:20241125
DTSTAMP:20260422T003544
CREATED:20231103T071640Z
LAST-MODIFIED:20231103T071640Z
UID:14708-1732320000-1732492799@judo.se
SUMMARY:Riksmästerskap för distriktslag + läger 2024
DESCRIPTION:Nivå A. \nInbjudan kommer att publiceras här i Smoothcomp. 
URL:https://judo.se/event/riksmasterskap-for-distriktslag-lager-2024/
LOCATION:Lindesbergs Arena\, Nyborgsgatan 1\, Lindesberg\, 71134\, Sverige
CATEGORIES:Läger,Startsida,Tävlingar
ORGANIZER;CN="Fr%C3%B6vi Judoklubb":MAILTO:info@frovijudo.se
END:VEVENT
BEGIN:VEVENT
DTSTART;TZID=Europe/Stockholm:20241123T083000
DTEND;TZID=Europe/Stockholm:20241124T163000
DTSTAMP:20260422T003544
CREATED:20231207T154500Z
LAST-MODIFIED:20241009T132750Z
UID:14973-1732350600-1732465800@judo.se
SUMMARY:Judo4Balance-instruktörsutbildning\, Skurup
DESCRIPTION:Inbjudan: Judo4balance instruktörsutbildning Skurup 23-24 november 2024
URL:https://judo.se/event/judo4balance-instruktorsutbildning-skurup-2/
LOCATION:Wemmenhögs Budoförening\, Vaktgatan\, Skurup\, 274 34\, Sverige
CATEGORIES:Startsida,Utbildningar
ORGANIZER;CN="Wemmenh%C3%B6gs Budof%C3%B6rening":MAILTO:judo@wemmenhogsbudo.se
END:VEVENT
BEGIN:VEVENT
DTSTART;VALUE=DATE:20241130
DTEND;VALUE=DATE:20241201
DTSTAMP:20260422T003544
CREATED:20240531T103818Z
LAST-MODIFIED:20240531T103818Z
UID:15896-1732924800-1733011199@judo.se
SUMMARY:Södra Judo Open 4\, 2024
DESCRIPTION:Inbjudan kommer i Smoothcomp \nNivå B.
URL:https://judo.se/event/sodra-judo-open-4-2024/
LOCATION:Torvalla Sporthall\, Dalarövägen 66\, Haninge\, 136 45\, Sverige
CATEGORIES:Tävlingar
ORGANIZER;CN="IK S%C3%B6dra Judo":MAILTO:tavlingar@iksodra.com
END:VEVENT
BEGIN:VEVENT
DTSTART;VALUE=DATE:20241130
DTEND;VALUE=DATE:20241201
DTSTAMP:20260422T003544
CREATED:20240715T095549Z
LAST-MODIFIED:20240715T095549Z
UID:16218-1732924800-1733011199@judo.se
SUMMARY:Drakstaden Cup 2 2024
DESCRIPTION:Inbjudan finns i Smoothcomp.  \nNivå: C. \n 
URL:https://judo.se/event/drakstaden-cup-2-2024/
LOCATION:Judo Club Sundsvall\, Björneborgsgatan 25\, Sundsvall\, 854 60
CATEGORIES:Startsida,Tävlingar
ORGANIZER;CN="Judo Sundsvall":MAILTO:info@judosundsvall.com
END:VEVENT
BEGIN:VEVENT
DTSTART;VALUE=DATE:20241130
DTEND;VALUE=DATE:20241201
DTSTAMP:20260422T003544
CREATED:20240715T095930Z
LAST-MODIFIED:20240715T095930Z
UID:16220-1732924800-1733011199@judo.se
SUMMARY:Lilla Trollträffen 4\, 2024
DESCRIPTION:Anmälan kommer i Smoothcomp \nNivå C.
URL:https://judo.se/event/lilla-trolltraffen-4-2024/
LOCATION:Arena Älvhögsborgs\, Trollhättan\, Storgatan 1\, Trollhättan\, Väst\, 46131\, Sweden
CATEGORIES:Tävlingar
ORGANIZER;CN="Trollh%C3%A4ttans Judoklubb":MAILTO:trollhattansjk@gmail.com
END:VEVENT
BEGIN:VEVENT
DTSTART;TZID=Europe/Stockholm:20241130T080000
DTEND;TZID=Europe/Stockholm:20241130T170000
DTSTAMP:20260422T003544
CREATED:20240905T143942Z
LAST-MODIFIED:20240905T143942Z
UID:16449-1732953600-1732986000@judo.se
SUMMARY:Riksgradering\, Stockholm
DESCRIPTION:Inbjudan med mer info: IK Södra Riksgradering 241130
URL:https://judo.se/event/riksgradering-stockholm-7/
LOCATION:IK Södras Dojo\, Skarpnäcks Gårdsväg 10\, Skarpnäck\, 12831\, Sverige
CATEGORIES:Graderingar,Startsida
END:VEVENT
BEGIN:VEVENT
DTSTART;TZID=Europe/Stockholm:20241130T083000
DTEND;TZID=Europe/Stockholm:20241130T163000
DTSTAMP:20260422T003544
CREATED:20241017T123608Z
LAST-MODIFIED:20241017T125043Z
UID:16620-1732955400-1732984200@judo.se
SUMMARY:Domar- och regelkurs\, Helsingborg
DESCRIPTION:Inbjudan Regelkurs Helsingborg nov 2024
URL:https://judo.se/event/domar-och-regelkurs-helsingborg/
LOCATION:Helsingborgs Judoklubb\, Mellersta Stenbocksgatan 10\, Helsingborg\, 254 37
CATEGORIES:Startsida,Utbildningar
ORGANIZER;CN="Helsingborgs Judoklubb":MAILTO:andersson.ohrling@gmail.com
END:VEVENT
END:VCALENDAR