BEGIN:VCALENDAR
VERSION:2.0
PRODID:-//Svenska Judoförbundet - ECPv6.15.20//NONSGML v1.0//EN
CALSCALE:GREGORIAN
METHOD:PUBLISH
X-WR-CALNAME:Svenska Judoförbundet
X-ORIGINAL-URL:https://judo.se
X-WR-CALDESC:Händelser för Svenska Judoförbundet
REFRESH-INTERVAL;VALUE=DURATION:PT1H
X-Robots-Tag:noindex
X-PUBLISHED-TTL:PT1H
BEGIN:VTIMEZONE
TZID:Europe/Stockholm
BEGIN:DAYLIGHT
TZOFFSETFROM:+0100
TZOFFSETTO:+0200
TZNAME:CEST
DTSTART:20230326T010000
END:DAYLIGHT
BEGIN:STANDARD
TZOFFSETFROM:+0200
TZOFFSETTO:+0100
TZNAME:CET
DTSTART:20231029T010000
END:STANDARD
BEGIN:DAYLIGHT
TZOFFSETFROM:+0100
TZOFFSETTO:+0200
TZNAME:CEST
DTSTART:20240331T010000
END:DAYLIGHT
BEGIN:STANDARD
TZOFFSETFROM:+0200
TZOFFSETTO:+0100
TZNAME:CET
DTSTART:20241027T010000
END:STANDARD
BEGIN:DAYLIGHT
TZOFFSETFROM:+0100
TZOFFSETTO:+0200
TZNAME:CEST
DTSTART:20250330T010000
END:DAYLIGHT
BEGIN:STANDARD
TZOFFSETFROM:+0200
TZOFFSETTO:+0100
TZNAME:CET
DTSTART:20251026T010000
END:STANDARD
END:VTIMEZONE
BEGIN:VEVENT
DTSTART;VALUE=DATE:20241005
DTEND;VALUE=DATE:20241006
DTSTAMP:20260421T184103
CREATED:20231221T135138Z
LAST-MODIFIED:20231221T140050Z
UID:15100-1728086400-1728172799@judo.se
SUMMARY:Svendborg Judo Masters 2024 (veteran)
DESCRIPTION:Läs mer och anmäl dig här.
URL:https://judo.se/event/svendborg-judo-masters-2024-veteran/
LOCATION:Svendborg\, Danmark
CATEGORIES:Tävlingar,Veteran
END:VEVENT
BEGIN:VEVENT
DTSTART;VALUE=DATE:20241005
DTEND;VALUE=DATE:20241006
DTSTAMP:20260421T184103
CREATED:20240424T121204Z
LAST-MODIFIED:20240424T121204Z
UID:15713-1728086400-1728172799@judo.se
SUMMARY:Wemmenhögs Judo Open 2024
DESCRIPTION:Mer info och inbjudan i Smoothcomp
URL:https://judo.se/event/wemmenhogs-judo-open-2024/
LOCATION:Skurup Sparbanks Arena\,\, Vaktgatan\, Skurup\, 274 34\, Sverige
CATEGORIES:Startsida,Tävlingar
ORGANIZER;CN="Wemmenh%C3%B6gs Budof%C3%B6rening":MAILTO:judo@wemmenhogsbudo.se
END:VEVENT
BEGIN:VEVENT
DTSTART;VALUE=DATE:20241005
DTEND;VALUE=DATE:20241006
DTSTAMP:20260421T184103
CREATED:20240531T103622Z
LAST-MODIFIED:20240531T103622Z
UID:15894-1728086400-1728172799@judo.se
SUMMARY:Södra Judo Open 3\, 2024
DESCRIPTION:Inbjudan kommer i Smoothcomp \nNivå B.
URL:https://judo.se/event/sodra-judo-open-3-2024/
LOCATION:Torvalla Sporthall\, Dalarövägen 66\, Haninge\, 136 45\, Sverige
CATEGORIES:Tävlingar
ORGANIZER;CN="IK S%C3%B6dra Judo":MAILTO:tavlingar@iksodra.com
END:VEVENT
BEGIN:VEVENT
DTSTART;VALUE=DATE:20241005
DTEND;VALUE=DATE:20241006
DTSTAMP:20260421T184103
CREATED:20240531T110146Z
LAST-MODIFIED:20240531T110146Z
UID:15898-1728086400-1728172799@judo.se
SUMMARY:Gothenburg Judo Open 2024
DESCRIPTION:Inbjudan kommer att publiceras i Smoothcomp. \nNivå B.
URL:https://judo.se/event/gothenburg-judo-open-2024/
LOCATION:Prioritet Serneke Arena\, Krutvägen 2-4\, Göteborg\, 415 28\, Sverige
CATEGORIES:Startsida,Tävlingar
END:VEVENT
BEGIN:VEVENT
DTSTART;VALUE=DATE:20241006
DTEND;VALUE=DATE:20241007
DTSTAMP:20260421T184103
CREATED:20240308T103751Z
LAST-MODIFIED:20240424T120624Z
UID:15527-1728172800-1728259199@judo.se
SUMMARY:Skåneserien Wemmenhög 2024
DESCRIPTION:Mer info och inbjudan ligger i Smoothcomp.
URL:https://judo.se/event/skaneserien-wemmenhog-2024/
LOCATION:Skurup Sparbanks Arena\,\, Vaktgatan\, Skurup\, 274 34\, Sverige
CATEGORIES:Startsida,Tävlingar
ORGANIZER;CN="Wemmenh%C3%B6gs Budof%C3%B6rening":MAILTO:judo@wemmenhogsbudo.se
END:VEVENT
BEGIN:VEVENT
DTSTART;TZID=Europe/Stockholm:20241007T190000
DTEND;TZID=Europe/Stockholm:20241007T210000
DTSTAMP:20260421T184103
CREATED:20240814T160742Z
LAST-MODIFIED:20240814T161224Z
UID:16357-1728327600-1728334800@judo.se
SUMMARY:Steg 5\, B-domarkurs\, del 1/4 digitalt
DESCRIPTION:﻿
URL:https://judo.se/event/16357/
LOCATION:Digitalt
CATEGORIES:Startsida,Utbildningar
END:VEVENT
BEGIN:VEVENT
DTSTART;TZID=Europe/Stockholm:20241008T190000
DTEND;TZID=Europe/Stockholm:20241008T203000
DTSTAMP:20260421T184103
CREATED:20240927T132014Z
LAST-MODIFIED:20240927T132046Z
UID:16542-1728414000-1728419400@judo.se
SUMMARY:Webbinarium Idrott i segregerade områden
DESCRIPTION:Välkommen på ett webbinarium med idrottsforskaren Johan R Norberg för att kompetensutvecklas inom ämnet idrott i segregerade områden. \nAnslut till mötet här\nMötes-ID: 382 984 021 808\nLösenord: oJLgrK
URL:https://judo.se/event/webbinarium-idrott-i-segregerade-omraden/
LOCATION:Digitalt
CATEGORIES:Möten och Konferenser,Startsida
END:VEVENT
BEGIN:VEVENT
DTSTART;TZID=Europe/Stockholm:20241009T190000
DTEND;TZID=Europe/Stockholm:20241009T210000
DTSTAMP:20260421T184103
CREATED:20240808T125412Z
LAST-MODIFIED:20240814T160447Z
UID:16326-1728500400-1728507600@judo.se
SUMMARY:Steg 2 - Regelkurs teori\, del 3/3 digitalt
DESCRIPTION:﻿
URL:https://judo.se/event/regelkurs-teori-steg-2/
CATEGORIES:Startsida,Utbildningar
END:VEVENT
BEGIN:VEVENT
DTSTART;VALUE=DATE:20241012
DTEND;VALUE=DATE:20241013
DTSTAMP:20260421T184103
CREATED:20240531T110855Z
LAST-MODIFIED:20240531T110855Z
UID:15900-1728691200-1728777599@judo.se
SUMMARY:Dalsland Open 2 2024
DESCRIPTION:Nivå C. \nInbjudan ligger i Smoothcomp.
URL:https://judo.se/event/dalsland-open-2-2024/
LOCATION:Rådahallen\, Bergsgatan 28\, Mellerud\, 464 30\, Sverige
CATEGORIES:Startsida,Tävlingar
ORGANIZER;CN="Kroppefj%C3%A4lls IF":MAILTO:info@kroppefjallsif.se
END:VEVENT
BEGIN:VEVENT
DTSTART;TZID=Europe/Stockholm:20241012T090000
DTEND;TZID=Europe/Stockholm:20241013T120000
DTSTAMP:20260421T184103
CREATED:20240910T154334Z
LAST-MODIFIED:20241003T073648Z
UID:16475-1728723600-1728820800@judo.se
SUMMARY:Tränarutbildning A-judo\, Umeå (INSTÄLLD!)
DESCRIPTION:Inbjudan och anmälan: Tränarutbildning A-judo 12-13 okt
URL:https://judo.se/event/tranarutbildning-a-judo-umea/
LOCATION:IKSU Sport\, Sportgränd 7\, Umeå\, Sverige
CATEGORIES:Startsida,Utbildningar
ORGANIZER;CN="IKSU Kampsport - Judo":MAILTO:info@iksukampsport.se
END:VEVENT
BEGIN:VEVENT
DTSTART;TZID=Europe/Stockholm:20241012T090000
DTEND;TZID=Europe/Stockholm:20241013T130000
DTSTAMP:20260421T184103
CREATED:20231207T144214Z
LAST-MODIFIED:20240906T122007Z
UID:14962-1728723600-1728824400@judo.se
SUMMARY:Utbildarträff\, Uppsala
DESCRIPTION:För utbildare inom SJF:s tränarutbildningar.
URL:https://judo.se/event/utbildningskonferens-uppsala-2/
LOCATION:Uppsala
CATEGORIES:Möten och Konferenser,Utbildningar
END:VEVENT
BEGIN:VEVENT
DTSTART;VALUE=DATE:20241019
DTEND;VALUE=DATE:20241021
DTSTAMP:20260421T184103
CREATED:20240424T121530Z
LAST-MODIFIED:20240424T121530Z
UID:15715-1729296000-1729468799@judo.se
SUMMARY:GO Cup 2\, 2024
DESCRIPTION:Nivå C + läger söndag \nAnmälan via Smoothcomp. \n 
URL:https://judo.se/event/go-cup-2-2024/
LOCATION:Stenungsund arena\, Nösnäsvägen 2\, Stenungsund\, 444 47\, Sverige
CATEGORIES:Läger,Startsida,Tävlingar
ORGANIZER;CN="Stenungsunds JK":MAILTO:tavling@stenungsundsjudoklubb.com
END:VEVENT
BEGIN:VEVENT
DTSTART;TZID=Europe/Stockholm:20241021T190000
DTEND;TZID=Europe/Stockholm:20241021T210000
DTSTAMP:20260421T184103
CREATED:20240814T161330Z
LAST-MODIFIED:20240814T161337Z
UID:16362-1729537200-1729544400@judo.se
SUMMARY:Steg 5\, B-domarkurs\, del 2/4 digitalt
DESCRIPTION:﻿
URL:https://judo.se/event/steg-5-b-domarkurs-del-1-4-digitalt/
LOCATION:Digitalt
CATEGORIES:Utbildningar
END:VEVENT
BEGIN:VEVENT
DTSTART;TZID=Europe/Stockholm:20241026T090000
DTEND;TZID=Europe/Stockholm:20241027T160000
DTSTAMP:20260421T184103
CREATED:20231207T145408Z
LAST-MODIFIED:20240906T130138Z
UID:14965-1729933200-1730044800@judo.se
SUMMARY:Assisterande klubbtränarutbildning\, Skurup
DESCRIPTION:Mer info kommer senare! \nAnmälan: https://educationwebregistration.idrottonline.se/home/index/1950366 
URL:https://judo.se/event/assisterande-klubbtranarutbildning-skurup-7/
LOCATION:Wemmenhögs Budoförening\, Vaktgatan\, Skurup\, 274 34\, Sverige
CATEGORIES:Startsida,Utbildningar
ORGANIZER;CN="Wemmenh%C3%B6gs Budof%C3%B6rening":MAILTO:judo@wemmenhogsbudo.se
END:VEVENT
BEGIN:VEVENT
DTSTART;TZID=Europe/Stockholm:20241026T090000
DTEND;TZID=Europe/Stockholm:20241027T160000
DTSTAMP:20260421T184103
CREATED:20231207T145543Z
LAST-MODIFIED:20241017T120821Z
UID:14967-1729933200-1730044800@judo.se
SUMMARY:Step by Step - steg 4\, Skurup
DESCRIPTION:Mer info kommer senare! \nAnmälan: https://educationwebregistration.idrottonline.se/home/index/1950362 
URL:https://judo.se/event/step-by-step-steg-4-skurup/
LOCATION:Wemmenhögs Budoförening\, Vaktgatan\, Skurup\, 274 34\, Sverige
CATEGORIES:Startsida,Utbildningar
ORGANIZER;CN="Wemmenh%C3%B6gs Budof%C3%B6rening":MAILTO:judo@wemmenhogsbudo.se
END:VEVENT
BEGIN:VEVENT
DTSTART;TZID=Europe/Stockholm:20241026T090000
DTEND;TZID=Europe/Stockholm:20241027T160000
DTSTAMP:20260421T184103
CREATED:20231207T145721Z
LAST-MODIFIED:20241011T123635Z
UID:14969-1729933200-1730044800@judo.se
SUMMARY:Assisterande klubbtränarutbildning\, Umeå (INSTÄLLD)
DESCRIPTION:
URL:https://judo.se/event/assisterande-klubbtranarutbildning-umea-6/
LOCATION:IKSU Sport\, Sportgränd 7\, Umeå\, Sverige
CATEGORIES:Utbildningar
ORGANIZER;CN="IKSU Kampsport - Judo":MAILTO:info@iksukampsport.se
END:VEVENT
BEGIN:VEVENT
DTSTART;TZID=Europe/Stockholm:20241029T180000
DTEND;TZID=Europe/Stockholm:20241029T200000
DTSTAMP:20260421T184103
CREATED:20241003T091500Z
LAST-MODIFIED:20241003T091500Z
UID:16558-1730224800-1730232000@judo.se
SUMMARY:Sjukvårdsutbildning nivå 3\, digitalt
DESCRIPTION:Anmälan och inbjudan: Inbjudan Sjukvårdsutbildning Judo Nivå III 2024 \nKursen består av 3 tillfällen:\nDel 1: Digital träff\, 29 oktober \nDel 2: Fysisk träff\,  Lag-SM i Kungsbacka\, 14 december \nDel 3: Examination\, våren 2025
URL:https://judo.se/event/sjukvardsutbildning-niva-3-digitalt/
LOCATION:Digitalt
CATEGORIES:Startsida,Utbildningar
END:VEVENT
END:VCALENDAR