BEGIN:VCALENDAR
VERSION:2.0
PRODID:-//Svenska Judoförbundet - ECPv6.15.20//NONSGML v1.0//EN
CALSCALE:GREGORIAN
METHOD:PUBLISH
X-ORIGINAL-URL:https://judo.se
X-WR-CALDESC:Händelser för Svenska Judoförbundet
REFRESH-INTERVAL;VALUE=DURATION:PT1H
X-Robots-Tag:noindex
X-PUBLISHED-TTL:PT1H
BEGIN:VTIMEZONE
TZID:Europe/Stockholm
BEGIN:DAYLIGHT
TZOFFSETFROM:+0100
TZOFFSETTO:+0200
TZNAME:CEST
DTSTART:20220327T010000
END:DAYLIGHT
BEGIN:STANDARD
TZOFFSETFROM:+0200
TZOFFSETTO:+0100
TZNAME:CET
DTSTART:20221030T010000
END:STANDARD
BEGIN:DAYLIGHT
TZOFFSETFROM:+0100
TZOFFSETTO:+0200
TZNAME:CEST
DTSTART:20230326T010000
END:DAYLIGHT
BEGIN:STANDARD
TZOFFSETFROM:+0200
TZOFFSETTO:+0100
TZNAME:CET
DTSTART:20231029T010000
END:STANDARD
BEGIN:DAYLIGHT
TZOFFSETFROM:+0100
TZOFFSETTO:+0200
TZNAME:CEST
DTSTART:20240331T010000
END:DAYLIGHT
BEGIN:STANDARD
TZOFFSETFROM:+0200
TZOFFSETTO:+0100
TZNAME:CET
DTSTART:20241027T010000
END:STANDARD
END:VTIMEZONE
BEGIN:VEVENT
DTSTART;VALUE=DATE:20231030
DTEND;VALUE=DATE:20231103
DTSTAMP:20260422T052524
CREATED:20230105T124849Z
LAST-MODIFIED:20230929T111610Z
UID:12887-1698624000-1698969599@judo.se
SUMMARY:Utvecklingsläger U15-senior\, Malmö
DESCRIPTION:﻿
URL:https://judo.se/event/utvecklingslager-malmo-2023/
LOCATION:Nationella elitcentret i Malmö\, Eric Perssons väg 8A\, Malmö\, 21762\, Sverige
CATEGORIES:Läger,Startsida
END:VEVENT
BEGIN:VEVENT
DTSTART;TZID=Europe/Stockholm:20231103T170000
DTEND;TZID=Europe/Stockholm:20231105T120000
DTSTAMP:20260422T052524
CREATED:20230929T135834Z
LAST-MODIFIED:20230929T135834Z
UID:14557-1699030800-1699185600@judo.se
SUMMARY:Höstjudoläger (parajudo)\, Göteborg
DESCRIPTION:
URL:https://judo.se/event/hostjudolager-parajudo-goteborg/
LOCATION:Frölunda Judoklubb\, Klubbvägen 8\, Västra Frölunda\, 421 47\, Sverige
CATEGORIES:Läger,Special Needs/Parajudo,Startsida
END:VEVENT
BEGIN:VEVENT
DTSTART;VALUE=DATE:20231104
DTEND;VALUE=DATE:20231105
DTSTAMP:20260422T052524
CREATED:20230728T080400Z
LAST-MODIFIED:20230728T080400Z
UID:14268-1699056000-1699142399@judo.se
SUMMARY:Södra Judo Open 4
DESCRIPTION:Inbjudan publicerad i Smoothcomp \nNivå B.
URL:https://judo.se/event/sodra-judo-open-4-4/
LOCATION:Torvalla Sporthall\, Dalarövägen 66\, Haninge\, 136 45\, Sverige
CATEGORIES:Tävlingar
ORGANIZER;CN="IK S%C3%B6dra Judo":MAILTO:tavlingar@iksodra.com
END:VEVENT
BEGIN:VEVENT
DTSTART;TZID=Europe/Stockholm:20231105T100000
DTEND;TZID=Europe/Stockholm:20231105T170000
DTSTAMP:20260422T052524
CREATED:20230824T095726Z
LAST-MODIFIED:20230824T095726Z
UID:14379-1699178400-1699203600@judo.se
SUMMARY:Zongradering\, Skurup
DESCRIPTION:﻿
URL:https://judo.se/event/zongradering-skurup-3/
LOCATION:Wemmenhögs Budoförening\, Vaktgatan\, Skurup\, 274 34\, Sverige
CATEGORIES:Graderingar,Startsida
ORGANIZER;CN="Wemmenh%C3%B6gs Budof%C3%B6rening":MAILTO:judo@wemmenhogsbudo.se
END:VEVENT
BEGIN:VEVENT
DTSTART;VALUE=DATE:20231111
DTEND;VALUE=DATE:20231112
DTSTAMP:20260422T052524
CREATED:20230319T120336Z
LAST-MODIFIED:20230319T120336Z
UID:13376-1699660800-1699747199@judo.se
SUMMARY:Staffanstorps Judo Games 2023
DESCRIPTION:Nivå B. \nInbjudan kommer att läggas upp i Smoothcomp.
URL:https://judo.se/event/staffanstorps-judo-games-2023/
LOCATION:Staffanstorps Judoklubb\, Hagalidvägen 4\, Staffanstorp\, 245 45\, Sverige
CATEGORIES:Startsida,Tävlingar
ORGANIZER;CN="Staffanstorps JK":MAILTO:judogames@staffanstorpsjudo.se
END:VEVENT
BEGIN:VEVENT
DTSTART;VALUE=DATE:20231111
DTEND;VALUE=DATE:20231112
DTSTAMP:20260422T052524
CREATED:20231009T071449Z
LAST-MODIFIED:20231009T071449Z
UID:14583-1699660800-1699747199@judo.se
SUMMARY:Drakstaden Cup
DESCRIPTION:Inbjudan finns i Smoothcomp.  \nNivå: C. \n 
URL:https://judo.se/event/drakstaden-cup/
LOCATION:Judo Club Sundsvall\, Björneborgsgatan 25\, Sundsvall\, 854 60
CATEGORIES:Startsida,Tävlingar
ORGANIZER;CN="Judo Sundsvall":MAILTO:info@judosundsvall.com
END:VEVENT
BEGIN:VEVENT
DTSTART;VALUE=DATE:20231111
DTEND;VALUE=DATE:20231113
DTSTAMP:20260422T052524
CREATED:20230105T130012Z
LAST-MODIFIED:20230105T130012Z
UID:12889-1699660800-1699833599@judo.se
SUMMARY:Utvecklingstävling + läger\, Staffanstorp 2023
DESCRIPTION:U13-U21.\nMer information kommer.
URL:https://judo.se/event/utvecklingstavling-lager-staffanstorp-2023/
CATEGORIES:Läger,Startsida,Tävlingar
END:VEVENT
BEGIN:VEVENT
DTSTART;TZID=Europe/Stockholm:20231111T090000
DTEND;TZID=Europe/Stockholm:20231112T160000
DTSTAMP:20260422T052524
CREATED:20230911T143740Z
LAST-MODIFIED:20230919T134907Z
UID:14494-1699693200-1699804800@judo.se
SUMMARY:Step by Step - steg 2\, Umeå
DESCRIPTION:﻿
URL:https://judo.se/event/step-by-step-steg-2-umea/
LOCATION:IKSU Sport\, Sportgränd 7\, Umeå\, Sverige
CATEGORIES:Startsida,Utbildningar
ORGANIZER;CN="IKSU Kampsport - Judo":MAILTO:info@iksukampsport.se
END:VEVENT
BEGIN:VEVENT
DTSTART;VALUE=DATE:20231112
DTEND;VALUE=DATE:20231113
DTSTAMP:20260422T052524
CREATED:20230319T120655Z
LAST-MODIFIED:20230319T120655Z
UID:13378-1699747200-1699833599@judo.se
SUMMARY:Skåneserien 4 2023
DESCRIPTION:  \nMer info och inbjudan kommer läggas upp i SmoothComp.
URL:https://judo.se/event/skaneserien-4-2023/
LOCATION:Staffanstorps Judoklubb\, Hagalidvägen 4\, Staffanstorp\, 245 45\, Sverige
CATEGORIES:Startsida,Tävlingar
ORGANIZER;CN="Staffanstorps JK":MAILTO:judogames@staffanstorpsjudo.se
END:VEVENT
BEGIN:VEVENT
DTSTART;VALUE=DATE:20231112
DTEND;VALUE=DATE:20231113
DTSTAMP:20260422T052524
CREATED:20230628T094810Z
LAST-MODIFIED:20230914T093843Z
UID:14180-1699747200-1699833599@judo.se
SUMMARY:Tävlingsledarutbildning\, Staffanstorp
DESCRIPTION:﻿
URL:https://judo.se/event/tavlingsledarutbildning-staffanstorp/
LOCATION:Staffanstorp\, Staffanstorp\, Sverige
CATEGORIES:Startsida,Utbildningar
ORGANIZER;CN="Arbetsgruppen T%C3%A4vling":MAILTO:agt@judo.se
END:VEVENT
BEGIN:VEVENT
DTSTART;TZID=Europe/Stockholm:20231118T080000
DTEND;TZID=Europe/Stockholm:20231119T170000
DTSTAMP:20260422T052524
CREATED:20230424T161619Z
LAST-MODIFIED:20230424T161619Z
UID:13694-1700294400-1700413200@judo.se
SUMMARY:Trollträffen 2\, 2023
DESCRIPTION:Nivå B. \nInbjudan kommer att läggas upp i Smoothcomp.
URL:https://judo.se/event/trolltraffen-2-2023/
LOCATION:Arena Älvhögsborgs\, Trollhättan\, Storgatan 1\, Trollhättan\, Väst\, 46131\, Sweden
CATEGORIES:Startsida,Tävlingar
ORGANIZER;CN="Trollh%C3%A4ttans Judoklubb":MAILTO:trollhattansjk@gmail.com
END:VEVENT
BEGIN:VEVENT
DTSTART;TZID=Europe/Stockholm:20231118T090000
DTEND;TZID=Europe/Stockholm:20231119T160000
DTSTAMP:20260422T052524
CREATED:20221110T125132Z
LAST-MODIFIED:20231012T093112Z
UID:12552-1700298000-1700409600@judo.se
SUMMARY:Assisterande klubbtränarutbildning\, Borlänge
DESCRIPTION:﻿
URL:https://judo.se/event/assisterande-klubbtranarutbildning-borlange-2/
LOCATION:Borlänge Judo Club\, Teknikergatan 1\, Borlänge\, 78170\, Sverige
CATEGORIES:Startsida,Utbildningar
ORGANIZER;CN="Borl%C3%A4nge Judo Club":MAILTO:info@borlangejudo.se
END:VEVENT
BEGIN:VEVENT
DTSTART;VALUE=DATE:20231125
DTEND;VALUE=DATE:20231127
DTSTAMP:20260422T052524
CREATED:20221125T135030Z
LAST-MODIFIED:20230105T154346Z
UID:12644-1700870400-1701043199@judo.se
SUMMARY:Riksmästerskap för distriktslag + läger 2023
DESCRIPTION:Nivå A. \nInbjudan kommer att publiceras här i Smoothcomp.  \nTävling 25/11\nLäger 26/11
URL:https://judo.se/event/riksmasterskap-for-distriktslag-2022/
LOCATION:Lindesbergs Arena\, Nyborgsgatan 1\, Lindesberg\, 71134\, Sverige
CATEGORIES:Läger,Startsida,Tävlingar
ORGANIZER;CN="Fr%C3%B6vi Judoklubb":MAILTO:info@frovijudo.se
END:VEVENT
BEGIN:VEVENT
DTSTART;TZID=Europe/Stockholm:20231125T080000
DTEND;TZID=Europe/Stockholm:20231126T150000
DTSTAMP:20260422T052524
CREATED:20230810T095248Z
LAST-MODIFIED:20230928T122059Z
UID:14307-1700899200-1701010800@judo.se
SUMMARY:Judo4Balance instruktörsutbildning\, Kristianstad
DESCRIPTION:﻿
URL:https://judo.se/event/judo4balance-instruktorsutbildning-kristianstad/
LOCATION:Kristianstads Judoklubb\, Björkhemsvägen 7a\, Kristianstad\, 29154\, Sverige
CATEGORIES:Startsida,Utbildningar
ORGANIZER;CN="Kristianstads Judoklubb":MAILTO:info@kristianstadjudo.se
END:VEVENT
BEGIN:VEVENT
DTSTART;TZID=Europe/Stockholm:20231125T100000
DTEND;TZID=Europe/Stockholm:20231125T180000
DTSTAMP:20260422T052524
CREATED:20231102T133145Z
LAST-MODIFIED:20231102T133145Z
UID:14679-1700906400-1700935200@judo.se
SUMMARY:Regelkurs\, Norrköping
DESCRIPTION:﻿
URL:https://judo.se/event/regelkurs-norrkoping/
LOCATION:Norrköpings judoklubb\, Kabelvägen 17\, Norrköping\, 602 10
CATEGORIES:Startsida,Utbildningar
END:VEVENT
BEGIN:VEVENT
DTSTART;VALUE=DATE:20231130
DTEND;VALUE=DATE:20231201
DTSTAMP:20260422T052524
CREATED:20241107T112740Z
LAST-MODIFIED:20241107T112740Z
UID:16703-1701302400-1701388799@judo.se
SUMMARY:POKALJAKTEN & NEWAZA OPEN 4
DESCRIPTION:Nivå C. \nAnmälan via Smoothcomp. \n 
URL:https://judo.se/event/pokaljakten-newaza-open-4/
LOCATION:Norrköpings judoklubb\, Kabelvägen 17\, Norrköping\, 602 10
CATEGORIES:Startsida,Tävlingar
END:VEVENT
END:VCALENDAR