BEGIN:VCALENDAR
VERSION:2.0
PRODID:-//Svenska Judoförbundet - ECPv6.15.20//NONSGML v1.0//EN
CALSCALE:GREGORIAN
METHOD:PUBLISH
X-ORIGINAL-URL:https://judo.se
X-WR-CALDESC:Händelser för Svenska Judoförbundet
REFRESH-INTERVAL;VALUE=DURATION:PT1H
X-Robots-Tag:noindex
X-PUBLISHED-TTL:PT1H
BEGIN:VTIMEZONE
TZID:Europe/Stockholm
BEGIN:DAYLIGHT
TZOFFSETFROM:+0100
TZOFFSETTO:+0200
TZNAME:CEST
DTSTART:20230326T010000
END:DAYLIGHT
BEGIN:STANDARD
TZOFFSETFROM:+0200
TZOFFSETTO:+0100
TZNAME:CET
DTSTART:20231029T010000
END:STANDARD
BEGIN:DAYLIGHT
TZOFFSETFROM:+0100
TZOFFSETTO:+0200
TZNAME:CEST
DTSTART:20240331T010000
END:DAYLIGHT
BEGIN:STANDARD
TZOFFSETFROM:+0200
TZOFFSETTO:+0100
TZNAME:CET
DTSTART:20241027T010000
END:STANDARD
BEGIN:DAYLIGHT
TZOFFSETFROM:+0100
TZOFFSETTO:+0200
TZNAME:CEST
DTSTART:20250330T010000
END:DAYLIGHT
BEGIN:STANDARD
TZOFFSETFROM:+0200
TZOFFSETTO:+0100
TZNAME:CET
DTSTART:20251026T010000
END:STANDARD
BEGIN:DAYLIGHT
TZOFFSETFROM:+0100
TZOFFSETTO:+0200
TZNAME:CEST
DTSTART:20260329T010000
END:DAYLIGHT
BEGIN:STANDARD
TZOFFSETFROM:+0200
TZOFFSETTO:+0100
TZNAME:CET
DTSTART:20261025T010000
END:STANDARD
BEGIN:DAYLIGHT
TZOFFSETFROM:+0100
TZOFFSETTO:+0200
TZNAME:CEST
DTSTART:20270328T010000
END:DAYLIGHT
BEGIN:STANDARD
TZOFFSETFROM:+0200
TZOFFSETTO:+0100
TZNAME:CET
DTSTART:20271031T010000
END:STANDARD
END:VTIMEZONE
BEGIN:VEVENT
DTSTART;VALUE=DATE:20240406
DTEND;VALUE=DATE:20240407
DTSTAMP:20260422T022332
CREATED:20240110T102717Z
LAST-MODIFIED:20240110T102717Z
UID:15168-1712361600-1712447999@judo.se
SUMMARY:Sörmlandsträffen och MSWOP 2024
DESCRIPTION:Tävling U15 till Veteran \nInbjudan finns på Smoothcomp \nÄven läger på söndagen 7/4 \n 
URL:https://judo.se/event/sormlandstraffen-och-mswop-2024/
LOCATION:Medley Ramdalen Sportcenter\, Torpsvägen 1C\, Oxelösund\, 613 35\, Sverige
CATEGORIES:Tävlingar
ORGANIZER;CN="Oxel%C3%B6sunds Judoklubb":MAILTO:info@ojk.nu
END:VEVENT
BEGIN:VEVENT
DTSTART;TZID=Europe/Stockholm:20240406T090000
DTEND;TZID=Europe/Stockholm:20240407T160000
DTSTAMP:20260422T022332
CREATED:20231207T111320Z
LAST-MODIFIED:20240304T143816Z
UID:14937-1712394000-1712505600@judo.se
SUMMARY:Klubbtränarutbildning\, Umeå
DESCRIPTION:﻿
URL:https://judo.se/event/klubbtranarutbildning-umea-2/
LOCATION:IKSU Sport\, Sportgränd 7\, Umeå\, Sverige
CATEGORIES:Startsida,Utbildningar
ORGANIZER;CN="IKSU Kampsport - Judo":MAILTO:info@iksukampsport.se
END:VEVENT
BEGIN:VEVENT
DTSTART;VALUE=DATE:20240413
DTEND;VALUE=DATE:20240414
DTSTAMP:20260422T022332
CREATED:20240110T095455Z
LAST-MODIFIED:20240110T095455Z
UID:15158-1712966400-1713052799@judo.se
SUMMARY:Södra Judo Open 2 2024
DESCRIPTION:Inbjudan publicerad i Smoothcomp \nNivå B.
URL:https://judo.se/event/sodra-judo-open-2-2024/
LOCATION:Torvalla Sporthall\, Dalarövägen 66\, Haninge\, 136 45\, Sverige
CATEGORIES:Tävlingar
ORGANIZER;CN="IK S%C3%B6dra Judo":MAILTO:tavlingar@iksodra.com
END:VEVENT
BEGIN:VEVENT
DTSTART;VALUE=DATE:20240413
DTEND;VALUE=DATE:20240414
DTSTAMP:20260422T022332
CREATED:20240221T081715Z
LAST-MODIFIED:20240221T081715Z
UID:14276-1712966400-1713052799@judo.se
SUMMARY:Lilla Trollträffen 2\, 2024
DESCRIPTION:Anmälan görs i Smoothcomp \nNivå C.
URL:https://judo.se/event/lilla-trolltraffen-2-2024/
LOCATION:Arena Älvhögsborgs\, Trollhättan\, Storgatan 1\, Trollhättan\, Väst\, 46131\, Sweden
CATEGORIES:Tävlingar
ORGANIZER;CN="Trollh%C3%A4ttans Judoklubb":MAILTO:trollhattansjk@gmail.com
END:VEVENT
BEGIN:VEVENT
DTSTART;VALUE=DATE:20240413
DTEND;VALUE=DATE:20240414
DTSTAMP:20260422T022332
CREATED:20240221T083409Z
LAST-MODIFIED:20240221T083409Z
UID:15427-1712966400-1713052799@judo.se
SUMMARY:Drakstaden Cup 2024
DESCRIPTION:Inbjudan finns i Smoothcomp.  \nNivå: C. \n 
URL:https://judo.se/event/drakstaden-cup-2024/
LOCATION:Judo Club Sundsvall\, Björneborgsgatan 25\, Sundsvall\, 854 60
CATEGORIES:Startsida,Tävlingar
ORGANIZER;CN="Judo Sundsvall":MAILTO:info@judosundsvall.com
END:VEVENT
BEGIN:VEVENT
DTSTART;TZID=Europe/Stockholm:20240413T090000
DTEND;TZID=Europe/Stockholm:20240414T160000
DTSTAMP:20260422T022332
CREATED:20231207T130639Z
LAST-MODIFIED:20240308T150127Z
UID:14943-1712998800-1713110400@judo.se
SUMMARY:Klubbtränarutbildning\, Skurup
DESCRIPTION:Anmälan: https://educationwebregistration.idrottonline.se/home/index/1891755 
URL:https://judo.se/event/klubbtranarutbildning-skurup-2/
LOCATION:Wemmenhögs Budoförening\, Vaktgatan\, Skurup\, 274 34\, Sverige
CATEGORIES:Startsida,Utbildningar
ORGANIZER;CN="Wemmenh%C3%B6gs Budof%C3%B6rening":MAILTO:judo@wemmenhogsbudo.se
END:VEVENT
BEGIN:VEVENT
DTSTART;TZID=Europe/Stockholm:20240413T090000
DTEND;TZID=Europe/Stockholm:20240414T160000
DTSTAMP:20260422T022332
CREATED:20231207T130806Z
LAST-MODIFIED:20240308T150545Z
UID:14946-1712998800-1713110400@judo.se
SUMMARY:Assisterande klubbtränarutbildning\, Skurup
DESCRIPTION:Anmälan: https://educationwebregistration.idrottonline.se/home/index/1891760
URL:https://judo.se/event/assisterande-klubbtranarutbildning-skurup-6/
LOCATION:Wemmenhögs Budoförening\, Vaktgatan\, Skurup\, 274 34\, Sverige
CATEGORIES:Startsida,Utbildningar
ORGANIZER;CN="Wemmenh%C3%B6gs Budof%C3%B6rening":MAILTO:judo@wemmenhogsbudo.se
END:VEVENT
BEGIN:VEVENT
DTSTART;TZID=Europe/Stockholm:20240413T090000
DTEND;TZID=Europe/Stockholm:20240414T160000
DTSTAMP:20260422T022332
CREATED:20231207T131601Z
LAST-MODIFIED:20240308T152857Z
UID:14948-1712998800-1713110400@judo.se
SUMMARY:Assisterande klubbtränarutbildning\, Borlänge
DESCRIPTION:Anmälan: https://educationwebregistration.idrottonline.se/home/index/1891766
URL:https://judo.se/event/assisterande-klubbtranarutbildning-borlange-3/
LOCATION:Borlänge Judo Club\, Teknikergatan 1\, Borlänge\, 78170\, Sverige
CATEGORIES:Startsida,Utbildningar
ORGANIZER;CN="Borl%C3%A4nge Judo Club":MAILTO:info@borlangejudo.se
END:VEVENT
BEGIN:VEVENT
DTSTART;VALUE=DATE:20240420
DTEND;VALUE=DATE:20240421
DTSTAMP:20260422T022332
CREATED:20231103T080842Z
LAST-MODIFIED:20231103T080842Z
UID:14719-1713571200-1713657599@judo.se
SUMMARY:Knislinge Judo Open 2024
DESCRIPTION:Tävling för alla kategorier från 4 kyu. \nAnmälan i Smoothcomp.
URL:https://judo.se/event/knislinge-judo-open-2024/
LOCATION:Knislinge Judoklubb
CATEGORIES:Tävlingar
END:VEVENT
BEGIN:VEVENT
DTSTART;VALUE=DATE:20240420
DTEND;VALUE=DATE:20240421
DTSTAMP:20260422T022332
CREATED:20231103T092930Z
LAST-MODIFIED:20231103T092930Z
UID:14726-1713571200-1713657599@judo.se
SUMMARY:Uppsala Judo Cup 2024
DESCRIPTION:Nivå C. \nInbjudan kommer i Smoothcomp.
URL:https://judo.se/event/uppsala-judo-cup-2024/
LOCATION:Fyrishov\, Tuna backar\, Uppsala\, 75217
CATEGORIES:Startsida,Tävlingar
END:VEVENT
BEGIN:VEVENT
DTSTART;VALUE=DATE:20240420
DTEND;VALUE=DATE:20240421
DTSTAMP:20260422T022332
CREATED:20240110T101848Z
LAST-MODIFIED:20240121T133330Z
UID:15162-1713571200-1713657599@judo.se
SUMMARY:Judits pokal 2\, 2024
DESCRIPTION:Länk till anmälan i Smoothcomp.
URL:https://judo.se/event/judits-pokal-2-2024/
LOCATION:Göteborgs Judoklubb\, Andra långgatan 48\, Göteborg\, Sverige
CATEGORIES:Startsida,Tävlingar
ORGANIZER;CN="G%C3%B6teborgs Judoklubb":MAILTO:info@gjk.se
END:VEVENT
BEGIN:VEVENT
DTSTART;VALUE=DATE:20240420
DTEND;VALUE=DATE:20240421
DTSTAMP:20260422T022332
CREATED:20240315T110748Z
LAST-MODIFIED:20240315T110748Z
UID:15579-1713571200-1713657599@judo.se
SUMMARY:Västgötaserien 2 2024 Lidköping
DESCRIPTION:En nybörjartävling upp till orange bälte där man samlar poäng under hela årets tävlingar. \nInbjudan i Smoothcomp
URL:https://judo.se/event/vastgotaserien-2-2024-lidkoping/
LOCATION:Idrottenshus\, Lidköping\, Hallgatan 1\, Lidköping\, Sverige
CATEGORIES:Tävlingar
END:VEVENT
BEGIN:VEVENT
DTSTART;TZID=Europe/Stockholm:20240420T090000
DTEND;TZID=Europe/Stockholm:20240421T160000
DTSTAMP:20260422T022332
CREATED:20240215T102922Z
LAST-MODIFIED:20240418T073131Z
UID:15380-1713603600-1713715200@judo.se
SUMMARY:Step by Step - steg 1\, Frölunda (INSTÄLLD)
DESCRIPTION:Inbjudan & anmälan: https://drive.google.com/file/d/1munCkvTXFvy45EfUkQiPobSmT_pdGZPH/view
URL:https://judo.se/event/step-by-step-steg-1-frolunda/
LOCATION:Frölunda Judoklubb\, Klubbvägen 8\, Västra Frölunda\, 421 47\, Sverige
CATEGORIES:Utbildningar
ORGANIZER;CN="Fr%C3%B6lunda Judoklubb":MAILTO:fjk@frolundajudo.se
END:VEVENT
BEGIN:VEVENT
DTSTART;VALUE=DATE:20240421
DTEND;VALUE=DATE:20240422
DTSTAMP:20260422T022332
CREATED:20231103T081351Z
LAST-MODIFIED:20231103T081351Z
UID:14721-1713657600-1713743999@judo.se
SUMMARY:Skåneserien Knislinge\, 2024
DESCRIPTION:Nivå C. \nMer info och inbjudan finns i SmoothComp.
URL:https://judo.se/event/skaneserien-knislinge-2024/
LOCATION:Snapphanehallen\, Sigfrids väg 26\, Knislinge\, 289 31
CATEGORIES:Startsida,Tävlingar
END:VEVENT
BEGIN:VEVENT
DTSTART;TZID=Europe/Stockholm:20240421T090000
DTEND;TZID=Europe/Stockholm:20240421T160000
DTSTAMP:20260422T022332
CREATED:20240226T160353Z
LAST-MODIFIED:20240228T102424Z
UID:15444-1713690000-1713715200@judo.se
SUMMARY:Tävlingsledarutbildning\, Kroppefjäll
DESCRIPTION:Inbjudan & anmälan: https://drive.google.com/file/d/1VH_jeoqiLFa6kccpY9-j3pvfeIg981xx/view
URL:https://judo.se/event/tavlingsledarutbildning-kroppefjall/
LOCATION:Kroppefjälls Bed & Breakfast\, Kroppefjällsvägen 2\, Dals Rostock\, 46450
CATEGORIES:Startsida,Utbildningar
ORGANIZER;CN="Kroppefj%C3%A4lls IF":MAILTO:info@kroppefjallsif.se
END:VEVENT
BEGIN:VEVENT
DTSTART;VALUE=DATE:20240427
DTEND;VALUE=DATE:20240428
DTSTAMP:20260422T022332
CREATED:20240110T090607Z
LAST-MODIFIED:20240110T090607Z
UID:15154-1714176000-1714262399@judo.se
SUMMARY:Hajime Cup 2024
DESCRIPTION:Tävling för U9 till U15 \nNivå C. \nInbjudan till tävlingen finns i Smoothcomp.
URL:https://judo.se/event/hajime-cup-2024/
LOCATION:Varbergs Idrottshall\, Danska vägen 5\, Varberg\, 432 51\, Sverige
CATEGORIES:Startsida,Tävlingar
ORGANIZER;CN="Varbergs Judoklubb":MAILTO:info@vjk.nu
END:VEVENT
BEGIN:VEVENT
DTSTART;TZID=Europe/Stockholm:20240427T083000
DTEND;TZID=Europe/Stockholm:20240428T150000
DTSTAMP:20260422T022332
CREATED:20231207T132011Z
LAST-MODIFIED:20240410T074320Z
UID:14952-1714206600-1714316400@judo.se
SUMMARY:Judo4Balance-instruktörsutbildning\, Borlänge
DESCRIPTION:﻿
URL:https://judo.se/event/judo4balance-instruktorsutbildning-borlange/
LOCATION:Borlänge Judo Club\, Teknikergatan 1\, Borlänge\, 78170\, Sverige
CATEGORIES:Startsida,Utbildningar
END:VEVENT
BEGIN:VEVENT
DTSTART;TZID=Europe/Stockholm:20240427T160000
DTEND;TZID=Europe/Stockholm:20240427T180000
DTSTAMP:20260422T022332
CREATED:20240415T135831Z
LAST-MODIFIED:20240415T144020Z
UID:15670-1714233600-1714240800@judo.se
SUMMARY:Öppen veteranträning\, Stockholm 
DESCRIPTION:Välkommen till öppen veteranträning i Stockholm med inriktning på Ne-waza. \nTräningen kommer innehålla både teknik och randori. \n\n\nAlla är välkomna oavsett kunskapsnivå!Försök också gärna locka med er någon kamrat som kanske kommit ifrån judon. Detta kanske kan bli en nystart? Kul på mattan och härligt att träffa gamla vänner med chans att efteråt kunna gå ut och äta en bit mat och umgås. \nLördagen den 27 april\, kl. 16.00 – 18.00\nPlats: Spif Judo\, Tellusborgsvägen 22. (Innebandycentret)\nIngen anmälan behvövs.\nTräningen är kostnadsfri.\nTränare: Rikard Almlöf & Robert Joo. \nVarmt välkomna!
URL:https://judo.se/event/oppen-veterantraning-stockholm/
LOCATION:SPIF Judo\, Tellusborgsvägen 22\, Hägersten\, 126 32\, Sverige
CATEGORIES:Startsida,Veteran
END:VEVENT
BEGIN:VEVENT
DTSTART;TZID=Europe/Stockholm:20240504T080000
DTEND;TZID=Europe/Stockholm:20240505T170000
DTSTAMP:20260422T022332
CREATED:20231103T091806Z
LAST-MODIFIED:20231103T091806Z
UID:14724-1714809600-1714928400@judo.se
SUMMARY:Trollträffen 1\, 2024
DESCRIPTION:Nivå B. \nInbjudan kommer att läggas upp i Smoothcomp.
URL:https://judo.se/event/trolltraffen-1-2024/
LOCATION:Arena Älvhögsborgs\, Trollhättan\, Storgatan 1\, Trollhättan\, Väst\, 46131\, Sweden
CATEGORIES:Startsida,Tävlingar
ORGANIZER;CN="Trollh%C3%A4ttans Judoklubb":MAILTO:trollhattansjk@gmail.com
END:VEVENT
BEGIN:VEVENT
DTSTART;TZID=Europe/Stockholm:20240509T080000
DTEND;TZID=Europe/Stockholm:20240512T170000
DTSTAMP:20260422T022332
CREATED:20231103T093737Z
LAST-MODIFIED:20231206T102214Z
UID:14728-1715241600-1715533200@judo.se
SUMMARY:Swedish A-Judo Open 2024
DESCRIPTION:Tävling för Anpassad judo. Individuellt och Kata \nLänk till Smoothcomp.
URL:https://judo.se/event/swedish-a-judo-open-2024/
LOCATION:Lindesbergs Arena\, Nyborgsgatan 1\, Lindesberg\, 71134\, Sverige
CATEGORIES:Special Needs/Parajudo,Startsida,Tävlingar
ORGANIZER;CN="Fr%C3%B6vi Judoklubb":MAILTO:info@frovijudo.se
END:VEVENT
BEGIN:VEVENT
DTSTART;VALUE=DATE:20260514
DTEND;VALUE=DATE:20260517
DTSTAMP:20260422T022332
CREATED:20250828T072451Z
LAST-MODIFIED:20250828T072451Z
UID:18439-1778716800-1778975999@judo.se
SUMMARY:Swedish A-Judo/VI Open & Camp 2026
DESCRIPTION:Tävling för Anpassad judo. \nI år även för VI(synskadade). \nInbjudan ligger i Smoothcomp
URL:https://judo.se/event/swedish-a-judo-vi-open-camp-2026/
LOCATION:Lindesbergs Arena\, Nyborgsgatan 1\, Lindesberg\, 71134\, Sverige
CATEGORIES:Special Needs/Parajudo,Startsida,Tävlingar
ORGANIZER;CN="Fr%C3%B6vi Judoklubb":MAILTO:info@frovijudo.se
END:VEVENT
BEGIN:VEVENT
DTSTART;VALUE=DATE:20240511
DTEND;VALUE=DATE:20240513
DTSTAMP:20260422T022332
CREATED:20240221T082339Z
LAST-MODIFIED:20240221T082339Z
UID:15170-1715385600-1715558399@judo.se
SUMMARY:Budo Nord Cup 2024
DESCRIPTION:Mer info och anmälan finns på Smoothcomp. \n 
URL:https://judo.se/event/budo-nord-cup-2024/
LOCATION:Victoriastadion\, Lovisastigen 2-4\, Lund\, 222 41\, Sverige
CATEGORIES:Läger,Startsida,Tävlingar
ORGANIZER;CN="Lugi Judoklubb":MAILTO:info@lugijudo.org
END:VEVENT
BEGIN:VEVENT
DTSTART;VALUE=DATE:20240517
DTEND;VALUE=DATE:20240520
DTSTAMP:20260422T022332
CREATED:20231129T111529Z
LAST-MODIFIED:20231129T111529Z
UID:14863-1715904000-1716163199@judo.se
SUMMARY:Judofestivalen 2024\, Lindesberg
DESCRIPTION:Anmälan och mer info på Smoothcomp.
URL:https://judo.se/event/judofestivalen-2024-lindesberg/
LOCATION:Lindesberg Arena\, Nyborgsgatan 1\, Lindesberg\, Sverige
CATEGORIES:Läger
ORGANIZER;CN="Fr%C3%B6vi Judoklubb":MAILTO:info@frovijudo.se
END:VEVENT
BEGIN:VEVENT
DTSTART;TZID=Europe/Stockholm:20240517T080000
DTEND;TZID=Europe/Stockholm:20240517T170000
DTSTAMP:20260422T022332
CREATED:20231103T094148Z
LAST-MODIFIED:20231103T094148Z
UID:14729-1715932800-1715965200@judo.se
SUMMARY:Skol-RM 2024
DESCRIPTION:Riksmästerskap för högstadie och mellanstadiet 2024\nInbjudan kommer i Smoothcomp.
URL:https://judo.se/event/skol-rm-2024/
LOCATION:Lindesbergs Arena\, Nyborgsgatan 1\, Lindesberg\, 71134\, Sverige
CATEGORIES:Tävlingar
END:VEVENT
BEGIN:VEVENT
DTSTART;TZID=Europe/Stockholm:20240518T080000
DTEND;TZID=Europe/Stockholm:20240519T170000
DTSTAMP:20260422T022332
CREATED:20240215T101723Z
LAST-MODIFIED:20240410T075823Z
UID:15378-1716019200-1716138000@judo.se
SUMMARY:Sjukvårdsutbildning steg 2\, Lindesberg
DESCRIPTION:Kursen genomförs under Judofestivalen. Mer information och anmälan: https://svenskjudo.smoothcomp.com/sv/event/12150 
URL:https://judo.se/event/sjukvardsutbildning-steg-2-lindesberg/
LOCATION:Lindesbergs Arena\, Nyborgsgatan 1\, Lindesberg\, 71134\, Sverige
CATEGORIES:Startsida,Utbildningar
ORGANIZER;CN="Fr%C3%B6vi Judoklubb":MAILTO:info@frovijudo.se
END:VEVENT
BEGIN:VEVENT
DTSTART;TZID=Europe/Stockholm:20240519T100000
DTEND;TZID=Europe/Stockholm:20240519T170000
DTSTAMP:20260422T022332
CREATED:20240305T124509Z
LAST-MODIFIED:20240726T115602Z
UID:15515-1716112800-1716138000@judo.se
SUMMARY:Riksgradering\, Lindesberg
DESCRIPTION:﻿
URL:https://judo.se/event/riksgradering-lindesberg-5/
LOCATION:Lindesberg Arena\, Nyborgsgatan 1\, Lindesberg\, Sverige
CATEGORIES:Graderingar,Startsida
ORGANIZER;CN="Fr%C3%B6vi Judoklubb":MAILTO:info@frovijudo.se
END:VEVENT
BEGIN:VEVENT
DTSTART;VALUE=DATE:20240525
DTEND;VALUE=DATE:20240527
DTSTAMP:20260422T022332
CREATED:20230704T124109Z
LAST-MODIFIED:20230704T124109Z
UID:14223-1716595200-1716767999@judo.se
SUMMARY:NM 2024
DESCRIPTION:Mer information kommer.
URL:https://judo.se/event/nm-2024/
LOCATION:Sundsvall\, Björneborgsgatan 25\, Sundsvall\, 854 60\, Sverige
CATEGORIES:Startsida,Tävlingar
END:VEVENT
BEGIN:VEVENT
DTSTART;TZID=Europe/Stockholm:20240601T090000
DTEND;TZID=Europe/Stockholm:20240602T150000
DTSTAMP:20260422T022332
CREATED:20240416T090512Z
LAST-MODIFIED:20240502T145505Z
UID:15678-1717232400-1717340400@judo.se
SUMMARY:Metodikkurs i kata\, Borlänge
DESCRIPTION:﻿
URL:https://judo.se/event/katakurs-borlange/
LOCATION:Borlänge Judo Club\, Teknikergatan 1\, Borlänge\, 78170\, Sverige
CATEGORIES:Startsida,Utbildningar
ORGANIZER;CN="Borl%C3%A4nge Judo Club":MAILTO:info@borlangejudo.se
END:VEVENT
BEGIN:VEVENT
DTSTART;VALUE=DATE:20240606
DTEND;VALUE=DATE:20240610
DTSTAMP:20260422T022332
CREATED:20240419T140341Z
LAST-MODIFIED:20240629T140224Z
UID:15691-1717632000-1717977599@judo.se
SUMMARY:Veteran-EM 2024
DESCRIPTION:Information om tävlingen och vad som krävs för att delta hittar du i inbjudan (outlines) i kalendern på eju.se: https://www.eju.net/calendar \n\n\n\nObservera att anmälningstiderna för svenska deltagare är andra än de i inbjudan. Detta för att personalen hos Svenska Judoförbundet ska ha tid att sammanställa all information i god tid innan arrangörens deadline. \n\n\n\nSå anmäler du dig: \n\n\n\nAnmälan till veteran-EM görs till Kristin Johansson\, kristin.johansson@judo.se. \n\n\n\nDeadlines för anmälan till Kristin är: – 21 april för entry fee 150 €. – 16 maj för entry fee 200 €. – Vid senare anmälan än ovan är entry fee 250€ + förseningsavgift till Svenska Judoförbundet på 1000 sek. \n\n\n\nAnmälan skickas via mejl och ska innehålla: – Förnamn och efternamn – Klubb (så vi vet vart vi ska skicka fakturan för anmälningsavgiften) – Tävlingsklass (åldersklass + viktklass)\, eller ange coach om personen ska vara det – Om personen saknar Judobase-licens ska ”Formulär för registrering i Judobase 4.0” + foto enligt IJFs riktlinjer bifogas i mejlet. Dessa dokument finns här (OBS! kom ihåg att ladda ner dokumentet till egen dator. Fyll inte i direkt i mappen i SharePoint): https://svenskjudo.sharepoint.com/:f:/s/intranat-Dokumentbanken/EsMh8VFPmJhBqiiSbpSJfZgBLVwk-bkt3luAsrTeeGChNA?e=OefuHO \n\n\n\nVarje person ansvarar själv för att boka boende\, flyg\, transfer etc. Kristin anmäler endast tävlande och coacher till tävlingen. \n\n\n\nTill tävlingen ska läkarintyg skickas in. Hur och vem som ska ladda upp dessa återkommer vi med. Alla deltagare behöver dock själva skaffa intyget. Läs mer om det inbjudan. \n\n\n\nFör frågor om anmälan: Kristin.johansson@judo.se
URL:https://judo.se/event/veteran-em-2024/
CATEGORIES:Startsida,Tävlingar,Veteran
END:VEVENT
BEGIN:VEVENT
DTSTART;TZID=Europe/Stockholm:20240608T083000
DTEND;TZID=Europe/Stockholm:20240609T163000
DTSTAMP:20260422T022332
CREATED:20231207T133247Z
LAST-MODIFIED:20240320T102128Z
UID:14954-1717835400-1717950600@judo.se
SUMMARY:Judo4Balance Riksfortbildning\, Göteborg
DESCRIPTION:﻿
URL:https://judo.se/event/judo4balance-riksfortbildning-goteborg-2/
LOCATION:IKVM\, Pinnharvsgatan 11\, Mölndal\, Sverige
CATEGORIES:Startsida,Utbildningar
ORGANIZER;CN="IKVM":MAILTO:malin.nordin@judo.se
END:VEVENT
END:VCALENDAR