BEGIN:VCALENDAR
VERSION:2.0
PRODID:-//Svenska Judoförbundet - ECPv6.15.20//NONSGML v1.0//EN
CALSCALE:GREGORIAN
METHOD:PUBLISH
X-WR-CALNAME:Svenska Judoförbundet
X-ORIGINAL-URL:https://judo.se
X-WR-CALDESC:Händelser för Svenska Judoförbundet
REFRESH-INTERVAL;VALUE=DURATION:PT1H
X-Robots-Tag:noindex
X-PUBLISHED-TTL:PT1H
BEGIN:VTIMEZONE
TZID:Europe/Stockholm
BEGIN:DAYLIGHT
TZOFFSETFROM:+0100
TZOFFSETTO:+0200
TZNAME:CEST
DTSTART:20240331T010000
END:DAYLIGHT
BEGIN:STANDARD
TZOFFSETFROM:+0200
TZOFFSETTO:+0100
TZNAME:CET
DTSTART:20241027T010000
END:STANDARD
BEGIN:DAYLIGHT
TZOFFSETFROM:+0100
TZOFFSETTO:+0200
TZNAME:CEST
DTSTART:20250330T010000
END:DAYLIGHT
BEGIN:STANDARD
TZOFFSETFROM:+0200
TZOFFSETTO:+0100
TZNAME:CET
DTSTART:20251026T010000
END:STANDARD
BEGIN:DAYLIGHT
TZOFFSETFROM:+0100
TZOFFSETTO:+0200
TZNAME:CEST
DTSTART:20260329T010000
END:DAYLIGHT
BEGIN:STANDARD
TZOFFSETFROM:+0200
TZOFFSETTO:+0100
TZNAME:CET
DTSTART:20261025T010000
END:STANDARD
BEGIN:DAYLIGHT
TZOFFSETFROM:+0100
TZOFFSETTO:+0200
TZNAME:CEST
DTSTART:20270328T010000
END:DAYLIGHT
BEGIN:STANDARD
TZOFFSETFROM:+0200
TZOFFSETTO:+0100
TZNAME:CET
DTSTART:20271031T010000
END:STANDARD
END:VTIMEZONE
BEGIN:VEVENT
DTSTART;TZID=Europe/Stockholm:20250710T080000
DTEND;TZID=Europe/Stockholm:20250713T170000
DTSTAMP:20260423T033946
CREATED:20241126T100017Z
LAST-MODIFIED:20250319T102624Z
UID:16853-1752134400-1752426000@judo.se
SUMMARY:Judown European Championships 2025
DESCRIPTION:European Championships 2025 för personer med Downs syndrom.\nInbjudan ligger i Smoothcomp.
URL:https://judo.se/event/judown-european-championships-2025/
LOCATION:Lindesbergs Arena\, Nyborgsgatan 1\, Lindesberg\, 71134\, Sverige
CATEGORIES:Startsida,Tävlingar
END:VEVENT
BEGIN:VEVENT
DTSTART;VALUE=DATE:20250816
DTEND;VALUE=DATE:20250818
DTSTAMP:20260423T033946
CREATED:20250611T092247Z
LAST-MODIFIED:20250611T092247Z
UID:18263-1755302400-1755475199@judo.se
SUMMARY:Green Hill International 2025 & Camp
DESCRIPTION:Inbjudan finns i Smoothcomp. \nNivå B.
URL:https://judo.se/event/green-hill-international-2025-camp/
LOCATION:Eriksdalshallen\, Ringvägen 70\, Stockholm\, Sverige
CATEGORIES:Läger,Startsida,Tävlingar i Öst
END:VEVENT
BEGIN:VEVENT
DTSTART;VALUE=DATE:20250823
DTEND;VALUE=DATE:20250825
DTSTAMP:20260423T033946
CREATED:20250304T155005Z
LAST-MODIFIED:20250624T124659Z
UID:17738-1755907200-1756079999@judo.se
SUMMARY:Utvecklingsläger\, Lindesberg
DESCRIPTION:Se inbjudan här. \n 
URL:https://judo.se/event/utvecklingslager-lindesberg-3/
LOCATION:Lindesbergs Arena\, Nyborgsgatan 1\, Lindesberg\, 71134\, Sverige
CATEGORIES:Läger,Startsida
END:VEVENT
BEGIN:VEVENT
DTSTART;TZID=Europe/Stockholm:20250823T080000
DTEND;TZID=Europe/Stockholm:20250823T170000
DTSTAMP:20260423T033946
CREATED:20250217T180152Z
LAST-MODIFIED:20250319T102557Z
UID:17439-1755936000-1755968400@judo.se
SUMMARY:Öppna Kata NM
DESCRIPTION:Anmälan kommer i Smoothcomp
URL:https://judo.se/event/oppna-kata-nm/
LOCATION:Skurup Sparbank Arena\, Vaktgatan\, Skurup\, Sverige
CATEGORIES:Startsida,Tävlingar
ORGANIZER;CN="Wemmenh%C3%B6gs Budof%C3%B6rening":MAILTO:judo@wemmenhogsbudo.se
END:VEVENT
BEGIN:VEVENT
DTSTART;TZID=Europe/Stockholm:20250830T090000
DTEND;TZID=Europe/Stockholm:20250831T150000
DTSTAMP:20260423T033946
CREATED:20241007T130247Z
LAST-MODIFIED:20250502T144002Z
UID:16579-1756544400-1756652400@judo.se
SUMMARY:Riksfortbildningen Lindesberg 2025
DESCRIPTION:Anmälan: https://educationwebregistration.idrottonline.se/home/index/2039584  \nSe info och schema här: Inbjudan.Riksfortbildning2025
URL:https://judo.se/event/riksfortbildningen-lindesberg/
LOCATION:Lindesbergs Arena\, Nyborgsgatan 1\, Lindesberg\, 71134\, Sverige
CATEGORIES:Startsida,Utbildningar
ORGANIZER;CN="Fr%C3%B6vi Judoklubb":MAILTO:info@frovijudo.se
END:VEVENT
BEGIN:VEVENT
DTSTART;TZID=Europe/Stockholm:20250831T090000
DTEND;TZID=Europe/Stockholm:20250831T150000
DTSTAMP:20260423T033946
CREATED:20240918T091139Z
LAST-MODIFIED:20250826T073700Z
UID:16500-1756630800-1756652400@judo.se
SUMMARY:(INSTÄLLD) Sjukvårdsutbildning nivå 2\, Trollhättan
DESCRIPTION:OBS! Utbildningen är inställd!\n  \nInbjudan Sjukvårdsutbildning Judo Nivå II TROLLHÄTTAN
URL:https://judo.se/event/sjukvardsutbildning-niva-2-trollhattan-2/
LOCATION:Arena Älvhögsborgs\, Trollhättan\, Storgatan 1\, Trollhättan\, Väst\, 46131\, Sweden
CATEGORIES:Startsida,Utbildningar
END:VEVENT
BEGIN:VEVENT
DTSTART;VALUE=DATE:20250906
DTEND;VALUE=DATE:20250907
DTSTAMP:20260423T033946
CREATED:20241112T103406Z
LAST-MODIFIED:20250319T102516Z
UID:16727-1757116800-1757203199@judo.se
SUMMARY:Arvika Judo Cup 2025
DESCRIPTION:Nivå B \nInbjudan i Smoothcomp
URL:https://judo.se/event/arvika-judo-cup-2025/
LOCATION:Sporthallen Arvika\, Skolgatan 34\, Arvika
CATEGORIES:Startsida,Tävlingar
ORGANIZER;CN="Judoklubben Arvika":MAILTO:info@judoarvika.se
END:VEVENT
BEGIN:VEVENT
DTSTART;VALUE=DATE:20250907
DTEND;VALUE=DATE:20250908
DTSTAMP:20260423T033946
CREATED:20241107T113422Z
LAST-MODIFIED:20241112T103447Z
UID:16707-1757203200-1757289599@judo.se
SUMMARY:Wermland Judo Games 2025
DESCRIPTION:Nivå C. \nNybörjartävling\, oavsett bälte som tävlat max 10 gånger. \nInbjudan kommer i Smoothcomp
URL:https://judo.se/event/wermland-judo-games-2025/
LOCATION:Sporthallen Arvika\, Skolgatan 34\, Arvika
CATEGORIES:Startsida,Tävlingar
ORGANIZER;CN="Judoklubben Arvika":MAILTO:info@judoarvika.se
END:VEVENT
BEGIN:VEVENT
DTSTART;VALUE=DATE:20250913
DTEND;VALUE=DATE:20250914
DTSTAMP:20260423T033946
CREATED:20250204T125118Z
LAST-MODIFIED:20250611T103106Z
UID:17395-1757721600-1757807999@judo.se
SUMMARY:Judits pokal 3 & Judits LagKamp\, 2025
DESCRIPTION:Anmälan i Smoothcomp. \nJudits LagKamp anmäls här i Smoothcomp.
URL:https://judo.se/event/judits-pokal-3-2025/
LOCATION:Göteborgs Judoklubb\, Andra långgatan 48\, Göteborg\, Sverige
CATEGORIES:Startsida,Tävlingar,Tävlingar i Väst
ORGANIZER;CN="G%C3%B6teborgs Judoklubb":MAILTO:info@gjk.se
END:VEVENT
BEGIN:VEVENT
DTSTART;VALUE=DATE:20250913
DTEND;VALUE=DATE:20250914
DTSTAMP:20260423T033946
CREATED:20250611T090932Z
LAST-MODIFIED:20250611T090932Z
UID:18261-1757721600-1757807999@judo.se
SUMMARY:Södra Judo Open 3 2025
DESCRIPTION:Inbjudan kommer i Smoothcomp \nNivå B.
URL:https://judo.se/event/sodra-judo-open-3-2025/
LOCATION:Torvalla Sporthall\, Dalarövägen 66\, Haninge\, 136 45\, Sverige
CATEGORIES:Startsida,Tävlingar,Tävlingar i Öst
ORGANIZER;CN="IK S%C3%B6dra Judo":MAILTO:tavlingar@iksodra.com
END:VEVENT
BEGIN:VEVENT
DTSTART;VALUE=DATE:20250914
DTEND;VALUE=DATE:20250915
DTSTAMP:20260423T033946
CREATED:20250429T102112Z
LAST-MODIFIED:20250429T102112Z
UID:17983-1757808000-1757894399@judo.se
SUMMARY:Riksgradering\, Göteborg 2025
DESCRIPTION:Information och inbjudan hittar du här.
URL:https://judo.se/event/riksgradering-goteborg-2025/
LOCATION:Göteborgs Judoklubb\, Andra långgatan 48\, Göteborg\, Sverige
CATEGORIES:Graderingar,Startsida
END:VEVENT
BEGIN:VEVENT
DTSTART;VALUE=DATE:20250914
DTEND;VALUE=DATE:20250915
DTSTAMP:20260423T033946
CREATED:20250625T064105Z
LAST-MODIFIED:20250625T064607Z
UID:18312-1757808000-1757894399@judo.se
SUMMARY:Knivsta Judo Cup 2 2025
DESCRIPTION:Nivå C tävling för kategorierna U9 till U13 med högst grönt bälte. \nTävlingen ligger i Smoothcomp.
URL:https://judo.se/event/knivsta-judo-cup-2-2025/
LOCATION:Knivsta Centrum för Idrott och Kultur\, Parkvägen 31 A\, Knivsta\, 74140\, Sverige
CATEGORIES:Startsida,Tävlingar i Öst
END:VEVENT
BEGIN:VEVENT
DTSTART;TZID=Europe/Stockholm:20250919T190000
DTEND;TZID=Europe/Stockholm:20250920T170000
DTSTAMP:20260423T033946
CREATED:20250812T133544Z
LAST-MODIFIED:20250812T133659Z
UID:18361-1758308400-1758387600@judo.se
SUMMARY:Veteranläger\, SPIF
DESCRIPTION:SPIF och Ekerö Judo arrangerar veteranläger\, 19-20 september. \nSe länk för info och anmälan
URL:https://judo.se/event/veteranlager-spif/
LOCATION:SPIF Judo\, Tellusborgsvägen 22\, Hägersten\, 126 32\, Sverige
CATEGORIES:Läger,Startsida,Veteran
END:VEVENT
BEGIN:VEVENT
DTSTART;VALUE=DATE:20250920
DTEND;VALUE=DATE:20250922
DTSTAMP:20260423T033946
CREATED:20250818T165038Z
LAST-MODIFIED:20250818T165541Z
UID:18395-1758326400-1758499199@judo.se
SUMMARY:Assisterande klubbtränarutbildning\, Linköping
DESCRIPTION:Info hittar du här
URL:https://judo.se/event/assisterande-klubbtranarutbildning-linkoping-4/
LOCATION:Linköpings Judoklubb\, Nya Tanneforsvägen 13\, Linköping\, 582 42\, Sverige
CATEGORIES:Startsida,Utbildningar
END:VEVENT
BEGIN:VEVENT
DTSTART;TZID=Europe/Stockholm:20250920T090000
DTEND;TZID=Europe/Stockholm:20250921T160000
DTSTAMP:20260423T033946
CREATED:20250122T121550Z
LAST-MODIFIED:20250915T124004Z
UID:17254-1758358800-1758470400@judo.se
SUMMARY:(INSTÄLLD!)  Step by Step - steg 2\, Frölunda
DESCRIPTION:OBS! Denna utbildning är inställd! \nInbjudan Step by step steg 2 – 20-21 september 2025 Frölunda\n 
URL:https://judo.se/event/step-by-step-steg-2-frolunda-2/
LOCATION:Frölunda Judoklubb\, Klubbvägen 8\, Västra Frölunda\, 421 47\, Sverige
CATEGORIES:Startsida,Utbildningar
ORGANIZER;CN="Fr%C3%B6lunda Judoklubb":MAILTO:fjk@frolundajudo.se
END:VEVENT
BEGIN:VEVENT
DTSTART;VALUE=DATE:20250921
DTEND;VALUE=DATE:20250922
DTSTAMP:20260423T033946
CREATED:20250612T095703Z
LAST-MODIFIED:20250617T085908Z
UID:18270-1758412800-1758499199@judo.se
SUMMARY:BohusDal Cup 2 2025
DESCRIPTION:Nivå C. \nFör klubbar i bdJF. Tävlande från klubbar från andra distrikt är välkomna i mån av plats. \nKlubbar i Bohuslän och Dal distriktet kan samla poäng under året. \nAnmälan via Smoothcomp. \n 
URL:https://judo.se/event/bohusdal-cup-2-2025/
LOCATION:Rimnershallen\, Rimnersgatan 13\, Uddevalla\, 451 52\, Sverige
CATEGORIES:Startsida,Tävlingar i Väst
END:VEVENT
BEGIN:VEVENT
DTSTART;VALUE=DATE:20250921
DTEND;VALUE=DATE:20250922
DTSTAMP:20260423T033946
CREATED:20250612T100216Z
LAST-MODIFIED:20250612T101145Z
UID:18272-1758412800-1758499199@judo.se
SUMMARY:Västgötaserien 2025 Vara + DM
DESCRIPTION:En nybörjartävling upp till orange bälte där man samlar poäng under hela årets tävlingar. \nFör klubbar i VJF. Tävlande från klubbar från andra distrikt är välkomna i mån av plats. \nÄven Västergötlands Distrikt Mästerskap. \nInbjudan ligger i Smoothcomp
URL:https://judo.se/event/vastgotaserien-2025-vara-dm/
CATEGORIES:Startsida,Tävlingar,Tävlingar i Väst
ORGANIZER;CN="V%C3%A4sterg%C3%B6tlands Judof%C3%B6rbund":MAILTO:info@vjf.org
END:VEVENT
BEGIN:VEVENT
DTSTART;VALUE=DATE:20250927
DTEND;VALUE=DATE:20250928
DTSTAMP:20260423T033946
CREATED:20250826T071354Z
LAST-MODIFIED:20250826T071354Z
UID:18425-1758931200-1759017599@judo.se
SUMMARY:POKALJAKTEN & NEWAZA OPEN 3\, 2025
DESCRIPTION:Nivå C. \nAnmälan via Smoothcomp. \n 
URL:https://judo.se/event/pokaljakten-newaza-open-3-2025/
LOCATION:Jönsbergska Idrottshall\, Sprängstensgatan 1\, Norrköping
CATEGORIES:Startsida,Tävlingar i Öst
END:VEVENT
BEGIN:VEVENT
DTSTART;VALUE=DATE:20250927
DTEND;VALUE=DATE:20250929
DTSTAMP:20260423T033946
CREATED:20241126T103023Z
LAST-MODIFIED:20241126T103023Z
UID:16864-1758931200-1759103999@judo.se
SUMMARY:Linde Judo Open 2025
DESCRIPTION:Tävling för U11 till Senior. Även läger på söndagen. \n\nInbjudan finns i Smoothcomp.
URL:https://judo.se/event/linde-judo-open-2025/
LOCATION:Lindesberg Arena\, Nyborgsgatan 1\, Lindesberg\, Sverige
CATEGORIES:Startsida,Tävlingar
ORGANIZER;CN="Fr%C3%B6vi Judoklubb":MAILTO:info@frovijudo.se
END:VEVENT
BEGIN:VEVENT
DTSTART;VALUE=DATE:20250927
DTEND;VALUE=DATE:20250929
DTSTAMP:20260423T033946
CREATED:20250110T152540Z
LAST-MODIFIED:20250429T095420Z
UID:17177-1758931200-1759103999@judo.se
SUMMARY:Kataläger med Sensei Iura\, 2025
DESCRIPTION:Information och inbjudan klicka här.
URL:https://judo.se/event/katalager-med-sensei-iura-2025/
LOCATION:Kristianstads Judoklubb\, Björkhemsvägen 7a\, Kristianstad\, 29154\, Sverige
CATEGORIES:Läger,Startsida,Utbildningar
ORGANIZER;CN="Kristianstads Judoklubb":MAILTO:info@kristianstadjudo.se
END:VEVENT
BEGIN:VEVENT
DTSTART;VALUE=DATE:20250927
DTEND;VALUE=DATE:20250929
DTSTAMP:20260423T033946
CREATED:20250813T071208Z
LAST-MODIFIED:20250813T071208Z
UID:18367-1758931200-1759103999@judo.se
SUMMARY:Riksfortbildning och Konferens Tävlingsledare
DESCRIPTION:Se pdf med Riksfortbildning Tävlingsledare 2025 Agenda. \nAnmälningssida \nRiksfortbildning Tävlingsledare 2025 Inbjudan \nObs! Huvuddelen av konferensen är på söndagen 28/9. Vi startar med middag på lördag kväll för att lära känna varandra.
URL:https://judo.se/event/riksfortbildning-och-konferens-tavlingsledare/
LOCATION:Home hotel Etage\, Västerås\, Stora Gatan 32\, Västerås\, 72212\, Sweden
CATEGORIES:Startsida,Utbildningar
ORGANIZER;CN="Arbetsgruppen T%C3%A4vling":MAILTO:agt@judo.se
END:VEVENT
BEGIN:VEVENT
DTSTART;VALUE=DATE:20260926
DTEND;VALUE=DATE:20260927
DTSTAMP:20260423T033946
CREATED:20250828T073223Z
LAST-MODIFIED:20250828T073223Z
UID:18443-1790380800-1790467199@judo.se
SUMMARY:Linde Judo Open 2026
DESCRIPTION:Tävling för U11 till Senior. Även läger på söndagen. \n\nInbjudan kommer i Smoothcomp.
URL:https://judo.se/event/linde-judo-open-2026/
LOCATION:Lindesberg Arena\, Nyborgsgatan 1\, Lindesberg\, Sverige
CATEGORIES:Startsida,Tävlingar i Öst,Tävlingar i Väst
ORGANIZER;CN="Fr%C3%B6vi Judoklubb":MAILTO:info@frovijudo.se
END:VEVENT
BEGIN:VEVENT
DTSTART;TZID=Europe/Stockholm:20250927T090000
DTEND;TZID=Europe/Stockholm:20250927T140000
DTSTAMP:20260423T033946
CREATED:20250826T073004Z
LAST-MODIFIED:20250826T075547Z
UID:18431-1758963600-1758981600@judo.se
SUMMARY:Stockholms Cup
DESCRIPTION:Nivå C. \nInbjudan i Smoothcomp.
URL:https://judo.se/event/stockholms-cup/
LOCATION:Tellushallen\, Gymnasievägen 4\, Vallentuna\, 18636\, Sweden
CATEGORIES:Startsida,Tävlingar
END:VEVENT
BEGIN:VEVENT
DTSTART;VALUE=DATE:20251004
DTEND;VALUE=DATE:20251005
DTSTAMP:20260423T033946
CREATED:20241126T100930Z
LAST-MODIFIED:20250217T082647Z
UID:16856-1759536000-1759622399@judo.se
SUMMARY:Wemmenhögs Judo Open 2025
DESCRIPTION:Mer info och inbjudan i Smoothcomp
URL:https://judo.se/event/wemmenhogs-judo-open-2025/
LOCATION:Skurup Sparbanks Arena\,\, Vaktgatan\, Skurup\, 274 34\, Sverige
CATEGORIES:Startsida,Tävlingar,Tävlingar i Syd
ORGANIZER;CN="Wemmenh%C3%B6gs Budof%C3%B6rening":MAILTO:judo@wemmenhogsbudo.se
END:VEVENT
BEGIN:VEVENT
DTSTART;VALUE=DATE:20251004
DTEND;VALUE=DATE:20251006
DTSTAMP:20260423T033946
CREATED:20250305T103327Z
LAST-MODIFIED:20250509T075511Z
UID:17746-1759536000-1759708799@judo.se
SUMMARY:GO Cup 2\, 2025
DESCRIPTION:Nivå C + läger söndag \nAnmälan via Smoothcomp. \n 
URL:https://judo.se/event/go-cup-2-2025/
LOCATION:Stenungsund arena\, Nösnäsvägen 2\, Stenungsund\, 444 47\, Sverige
CATEGORIES:Läger,Startsida,Tävlingar i Väst
ORGANIZER;CN="Stenungsunds JK":MAILTO:tavling@stenungsundsjudoklubb.com
END:VEVENT
BEGIN:VEVENT
DTSTART;VALUE=DATE:20251005
DTEND;VALUE=DATE:20251006
DTSTAMP:20260423T033946
CREATED:20241126T101312Z
LAST-MODIFIED:20250217T082624Z
UID:16858-1759622400-1759708799@judo.se
SUMMARY:Skåneserien 3 Wemmenhög 2025
DESCRIPTION:Nivå C \nMer info och inbjudan ligger i Smoothcomp.
URL:https://judo.se/event/skaneserien-3-wemmenhog-2025/
LOCATION:Skurup Sparbanks Arena\,\, Vaktgatan\, Skurup\, 274 34\, Sverige
CATEGORIES:Startsida,Tävlingar,Tävlingar i Syd
ORGANIZER;CN="Wemmenh%C3%B6gs Budof%C3%B6rening":MAILTO:judo@wemmenhogsbudo.se
END:VEVENT
BEGIN:VEVENT
DTSTART;TZID=Europe/Stockholm:20251006T180000
DTEND;TZID=Europe/Stockholm:20251006T200000
DTSTAMP:20260423T033946
CREATED:20250926T070911Z
LAST-MODIFIED:20250926T071959Z
UID:18585-1759773600-1759780800@judo.se
SUMMARY:Digital föreläsning med Måns Lööf - Idrott och NPF
DESCRIPTION:Info hittar du här. \nLänk till anmälan för den digitala föreläsningen 6 oktober
URL:https://judo.se/event/digital-forelasning-med-mans-loof-idrott-och-npf/
LOCATION:Digitalt
CATEGORIES:Special Needs/Parajudo,Startsida,Utbildningar
END:VEVENT
BEGIN:VEVENT
DTSTART;TZID=Europe/Stockholm:20251008T180000
DTEND;TZID=Europe/Stockholm:20251008T200000
DTSTAMP:20260423T033946
CREATED:20250926T072914Z
LAST-MODIFIED:20250926T073448Z
UID:18589-1759946400-1759953600@judo.se
SUMMARY:Digital föreläsning med Måns Lööf - Idrott och NPF
DESCRIPTION:Info hittar du här. \nLänk till anmälan för den digitala föreläsningen 8 oktober hittar du här.
URL:https://judo.se/event/digital-forelasning-med-mans-loof-idrott-och-npf-2/
LOCATION:Digitalt
CATEGORIES:Special Needs/Parajudo,Startsida,Utbildningar
END:VEVENT
BEGIN:VEVENT
DTSTART;VALUE=DATE:20251011
DTEND;VALUE=DATE:20251012
DTSTAMP:20260423T033946
CREATED:20241126T101921Z
LAST-MODIFIED:20241126T101921Z
UID:16862-1760140800-1760227199@judo.se
SUMMARY:Dalsland Open 2 2025
DESCRIPTION:Nivå C. \nInbjudan kommer i Smoothcomp.
URL:https://judo.se/event/dalsland-open-2-2025/
LOCATION:Rådahallen\, Bergsgatan 28\, Mellerud\, 464 30\, Sverige
CATEGORIES:Startsida,Tävlingar
ORGANIZER;CN="Kroppefj%C3%A4lls IF":MAILTO:info@kroppefjallsif.se
END:VEVENT
BEGIN:VEVENT
DTSTART;TZID=Europe/Stockholm:20251011T100000
DTEND;TZID=Europe/Stockholm:20251011T170000
DTSTAMP:20260423T033946
CREATED:20250109T120907Z
LAST-MODIFIED:20251003T104336Z
UID:17153-1760176800-1760202000@judo.se
SUMMARY:Utbildningskonferensen 2025\, Göteborg
DESCRIPTION:Länk till anmälan \nUtbilningskonferensen riktar sig till utbildare\, metodikhandledare och zonansvariga.
URL:https://judo.se/event/utbildningskonferensen-2025-uppsala/
LOCATION:Göteborgs Byggmästareförening\, Ekmansgatan 1\, Göteborg\, 411 32
CATEGORIES:Startsida,Utbildningar
END:VEVENT
END:VCALENDAR