BEGIN:VCALENDAR
VERSION:2.0
PRODID:-//Svenska Judoförbundet - ECPv6.15.20//NONSGML v1.0//EN
CALSCALE:GREGORIAN
METHOD:PUBLISH
X-ORIGINAL-URL:https://judo.se
X-WR-CALDESC:Händelser för Svenska Judoförbundet
REFRESH-INTERVAL;VALUE=DURATION:PT1H
X-Robots-Tag:noindex
X-PUBLISHED-TTL:PT1H
BEGIN:VTIMEZONE
TZID:Europe/Stockholm
BEGIN:DAYLIGHT
TZOFFSETFROM:+0100
TZOFFSETTO:+0200
TZNAME:CEST
DTSTART:20220327T010000
END:DAYLIGHT
BEGIN:STANDARD
TZOFFSETFROM:+0200
TZOFFSETTO:+0100
TZNAME:CET
DTSTART:20221030T010000
END:STANDARD
BEGIN:DAYLIGHT
TZOFFSETFROM:+0100
TZOFFSETTO:+0200
TZNAME:CEST
DTSTART:20230326T010000
END:DAYLIGHT
BEGIN:STANDARD
TZOFFSETFROM:+0200
TZOFFSETTO:+0100
TZNAME:CET
DTSTART:20231029T010000
END:STANDARD
BEGIN:DAYLIGHT
TZOFFSETFROM:+0100
TZOFFSETTO:+0200
TZNAME:CEST
DTSTART:20240331T010000
END:DAYLIGHT
BEGIN:STANDARD
TZOFFSETFROM:+0200
TZOFFSETTO:+0100
TZNAME:CET
DTSTART:20241027T010000
END:STANDARD
END:VTIMEZONE
BEGIN:VEVENT
DTSTART;TZID=Europe/Stockholm:20230902T090000
DTEND;TZID=Europe/Stockholm:20230903T160000
DTSTAMP:20260420T091603
CREATED:20221110T110010Z
LAST-MODIFIED:20230630T170136Z
UID:12544-1693645200-1693756800@judo.se
SUMMARY:Riksfortbildning\, Lindesberg
DESCRIPTION:﻿
URL:https://judo.se/event/riksfortbildning-lindesberg-5/
LOCATION:Lindesberg Arena\, Nyborgsgatan 1\, Lindesberg\, Sverige
CATEGORIES:Startsida,Utbildningar
ORGANIZER;CN="Fr%C3%B6vi Judoklubb":MAILTO:info@frovijudo.se
END:VEVENT
BEGIN:VEVENT
DTSTART;TZID=Europe/Stockholm:20230903T090000
DTEND;TZID=Europe/Stockholm:20230903T160000
DTSTAMP:20260420T091603
CREATED:20230313T134707Z
LAST-MODIFIED:20230313T134707Z
UID:13337-1693731600-1693756800@judo.se
SUMMARY:Sjukvårdsutbildning nivå 2\, Trollhättan
DESCRIPTION:﻿﻿
URL:https://judo.se/event/sjukvardsutbildning-niva-2-trollhattan/
LOCATION:Trollhättan
CATEGORIES:Startsida,Utbildningar
END:VEVENT
BEGIN:VEVENT
DTSTART;TZID=Europe/Stockholm:20230909T090000
DTEND;TZID=Europe/Stockholm:20230910T160000
DTSTAMP:20260420T091603
CREATED:20230413T122043Z
LAST-MODIFIED:20230612T131059Z
UID:13597-1694250000-1694361600@judo.se
SUMMARY:Riksdomarkonferens\, Uppsala
DESCRIPTION:﻿
URL:https://judo.se/event/riksfortbildning-for-domare/
LOCATION:Arenahotellet\, Edith Södergrans Gata 5\, Uppsala\, uppsala\, 75460\, Sverige
CATEGORIES:Möten och Konferenser,Startsida,Utbildningar
END:VEVENT
BEGIN:VEVENT
DTSTART;VALUE=DATE:20230910
DTEND;VALUE=DATE:20230911
DTSTAMP:20260420T091603
CREATED:20230628T093542Z
LAST-MODIFIED:20230904T171347Z
UID:14178-1694304000-1694390399@judo.se
SUMMARY:Tävlingsledarutbildning\, Sundsvall
DESCRIPTION:Anmäl här! \nInbjudan Tävlingsledare utbildning Sundsvall.
URL:https://judo.se/event/tavlingsledarutbildning-sundsvall/
LOCATION:Sundsvall\, Björneborgsgatan 25\, Sundsvall\, 854 60\, Sverige
CATEGORIES:Startsida,Utbildningar
ORGANIZER;CN="Arbetsgruppen T%C3%A4vling":MAILTO:agt@judo.se
END:VEVENT
BEGIN:VEVENT
DTSTART;TZID=Europe/Stockholm:20230916T090000
DTEND;TZID=Europe/Stockholm:20230917T160000
DTSTAMP:20260420T091603
CREATED:20221110T123522Z
LAST-MODIFIED:20230810T080334Z
UID:12550-1694854800-1694966400@judo.se
SUMMARY:Step by Step- steg 2\, Skurup
DESCRIPTION:﻿
URL:https://judo.se/event/step-by-step-steg-2-syd/
LOCATION:Wemmenhögs Budoförening\, Vaktgatan\, Skurup\, 274 34\, Sverige
CATEGORIES:Startsida,Utbildningar
ORGANIZER;CN="Wemmenh%C3%B6gs Budof%C3%B6rening":MAILTO:judo@wemmenhogsbudo.se
END:VEVENT
BEGIN:VEVENT
DTSTART;TZID=Europe/Stockholm:20230917T083000
DTEND;TZID=Europe/Stockholm:20230917T170000
DTSTAMP:20260420T091603
CREATED:20230911T081852Z
LAST-MODIFIED:20230911T081905Z
UID:14477-1694939400-1694970000@judo.se
SUMMARY:Regelkurs\, Stenungsund
DESCRIPTION:﻿
URL:https://judo.se/event/regelkurs-stenungsund/
LOCATION:Stenungsund arena\, Nösnäsvägen 2\, Stenungsund\, 444 47\, Sverige
CATEGORIES:Startsida,Utbildningar
ORGANIZER;CN="Stenungsunds JK":MAILTO:tavling@stenungsundsjudoklubb.com
END:VEVENT
BEGIN:VEVENT
DTSTART;TZID=Europe/Stockholm:20230923T100000
DTEND;TZID=Europe/Stockholm:20230924T153000
DTSTAMP:20260420T091603
CREATED:20230815T100434Z
LAST-MODIFIED:20230815T100434Z
UID:14351-1695463200-1695569400@judo.se
SUMMARY:Kataläger med Sensei Iura
DESCRIPTION:﻿
URL:https://judo.se/event/katalager-med-sensei-iura/
LOCATION:Kristianstads Judoklubb\, Björkhemsvägen 7a\, Kristianstad\, 29154\, Sverige
CATEGORIES:Läger,Startsida,Utbildningar
ORGANIZER;CN="Kristianstads Judoklubb":MAILTO:info@kristianstadjudo.se
END:VEVENT
BEGIN:VEVENT
DTSTART;VALUE=DATE:20230924
DTEND;VALUE=DATE:20230925
DTSTAMP:20260420T091603
CREATED:20230628T093405Z
LAST-MODIFIED:20230918T140346Z
UID:14176-1695513600-1695599999@judo.se
SUMMARY:Tävlingsledarutbildning\, Göteborg
DESCRIPTION:﻿
URL:https://judo.se/event/tavlingsledarutbildning-goteborg/
LOCATION:Göteborg
CATEGORIES:Startsida,Utbildningar
ORGANIZER;CN="Arbetsgruppen T%C3%A4vling":MAILTO:agt@judo.se
END:VEVENT
BEGIN:VEVENT
DTSTART;TZID=Europe/Stockholm:20230930T090000
DTEND;TZID=Europe/Stockholm:20231001T160000
DTSTAMP:20260420T091603
CREATED:20221110T110753Z
LAST-MODIFIED:20230908T145118Z
UID:12548-1696064400-1696176000@judo.se
SUMMARY:Assisterande klubbtränarutbildning\, Linköping
DESCRIPTION:﻿
URL:https://judo.se/event/assisterande-klubbtranarutbildning-linkoping-3/
LOCATION:Linköpings Judoklubb\, Nya Tanneforsvägen 13\, Linköping\, 582 42\, Sverige
CATEGORIES:Startsida,Utbildningar
ORGANIZER;CN="Link%C3%B6pings JK":MAILTO:info@linkopingjudo.org
END:VEVENT
END:VCALENDAR