BEGIN:VCALENDAR
VERSION:2.0
PRODID:-//Svenska Judoförbundet - ECPv6.15.20//NONSGML v1.0//EN
CALSCALE:GREGORIAN
METHOD:PUBLISH
X-WR-CALNAME:Svenska Judoförbundet
X-ORIGINAL-URL:https://judo.se
X-WR-CALDESC:Händelser för Svenska Judoförbundet
REFRESH-INTERVAL;VALUE=DURATION:PT1H
X-Robots-Tag:noindex
X-PUBLISHED-TTL:PT1H
BEGIN:VTIMEZONE
TZID:Europe/Stockholm
BEGIN:DAYLIGHT
TZOFFSETFROM:+0100
TZOFFSETTO:+0200
TZNAME:CEST
DTSTART:20220327T010000
END:DAYLIGHT
BEGIN:STANDARD
TZOFFSETFROM:+0200
TZOFFSETTO:+0100
TZNAME:CET
DTSTART:20221030T010000
END:STANDARD
BEGIN:DAYLIGHT
TZOFFSETFROM:+0100
TZOFFSETTO:+0200
TZNAME:CEST
DTSTART:20230326T010000
END:DAYLIGHT
BEGIN:STANDARD
TZOFFSETFROM:+0200
TZOFFSETTO:+0100
TZNAME:CET
DTSTART:20231029T010000
END:STANDARD
BEGIN:DAYLIGHT
TZOFFSETFROM:+0100
TZOFFSETTO:+0200
TZNAME:CEST
DTSTART:20240331T010000
END:DAYLIGHT
BEGIN:STANDARD
TZOFFSETFROM:+0200
TZOFFSETTO:+0100
TZNAME:CET
DTSTART:20241027T010000
END:STANDARD
END:VTIMEZONE
BEGIN:VEVENT
DTSTART;TZID=Europe/Stockholm:20230603T100000
DTEND;TZID=Europe/Stockholm:20230604T150000
DTSTAMP:20260420T194119
CREATED:20230119T104902Z
LAST-MODIFIED:20230505T135543Z
UID:12949-1685786400-1685890800@judo.se
SUMMARY:Katakurs\, Kristinehamn
DESCRIPTION:﻿
URL:https://judo.se/event/katakurs-kristinehamn/
LOCATION:Kristinehamns JK\, Fiskartorpsvägen 4\, Kristinehamn\, 681 54
CATEGORIES:Startsida,Utbildningar
END:VEVENT
BEGIN:VEVENT
DTSTART;TZID=Europe/Stockholm:20230610T080000
DTEND;TZID=Europe/Stockholm:20230611T150000
DTSTAMP:20260420T194119
CREATED:20230313T134414Z
LAST-MODIFIED:20230313T134414Z
UID:13335-1686384000-1686495600@judo.se
SUMMARY:Judo4Balance instruktörsutbildning\, Mölndal
DESCRIPTION:﻿
URL:https://judo.se/event/judo4balance-instruktorsutbildning-molndal/
LOCATION:IKVM\, Pinnharvsgatan 11\, Mölndal\, Sverige
CATEGORIES:Startsida,Utbildningar
END:VEVENT
END:VCALENDAR