BEGIN:VCALENDAR
VERSION:2.0
PRODID:-//Svenska Judoförbundet - ECPv6.15.20//NONSGML v1.0//EN
CALSCALE:GREGORIAN
METHOD:PUBLISH
X-ORIGINAL-URL:https://judo.se
X-WR-CALDESC:Händelser för Svenska Judoförbundet
REFRESH-INTERVAL;VALUE=DURATION:PT1H
X-Robots-Tag:noindex
X-PUBLISHED-TTL:PT1H
BEGIN:VTIMEZONE
TZID:Europe/Stockholm
BEGIN:DAYLIGHT
TZOFFSETFROM:+0100
TZOFFSETTO:+0200
TZNAME:CEST
DTSTART:20210328T010000
END:DAYLIGHT
BEGIN:STANDARD
TZOFFSETFROM:+0200
TZOFFSETTO:+0100
TZNAME:CET
DTSTART:20211031T010000
END:STANDARD
BEGIN:DAYLIGHT
TZOFFSETFROM:+0100
TZOFFSETTO:+0200
TZNAME:CEST
DTSTART:20220327T010000
END:DAYLIGHT
BEGIN:STANDARD
TZOFFSETFROM:+0200
TZOFFSETTO:+0100
TZNAME:CET
DTSTART:20221030T010000
END:STANDARD
BEGIN:DAYLIGHT
TZOFFSETFROM:+0100
TZOFFSETTO:+0200
TZNAME:CEST
DTSTART:20230326T010000
END:DAYLIGHT
BEGIN:STANDARD
TZOFFSETFROM:+0200
TZOFFSETTO:+0100
TZNAME:CET
DTSTART:20231029T010000
END:STANDARD
END:VTIMEZONE
BEGIN:VEVENT
DTSTART;TZID=Europe/Stockholm:20220903T080000
DTEND;TZID=Europe/Stockholm:20220904T160000
DTSTAMP:20260423T140804
CREATED:20220103T050000Z
LAST-MODIFIED:20220614T081857Z
UID:10623-1662192000-1662307200@judo.se
SUMMARY:Riksfortbildning\, Lindesberg
DESCRIPTION:﻿
URL:https://judo.se/event/riksfortbildning-lindesberg-4/
LOCATION:Lindesberg Arena\, Nyborgsgatan 1\, Lindesberg\, Sverige
CATEGORIES:Startsida,Utbildningar
ORGANIZER;CN="Svenska Judof%C3%B6rbundet":MAILTO:info@judo.se
END:VEVENT
BEGIN:VEVENT
DTSTART;TZID=Europe/Stockholm:20220904T180000
DTEND;TZID=Europe/Stockholm:20220904T200000
DTSTAMP:20260423T140804
CREATED:20220822T121746Z
LAST-MODIFIED:20220822T121746Z
UID:11940-1662314400-1662321600@judo.se
SUMMARY:Digital fortbildning\, nya tävlingsregler
DESCRIPTION:﻿
URL:https://judo.se/event/digital-fortbildning-nya-tavlingsregler/
LOCATION:Digitalt via zoom
CATEGORIES:Startsida,Utbildningar
ORGANIZER;CN="Domarutskottet":MAILTO:du@judo.se
END:VEVENT
BEGIN:VEVENT
DTSTART;TZID=Europe/Stockholm:20220910T083000
DTEND;TZID=Europe/Stockholm:20220910T180000
DTSTAMP:20260423T140804
CREATED:20220810T122906Z
LAST-MODIFIED:20220810T122906Z
UID:11825-1662798600-1662832800@judo.se
SUMMARY:Regelkurs\, Skurup
DESCRIPTION:﻿
URL:https://judo.se/event/regelkurs-skurup/
LOCATION:Wemmenhögs Budoförening\, Vaktgatan\, Skurup\, 274 34\, Sverige
CATEGORIES:Startsida,Utbildningar
ORGANIZER;CN="Wemmenh%C3%B6gs Budof%C3%B6rening":MAILTO:judo@wemmenhogsbudo.se
END:VEVENT
BEGIN:VEVENT
DTSTART;TZID=Europe/Stockholm:20220910T090000
DTEND;TZID=Europe/Stockholm:20220911T170000
DTSTAMP:20260423T140804
CREATED:20220811T100600Z
LAST-MODIFIED:20220811T100600Z
UID:11829-1662800400-1662915600@judo.se
SUMMARY:Sjukvårdsutbildning nivå 1 & 2 + HLR\, Trollhättan
DESCRIPTION:﻿
URL:https://judo.se/event/sjukvardsutbildning-niva-1-2-hlr-trollhattan/
LOCATION:Arena Älvhögsborgs\, Trollhättan\, Storgatan 1\, Trollhättan\, Väst\, 46131\, Sweden
CATEGORIES:Startsida,Utbildningar
ORGANIZER;CN="Trollh%C3%A4ttans Judoklubb":MAILTO:trollhattansjk@gmail.com
END:VEVENT
BEGIN:VEVENT
DTSTART;TZID=Europe/Stockholm:20220917T100000
DTEND;TZID=Europe/Stockholm:20220918T153000
DTSTAMP:20260423T140804
CREATED:20220808T102029Z
LAST-MODIFIED:20220808T102029Z
UID:11811-1663408800-1663515000@judo.se
SUMMARY:Katakurs med Sensei Iura\, Kristianstad
DESCRIPTION:﻿
URL:https://judo.se/event/katakurs-med-sensei-iura-kristianstad/
LOCATION:Kristianstads Judoklubb\, Björkhemsvägen 7a\, Kristianstad\, 29154\, Sverige
CATEGORIES:Startsida,Utbildningar
ORGANIZER;CN="Kristianstads Judoklubb":MAILTO:info@kristianstadjudo.se
END:VEVENT
BEGIN:VEVENT
DTSTART;VALUE=DATE:20220918
DTEND;VALUE=DATE:20220919
DTSTAMP:20260423T140804
CREATED:20220717T200000Z
LAST-MODIFIED:20220829T073754Z
UID:11529-1663459200-1663545599@judo.se
SUMMARY:Tävlingsledarutbildning\, Sollentuna
DESCRIPTION:﻿
URL:https://judo.se/event/tavlingsledarutbildning-2/
LOCATION:Scandic Star Sollentuna\, Aniaraplatsen 8\, Sollentuna\, 191 21\, Sverige
CATEGORIES:Möten och Konferenser,Startsida,Utbildningar
END:VEVENT
BEGIN:VEVENT
DTSTART;TZID=Europe/Stockholm:20220925T083000
DTEND;TZID=Europe/Stockholm:20220925T180000
DTSTAMP:20260423T140804
CREATED:20220907T080149Z
LAST-MODIFIED:20220907T080149Z
UID:12032-1664094600-1664128800@judo.se
SUMMARY:Regelkurs\, Varberg
DESCRIPTION:﻿
URL:https://judo.se/event/regelkurs-varberg-2/
LOCATION:Varbergs Judoklubb\, Danska vägen 5\, Varberg\, 432 51\, Sverige
CATEGORIES:Startsida,Utbildningar
ORGANIZER;CN="Varbergs Judoklubb":MAILTO:info@vjk.nu
END:VEVENT
END:VCALENDAR