BEGIN:VCALENDAR
VERSION:2.0
PRODID:-//Svenska Judoförbundet - ECPv6.15.20//NONSGML v1.0//EN
CALSCALE:GREGORIAN
METHOD:PUBLISH
X-WR-CALNAME:Svenska Judoförbundet
X-ORIGINAL-URL:https://judo.se
X-WR-CALDESC:Händelser för Svenska Judoförbundet
REFRESH-INTERVAL;VALUE=DURATION:PT1H
X-Robots-Tag:noindex
X-PUBLISHED-TTL:PT1H
BEGIN:VTIMEZONE
TZID:Europe/Stockholm
BEGIN:DAYLIGHT
TZOFFSETFROM:+0100
TZOFFSETTO:+0200
TZNAME:CEST
DTSTART:20200329T010000
END:DAYLIGHT
BEGIN:STANDARD
TZOFFSETFROM:+0200
TZOFFSETTO:+0100
TZNAME:CET
DTSTART:20201025T010000
END:STANDARD
BEGIN:DAYLIGHT
TZOFFSETFROM:+0100
TZOFFSETTO:+0200
TZNAME:CEST
DTSTART:20210328T010000
END:DAYLIGHT
BEGIN:STANDARD
TZOFFSETFROM:+0200
TZOFFSETTO:+0100
TZNAME:CET
DTSTART:20211031T010000
END:STANDARD
BEGIN:DAYLIGHT
TZOFFSETFROM:+0100
TZOFFSETTO:+0200
TZNAME:CEST
DTSTART:20220327T010000
END:DAYLIGHT
BEGIN:STANDARD
TZOFFSETFROM:+0200
TZOFFSETTO:+0100
TZNAME:CET
DTSTART:20221030T010000
END:STANDARD
END:VTIMEZONE
BEGIN:VEVENT
DTSTART;VALUE=DATE:20211210
DTEND;VALUE=DATE:20211213
DTSTAMP:20260424T022415
CREATED:20211209T220000Z
LAST-MODIFIED:20211111T121931Z
UID:10519-1639094400-1639353599@judo.se
SUMMARY:Läger och fortbildning\, parajudo
DESCRIPTION:
URL:https://judo.se/event/lager-och-fortbildning-parajudo/
LOCATION:Frölunda Judoklubb\, Klubbvägen 8\, Västra Frölunda\, 421 47\, Sverige
CATEGORIES:Läger,Startsida,Utbildningar
END:VEVENT
BEGIN:VEVENT
DTSTART;TZID=Europe/Stockholm:20211210T180000
DTEND;TZID=Europe/Stockholm:20211210T203000
DTSTAMP:20260424T022415
CREATED:20211007T150000Z
LAST-MODIFIED:20211008T073110Z
UID:10374-1639159200-1639168200@judo.se
SUMMARY:Zonfortbildning för domare\, Sundsvall
DESCRIPTION:﻿
URL:https://judo.se/event/zonfortbildning-for-domare-sundsvall/
LOCATION:Judo Club Sundsvall\, Björneborgsgatan 25\, Sundsvall\, 854 60
CATEGORIES:Utbildningar
ORGANIZER;CN="Judo Sundsvall":MAILTO:info@judosundsvall.com
END:VEVENT
END:VCALENDAR