BEGIN:VCALENDAR
VERSION:2.0
PRODID:-//Svenska Judoförbundet - ECPv6.15.20//NONSGML v1.0//EN
CALSCALE:GREGORIAN
METHOD:PUBLISH
X-WR-CALNAME:Svenska Judoförbundet
X-ORIGINAL-URL:https://judo.se
X-WR-CALDESC:Händelser för Svenska Judoförbundet
REFRESH-INTERVAL;VALUE=DURATION:PT1H
X-Robots-Tag:noindex
X-PUBLISHED-TTL:PT1H
BEGIN:VTIMEZONE
TZID:Europe/Stockholm
BEGIN:DAYLIGHT
TZOFFSETFROM:+0100
TZOFFSETTO:+0200
TZNAME:CEST
DTSTART:20200329T010000
END:DAYLIGHT
BEGIN:STANDARD
TZOFFSETFROM:+0200
TZOFFSETTO:+0100
TZNAME:CET
DTSTART:20201025T010000
END:STANDARD
BEGIN:DAYLIGHT
TZOFFSETFROM:+0100
TZOFFSETTO:+0200
TZNAME:CEST
DTSTART:20210328T010000
END:DAYLIGHT
BEGIN:STANDARD
TZOFFSETFROM:+0200
TZOFFSETTO:+0100
TZNAME:CET
DTSTART:20211031T010000
END:STANDARD
BEGIN:DAYLIGHT
TZOFFSETFROM:+0100
TZOFFSETTO:+0200
TZNAME:CEST
DTSTART:20220327T010000
END:DAYLIGHT
BEGIN:STANDARD
TZOFFSETFROM:+0200
TZOFFSETTO:+0100
TZNAME:CET
DTSTART:20221030T010000
END:STANDARD
END:VTIMEZONE
BEGIN:VEVENT
DTSTART;TZID=Europe/Stockholm:20211119T180000
DTEND;TZID=Europe/Stockholm:20211121T130000
DTSTAMP:20260424T034848
CREATED:20211005T135938Z
LAST-MODIFIED:20211005T135938Z
UID:10368-1637344800-1637499600@judo.se
SUMMARY:Riksfortbildning Anpassad judo
DESCRIPTION:﻿
URL:https://judo.se/event/riksfortbildning-anpassad-judo/
LOCATION:Torvalla Sporthall\, Dalarövägen 66\, Haninge\, 136 45\, Sverige
CATEGORIES:Startsida,Utbildningar
ORGANIZER;CN="IK S%C3%B6dra Judo":MAILTO:tavlingar@iksodra.com
END:VEVENT
BEGIN:VEVENT
DTSTART;TZID=Europe/Stockholm:20211120T080000
DTEND;TZID=Europe/Stockholm:20211121T160000
DTSTAMP:20260424T034848
CREATED:20211020T050000Z
LAST-MODIFIED:20211025T095139Z
UID:10470-1637395200-1637510400@judo.se
SUMMARY:Digi-fysisk Judo4Balance-instruktörsutbildning
DESCRIPTION:﻿
URL:https://judo.se/event/digi-fysisk-judo4balance-insstruktorsutbildning/
LOCATION:Stockholm\, Stockholm\, Sverige
CATEGORIES:Startsida,Utbildningar
END:VEVENT
END:VCALENDAR