BEGIN:VCALENDAR
VERSION:2.0
PRODID:-//Svenska Judoförbundet - ECPv6.15.20//NONSGML v1.0//EN
CALSCALE:GREGORIAN
METHOD:PUBLISH
X-WR-CALNAME:Svenska Judoförbundet
X-ORIGINAL-URL:https://judo.se
X-WR-CALDESC:Händelser för Svenska Judoförbundet
REFRESH-INTERVAL;VALUE=DURATION:PT1H
X-Robots-Tag:noindex
X-PUBLISHED-TTL:PT1H
BEGIN:VTIMEZONE
TZID:Europe/Stockholm
BEGIN:DAYLIGHT
TZOFFSETFROM:+0100
TZOFFSETTO:+0200
TZNAME:CEST
DTSTART:20250330T010000
END:DAYLIGHT
BEGIN:STANDARD
TZOFFSETFROM:+0200
TZOFFSETTO:+0100
TZNAME:CET
DTSTART:20251026T010000
END:STANDARD
BEGIN:DAYLIGHT
TZOFFSETFROM:+0100
TZOFFSETTO:+0200
TZNAME:CEST
DTSTART:20260329T010000
END:DAYLIGHT
BEGIN:STANDARD
TZOFFSETFROM:+0200
TZOFFSETTO:+0100
TZNAME:CET
DTSTART:20261025T010000
END:STANDARD
BEGIN:DAYLIGHT
TZOFFSETFROM:+0100
TZOFFSETTO:+0200
TZNAME:CEST
DTSTART:20270328T010000
END:DAYLIGHT
BEGIN:STANDARD
TZOFFSETFROM:+0200
TZOFFSETTO:+0100
TZNAME:CET
DTSTART:20271031T010000
END:STANDARD
END:VTIMEZONE
BEGIN:VEVENT
DTSTART;VALUE=DATE:20260228
DTEND;VALUE=DATE:20260302
DTSTAMP:20260420T042051
CREATED:20251227T161044Z
LAST-MODIFIED:20251227T161044Z
UID:19089-1772236800-1772409599@judo.se
SUMMARY:Assisterande klubbtränarutbildning\, Trollhättan
DESCRIPTION:Info hittar ni här.
URL:https://judo.se/event/assisterande-klubbtranarutbildning-trollhattan/
LOCATION:Arena Älvhögsborgs\, Trollhättan\, Storgatan 1\, Trollhättan\, Väst\, 46131\, Sweden
CATEGORIES:Startsida,Utbildningar
END:VEVENT
BEGIN:VEVENT
DTSTART;VALUE=DATE:20260301
DTEND;VALUE=DATE:20260302
DTSTAMP:20260420T042051
CREATED:20251218T102316Z
LAST-MODIFIED:20251218T102316Z
UID:19060-1772323200-1772409599@judo.se
SUMMARY:Zongradering\, Borlänge
DESCRIPTION:Inbjudan hittar du här.
URL:https://judo.se/event/zongradering-borlange-5/
LOCATION:Borlänge Judo Club\, Teknikergatan 1\, Borlänge\, 78170\, Sverige
CATEGORIES:Graderingar,Startsida
ORGANIZER;CN="Borl%C3%A4nge Judo Club":MAILTO:info@borlangejudo.se
END:VEVENT
BEGIN:VEVENT
DTSTART;VALUE=DATE:20260301
DTEND;VALUE=DATE:20260302
DTSTAMP:20260420T042051
CREATED:20260218T074724Z
LAST-MODIFIED:20260218T074724Z
UID:19371-1772323200-1772409599@judo.se
SUMMARY:BohusDal Cup 1 2026
DESCRIPTION:Nivå C. \nFör klubbar i BDJF. Tävlande från klubbar från andra distrikt är välkomna i mån av plats. \nKlubbar i Bohuslän och Dal distriktet kan samla poäng under året. \nAnmälan via Smoothcomp. \n 
URL:https://judo.se/event/bohusdal-cup-1-2026/
LOCATION:Rimnershallen\, Rimnersgatan 13\, Uddevalla\, 451 52\, Sverige
CATEGORIES:Startsida,Tävlingar i Väst
END:VEVENT
BEGIN:VEVENT
DTSTART;VALUE=DATE:20260307
DTEND;VALUE=DATE:20260308
DTSTAMP:20260420T042051
CREATED:20250109T120756Z
LAST-MODIFIED:20251203T105828Z
UID:17150-1772841600-1772927999@judo.se
SUMMARY:Förbundsmötet 2026\, Göteborg
DESCRIPTION:Mer information om förbundsmötet 2026 hittar du här.
URL:https://judo.se/event/forbundsmotet-2026/
LOCATION:Göteborgs Byggmästareförening\, Ekmansgatan 1\, Göteborg\, 411 32
CATEGORIES:Möten och Konferenser,Startsida
END:VEVENT
BEGIN:VEVENT
DTSTART;VALUE=DATE:20260314
DTEND;VALUE=DATE:20260315
DTSTAMP:20260420T042051
CREATED:20250310T092123Z
LAST-MODIFIED:20251120T124448Z
UID:17765-1773446400-1773532799@judo.se
SUMMARY:Judo Sundsvalls Cup 2026
DESCRIPTION:Nivå: B/C. \nInbjudan ligger i Smoothcomp.  \n  \n 
URL:https://judo.se/event/judo-sundsvalls-cup-2026/
LOCATION:Judo Club Sundsvall\, Björneborgsgatan 25\, Sundsvall\, 854 60
CATEGORIES:Startsida,Tävlingar,Tävlingar i Norr
ORGANIZER;CN="Judo Sundsvall":MAILTO:info@judosundsvall.com
END:VEVENT
BEGIN:VEVENT
DTSTART;VALUE=DATE:20260314
DTEND;VALUE=DATE:20260315
DTSTAMP:20260420T042051
CREATED:20250505T093224Z
LAST-MODIFIED:20260109T121619Z
UID:18028-1773446400-1773532799@judo.se
SUMMARY:Knislinge Judo Open 2026
DESCRIPTION:Tävling för alla kategorier från 4 kyu. \nAnmälan i Smoothcomp.
URL:https://judo.se/event/knislinge-judo-open-2026/
LOCATION:Knislinge Judoklubb
CATEGORIES:Startsida,Tävlingar i Syd
END:VEVENT
BEGIN:VEVENT
DTSTART;VALUE=DATE:20260315
DTEND;VALUE=DATE:20260316
DTSTAMP:20260420T042051
CREATED:20250505T093600Z
LAST-MODIFIED:20250505T093600Z
UID:18031-1773532800-1773619199@judo.se
SUMMARY:Skåneserien 1 i Knislinge 2026
DESCRIPTION:Nivå C. \nMer info och inbjudan kommer i SmoothComp.
URL:https://judo.se/event/skaneserien-1-i-knislinge-2026/
LOCATION:Snapphanehallen\, Sigfrids väg 26\, Knislinge\, 289 31
CATEGORIES:Startsida,Tävlingar i Syd
END:VEVENT
BEGIN:VEVENT
DTSTART;VALUE=DATE:20260321
DTEND;VALUE=DATE:20260322
DTSTAMP:20260420T042051
CREATED:20251112T094801Z
LAST-MODIFIED:20251112T094801Z
UID:18796-1774051200-1774137599@judo.se
SUMMARY:Solnakampen VT 26
DESCRIPTION:Nivå C. \nInbjudan kommer i Smoothcomp.
URL:https://judo.se/event/solnakampen-vt-26/
LOCATION:Solna Judoklubb\, Ankdammsgatan 23\, Solna\, 171 67
CATEGORIES:Startsida,Tävlingar i Öst
ORGANIZER;CN="Solna Judoklubb":MAILTO:info@solnajudo.se
END:VEVENT
BEGIN:VEVENT
DTSTART;VALUE=DATE:20260321
DTEND;VALUE=DATE:20260322
DTSTAMP:20260420T042051
CREATED:20260109T113200Z
LAST-MODIFIED:20260109T113200Z
UID:19121-1774051200-1774137599@judo.se
SUMMARY:Västgötaserien 2 2026 Lidköping
DESCRIPTION:Nivå C \nEn nybörjartävling upp till orange bälte där man samlar poäng under hela årets tävlingar. \nFör klubbar i VJF. Tävlande från klubbar från andra distrikt är välkomna i mån av plats. \nInbjudan ligger i Smoothcomp
URL:https://judo.se/event/vastgotaserien-2-2026-lidkoping/
LOCATION:Idrottenshus\, Lidköping\, Hallgatan 1\, Lidköping\, Sverige
CATEGORIES:Startsida,Tävlingar,Tävlingar i Väst
END:VEVENT
BEGIN:VEVENT
DTSTART;TZID=Europe/Stockholm:20260321T083000
DTEND;TZID=Europe/Stockholm:20260322T163000
DTSTAMP:20260420T042051
CREATED:20260206T203951Z
LAST-MODIFIED:20260317T090631Z
UID:19332-1774081800-1774197000@judo.se
SUMMARY:(INSTÄLLD) Step By Step - Steg 1 (åldersanpassad träning för u9-u11)\, Karlstad
DESCRIPTION:OBS! Utbildningen är inställd!
URL:https://judo.se/event/step-by-step-steg-1-aldersanpassad-traning-for-u9-u11-karlstad/
LOCATION:Karlstad JK\, Orrholmsgatan 4\, Karlstad\, 652 15
CATEGORIES:Startsida,Utbildningar
END:VEVENT
BEGIN:VEVENT
DTSTART;TZID=Europe/Stockholm:20260322T083000
DTEND;TZID=Europe/Stockholm:20260322T163000
DTSTAMP:20260420T042051
CREATED:20260226T084615Z
LAST-MODIFIED:20260226T084700Z
UID:19442-1774168200-1774197000@judo.se
SUMMARY:Regelkurs\, Hisings Backa
DESCRIPTION:Info hittar ni här.
URL:https://judo.se/event/regelkurs-hisings-backa/
LOCATION:JK Budo\, Gamla Lillhagsvägen 128\, Hisings Backa\, 42249
CATEGORIES:Startsida,Utbildningar
ORGANIZER;CN="Arbetsgruppen Domare":MAILTO:niklas.strandberg@judo.se
END:VEVENT
BEGIN:VEVENT
DTSTART;VALUE=DATE:20260328
DTEND;VALUE=DATE:20260329
DTSTAMP:20260420T042051
CREATED:20250505T092900Z
LAST-MODIFIED:20250505T092900Z
UID:18025-1774656000-1774742399@judo.se
SUMMARY:Sörmlandsträffen 2026
DESCRIPTION:Tävling U15 till Veteran \nInbjudan kommer i Smoothcomp. \nÄven läger på söndagen 29/3 \n 
URL:https://judo.se/event/sormlandstraffen-2026/
LOCATION:Medley Ramdalen Sportcenter\, Torpsvägen 1C\, Oxelösund\, 613 35\, Sverige
CATEGORIES:Startsida,Tävlingar,Tävlingar i Öst
ORGANIZER;CN="Oxel%C3%B6sunds Judoklubb":MAILTO:info@ojk.nu
END:VEVENT
BEGIN:VEVENT
DTSTART;VALUE=DATE:20260328
DTEND;VALUE=DATE:20260330
DTSTAMP:20260420T042051
CREATED:20250505T093802Z
LAST-MODIFIED:20250505T093802Z
UID:18035-1774656000-1774828799@judo.se
SUMMARY:GO Cup 1 & Läger\, 2026
DESCRIPTION:Nivå C. \nSöndagens läger är för alla bälten. \nAnmälan via Smoothcomp. \n 
URL:https://judo.se/event/go-cup-1-lager-2026/
LOCATION:Stenungsund arena\, Nösnäsvägen 2\, Stenungsund\, 444 47\, Sverige
CATEGORIES:Startsida,Tävlingar i Väst
ORGANIZER;CN="Stenungsunds JK":MAILTO:tavling@stenungsundsjudoklubb.com
END:VEVENT
BEGIN:VEVENT
DTSTART;TZID=Europe/Stockholm:20260328T110000
DTEND;TZID=Europe/Stockholm:20260328T180000
DTSTAMP:20260420T042051
CREATED:20260205T133448Z
LAST-MODIFIED:20260223T134741Z
UID:19300-1774695600-1774720800@judo.se
SUMMARY:Ju No Kata - Grundkurs
DESCRIPTION:Info hittar du här. \nLänk till anmälan hittar du här.
URL:https://judo.se/event/ju-no-kata-grundkurs/
LOCATION:IK Södras Dojo\, Skarpnäcks Gårdsväg 10\, Skarpnäck\, 12831\, Sverige
CATEGORIES:Läger,Startsida,Utbildningar
ORGANIZER;CN="IK S%C3%B6dra Judo":MAILTO:tavlingar@iksodra.com
END:VEVENT
BEGIN:VEVENT
DTSTART;TZID=Europe/Stockholm:20260329T090000
DTEND;TZID=Europe/Stockholm:20260329T160000
DTSTAMP:20260420T042051
CREATED:20260205T140240Z
LAST-MODIFIED:20260223T192606Z
UID:19307-1774774800-1774800000@judo.se
SUMMARY:Ju No Kata - Fördjupningskurs
DESCRIPTION:Info hittar du här. \nLänk till anmälan hittar du här
URL:https://judo.se/event/ju-no-kata-fordjupningskurs/
LOCATION:IK Södras Dojo\, Skarpnäcks Gårdsväg 10\, Skarpnäck\, 12831\, Sverige
CATEGORIES:Läger,Startsida,Utbildningar
ORGANIZER;CN="IK S%C3%B6dra Judo":MAILTO:tavlingar@iksodra.com
END:VEVENT
END:VCALENDAR