BEGIN:VCALENDAR
VERSION:2.0
PRODID:-//Svenska Judoförbundet - ECPv6.15.20//NONSGML v1.0//EN
CALSCALE:GREGORIAN
METHOD:PUBLISH
X-ORIGINAL-URL:https://judo.se
X-WR-CALDESC:Händelser för Svenska Judoförbundet
REFRESH-INTERVAL;VALUE=DURATION:PT1H
X-Robots-Tag:noindex
X-PUBLISHED-TTL:PT1H
BEGIN:VTIMEZONE
TZID:Europe/Stockholm
BEGIN:DAYLIGHT
TZOFFSETFROM:+0100
TZOFFSETTO:+0200
TZNAME:CEST
DTSTART:20230326T010000
END:DAYLIGHT
BEGIN:STANDARD
TZOFFSETFROM:+0200
TZOFFSETTO:+0100
TZNAME:CET
DTSTART:20231029T010000
END:STANDARD
BEGIN:DAYLIGHT
TZOFFSETFROM:+0100
TZOFFSETTO:+0200
TZNAME:CEST
DTSTART:20240331T010000
END:DAYLIGHT
BEGIN:STANDARD
TZOFFSETFROM:+0200
TZOFFSETTO:+0100
TZNAME:CET
DTSTART:20241027T010000
END:STANDARD
BEGIN:DAYLIGHT
TZOFFSETFROM:+0100
TZOFFSETTO:+0200
TZNAME:CEST
DTSTART:20250330T010000
END:DAYLIGHT
BEGIN:STANDARD
TZOFFSETFROM:+0200
TZOFFSETTO:+0100
TZNAME:CET
DTSTART:20251026T010000
END:STANDARD
END:VTIMEZONE
BEGIN:VEVENT
DTSTART;TZID=Europe/Stockholm:20240601T090000
DTEND;TZID=Europe/Stockholm:20240602T150000
DTSTAMP:20260420T015641
CREATED:20240416T090512Z
LAST-MODIFIED:20240502T145505Z
UID:15678-1717232400-1717340400@judo.se
SUMMARY:Metodikkurs i kata\, Borlänge
DESCRIPTION:﻿
URL:https://judo.se/event/katakurs-borlange/
LOCATION:Borlänge Judo Club\, Teknikergatan 1\, Borlänge\, 78170\, Sverige
CATEGORIES:Startsida,Utbildningar
ORGANIZER;CN="Borl%C3%A4nge Judo Club":MAILTO:info@borlangejudo.se
END:VEVENT
BEGIN:VEVENT
DTSTART;VALUE=DATE:20240606
DTEND;VALUE=DATE:20240610
DTSTAMP:20260420T015641
CREATED:20240419T140341Z
LAST-MODIFIED:20240629T140224Z
UID:15691-1717632000-1717977599@judo.se
SUMMARY:Veteran-EM 2024
DESCRIPTION:Information om tävlingen och vad som krävs för att delta hittar du i inbjudan (outlines) i kalendern på eju.se: https://www.eju.net/calendar \n\n\n\nObservera att anmälningstiderna för svenska deltagare är andra än de i inbjudan. Detta för att personalen hos Svenska Judoförbundet ska ha tid att sammanställa all information i god tid innan arrangörens deadline. \n\n\n\nSå anmäler du dig: \n\n\n\nAnmälan till veteran-EM görs till Kristin Johansson\, kristin.johansson@judo.se. \n\n\n\nDeadlines för anmälan till Kristin är: – 21 april för entry fee 150 €. – 16 maj för entry fee 200 €. – Vid senare anmälan än ovan är entry fee 250€ + förseningsavgift till Svenska Judoförbundet på 1000 sek. \n\n\n\nAnmälan skickas via mejl och ska innehålla: – Förnamn och efternamn – Klubb (så vi vet vart vi ska skicka fakturan för anmälningsavgiften) – Tävlingsklass (åldersklass + viktklass)\, eller ange coach om personen ska vara det – Om personen saknar Judobase-licens ska ”Formulär för registrering i Judobase 4.0” + foto enligt IJFs riktlinjer bifogas i mejlet. Dessa dokument finns här (OBS! kom ihåg att ladda ner dokumentet till egen dator. Fyll inte i direkt i mappen i SharePoint): https://svenskjudo.sharepoint.com/:f:/s/intranat-Dokumentbanken/EsMh8VFPmJhBqiiSbpSJfZgBLVwk-bkt3luAsrTeeGChNA?e=OefuHO \n\n\n\nVarje person ansvarar själv för att boka boende\, flyg\, transfer etc. Kristin anmäler endast tävlande och coacher till tävlingen. \n\n\n\nTill tävlingen ska läkarintyg skickas in. Hur och vem som ska ladda upp dessa återkommer vi med. Alla deltagare behöver dock själva skaffa intyget. Läs mer om det inbjudan. \n\n\n\nFör frågor om anmälan: Kristin.johansson@judo.se
URL:https://judo.se/event/veteran-em-2024/
CATEGORIES:Startsida,Tävlingar,Veteran
END:VEVENT
BEGIN:VEVENT
DTSTART;TZID=Europe/Stockholm:20240608T083000
DTEND;TZID=Europe/Stockholm:20240609T163000
DTSTAMP:20260420T015641
CREATED:20231207T133247Z
LAST-MODIFIED:20240320T102128Z
UID:14954-1717835400-1717950600@judo.se
SUMMARY:Judo4Balance Riksfortbildning\, Göteborg
DESCRIPTION:﻿
URL:https://judo.se/event/judo4balance-riksfortbildning-goteborg-2/
LOCATION:IKVM\, Pinnharvsgatan 11\, Mölndal\, Sverige
CATEGORIES:Startsida,Utbildningar
ORGANIZER;CN="IKVM":MAILTO:malin.nordin@judo.se
END:VEVENT
BEGIN:VEVENT
DTSTART;VALUE=DATE:20240613
DTEND;VALUE=DATE:20240617
DTSTAMP:20260420T015641
CREATED:20231110T151451Z
LAST-MODIFIED:20240416T143503Z
UID:14754-1718236800-1718582399@judo.se
SUMMARY:Landslagets sommarläger\, Lindesberg\, 2024
DESCRIPTION:﻿
URL:https://judo.se/event/utvecklingslager-2-lindesberg-2024/
LOCATION:Lindesberg Arena\, Nyborgsgatan 1\, Lindesberg\, Sverige
CATEGORIES:Läger,Startsida
ORGANIZER;CN="Svenska Judof%C3%B6rbundet":MAILTO:info@judo.se
END:VEVENT
BEGIN:VEVENT
DTSTART;TZID=Europe/Stockholm:20240615T100000
DTEND;TZID=Europe/Stockholm:20240615T170000
DTSTAMP:20260420T015641
CREATED:20240319T132824Z
LAST-MODIFIED:20240319T132824Z
UID:15594-1718445600-1718470800@judo.se
SUMMARY:Zongradering\, Helsingborg
DESCRIPTION:﻿
URL:https://judo.se/event/zongradering-helsingborg/
LOCATION:Helsingborgs Judoklubb\, Mellersta Stenbocksgatan 10\, Helsingborg\, 254 37
CATEGORIES:Graderingar,Startsida
ORGANIZER;CN="Helsingborgs Judoklubb":MAILTO:andersson.ohrling@gmail.com
END:VEVENT
BEGIN:VEVENT
DTSTART;TZID=Europe/Stockholm:20240616T083000
DTEND;TZID=Europe/Stockholm:20240616T163000
DTSTAMP:20260420T015641
CREATED:20240513T145117Z
LAST-MODIFIED:20240513T145117Z
UID:15834-1718526600-1718555400@judo.se
SUMMARY:Regelkurs\, Lund
DESCRIPTION:﻿
URL:https://judo.se/event/regelkurs-lund/
LOCATION:LUGI JK\, Fasanvägen 2\, Lund\, 227 32
CATEGORIES:Startsida,Utbildningar
ORGANIZER;CN="Lugi Judoklubb":MAILTO:info@lugijudo.org
END:VEVENT
END:VCALENDAR