BEGIN:VCALENDAR
VERSION:2.0
PRODID:-//Svenska Judoförbundet - ECPv6.15.20//NONSGML v1.0//EN
CALSCALE:GREGORIAN
METHOD:PUBLISH
X-ORIGINAL-URL:https://judo.se
X-WR-CALDESC:Händelser för Svenska Judoförbundet
REFRESH-INTERVAL;VALUE=DURATION:PT1H
X-Robots-Tag:noindex
X-PUBLISHED-TTL:PT1H
BEGIN:VTIMEZONE
TZID:Europe/Stockholm
BEGIN:DAYLIGHT
TZOFFSETFROM:+0100
TZOFFSETTO:+0200
TZNAME:CEST
DTSTART:20230326T010000
END:DAYLIGHT
BEGIN:STANDARD
TZOFFSETFROM:+0200
TZOFFSETTO:+0100
TZNAME:CET
DTSTART:20231029T010000
END:STANDARD
BEGIN:DAYLIGHT
TZOFFSETFROM:+0100
TZOFFSETTO:+0200
TZNAME:CEST
DTSTART:20240331T010000
END:DAYLIGHT
BEGIN:STANDARD
TZOFFSETFROM:+0200
TZOFFSETTO:+0100
TZNAME:CET
DTSTART:20241027T010000
END:STANDARD
BEGIN:DAYLIGHT
TZOFFSETFROM:+0100
TZOFFSETTO:+0200
TZNAME:CEST
DTSTART:20250330T010000
END:DAYLIGHT
BEGIN:STANDARD
TZOFFSETFROM:+0200
TZOFFSETTO:+0100
TZNAME:CET
DTSTART:20251026T010000
END:STANDARD
END:VTIMEZONE
BEGIN:VEVENT
DTSTART;VALUE=DATE:20240203
DTEND;VALUE=DATE:20240205
DTSTAMP:20260420T195044
CREATED:20231002T141752Z
LAST-MODIFIED:20231103T095058Z
UID:14561-1706918400-1707091199@judo.se
SUMMARY:SM 2024
DESCRIPTION:Individuella SM för U18\, U21\, senior och veteran. \nInbjudan i Smoothcomp.
URL:https://judo.se/event/sm-2024/
LOCATION:Arena Älvhögsborgs\, Trollhättan\, Storgatan 1\, Trollhättan\, Väst\, 46131\, Sweden
CATEGORIES:Startsida,Tävlingar
END:VEVENT
BEGIN:VEVENT
DTSTART;VALUE=DATE:20240210
DTEND;VALUE=DATE:20240211
DTSTAMP:20260420T195044
CREATED:20231009T065706Z
LAST-MODIFIED:20231009T070332Z
UID:14579-1707523200-1707609599@judo.se
SUMMARY:Dalsland Open 2024
DESCRIPTION:Nivå C. \nInbjudan ligger i Smoothcomp.
URL:https://judo.se/event/dalsland-open-2024/
LOCATION:Rådahallen\, Bergsgatan 28\, Mellerud\, 464 30\, Sverige
CATEGORIES:Startsida,Tävlingar
ORGANIZER;CN="Kroppefj%C3%A4lls IF":MAILTO:info@kroppefjallsif.se
END:VEVENT
BEGIN:VEVENT
DTSTART;TZID=Europe/Stockholm:20240210T100000
DTEND;TZID=Europe/Stockholm:20240210T153000
DTSTAMP:20260420T195044
CREATED:20231215T140750Z
LAST-MODIFIED:20240119T111956Z
UID:15041-1707559200-1707579000@judo.se
SUMMARY:Domar/regelkurs\, Borlänge
DESCRIPTION:﻿
URL:https://judo.se/event/domarkurs-borlange/
LOCATION:Borlänge Judo Club\, Teknikergatan 1\, Borlänge\, 78170\, Sverige
CATEGORIES:Startsida,Utbildningar
ORGANIZER;CN="Borl%C3%A4nge Judo Club":MAILTO:info@borlangejudo.se
END:VEVENT
BEGIN:VEVENT
DTSTART;VALUE=DATE:20240217
DTEND;VALUE=DATE:20240219
DTSTAMP:20260420T195044
CREATED:20231207T091331Z
LAST-MODIFIED:20240112T155014Z
UID:14923-1708128000-1708300799@judo.se
SUMMARY:Assisterande klubbtränarutbildning\, Stockholm
DESCRIPTION:﻿
URL:https://judo.se/event/assisterande-klubbtranarutbildning-stockholm-4/
LOCATION:SPIF Judo\, Tellusborgsvägen 22\, Hägersten\, 126 32\, Sverige
CATEGORIES:Startsida,Utbildningar
END:VEVENT
BEGIN:VEVENT
DTSTART;TZID=Europe/Stockholm:20240220T190000
DTEND;TZID=Europe/Stockholm:20240220T200000
DTSTAMP:20260420T195044
CREATED:20240216T130211Z
LAST-MODIFIED:20240216T135759Z
UID:15392-1708455600-1708459200@judo.se
SUMMARY:Genomgång av U11-regler
DESCRIPTION:På riksdomarkonferensen fick Arbetsgruppen för domare i uppdrag att göra en tolkning av en del av tävlingsbestämmelserna (TB) – ”Särskilda bestämmelser vid tävling för barn under 11 år (U9 och U11)”. \nTolkningen är nu klar och kommer att skrivas in i TB. Tolkningen som gäller from 1 feb 2024 och ska användas på alla tävlingar i Sverige för U11 och U9. \nInbjudan till genomgång av reglerna\nDen 20 feb kl. 19.00-19.45 kommer Arbetsgruppen för domare att ha en genomgång av reglerna för de som är intresserade via teams. \nTryck på länken\, alt markera den högerklicka och välj öppna htps\, alt. kopiera och klistra in i webbsökningsrutan. \n\nhttps://teams.microsoft.com/l/meetup-join/19:meeting_ZTg0MjJlZjMtMGZjYi00OTQ4LWEyNGMtOGVmODI4ZjhlM2Ri@thread.v2/0?context=%7B%22Tid%22:%22cf5df9e6-05cf-4c69-add3-f13b9fbabbfa%22\,%22Oid%22:%229ecce81c-0a51-42a8-af58-e4ded8991064%22%7D\n\nMötes-ID: 354 470 850 820\nLösenord: yG6mUr \nKontakt: agd@judo.se
URL:https://judo.se/event/genomgang-av-u11-regler/
CATEGORIES:Möten och Konferenser,Startsida
END:VEVENT
BEGIN:VEVENT
DTSTART;TZID=Europe/Stockholm:20240223T190000
DTEND;TZID=Europe/Stockholm:20240225T123000
DTSTAMP:20260420T195044
CREATED:20231207T091755Z
LAST-MODIFIED:20240112T154816Z
UID:14927-1708714800-1708864200@judo.se
SUMMARY:Klubbtränarutbildning A-judo\, Stockholm
DESCRIPTION:﻿
URL:https://judo.se/event/klubbtranarutbildning-a-judo-stockholm/
LOCATION:Stockholm\, Stockholm\, Sverige
CATEGORIES:Special Needs/Parajudo,Startsida,Utbildningar
END:VEVENT
BEGIN:VEVENT
DTSTART;TZID=Europe/Stockholm:20240223T190000
DTEND;TZID=Europe/Stockholm:20240225T130000
DTSTAMP:20260420T195044
CREATED:20231207T091538Z
LAST-MODIFIED:20240124T105603Z
UID:14925-1708714800-1708866000@judo.se
SUMMARY:Referee seminar A-judo\, Stockholm
DESCRIPTION:﻿
URL:https://judo.se/event/referee-seminar-a-judo-stockholm/
LOCATION:Torvalla Sporthall\, Dalarövägen 66\, Haninge\, 136 45\, Sverige
CATEGORIES:Special Needs/Parajudo,Startsida,Utbildningar
END:VEVENT
BEGIN:VEVENT
DTSTART;VALUE=DATE:20240224
DTEND;VALUE=DATE:20240225
DTSTAMP:20260420T195044
CREATED:20240110T101653Z
LAST-MODIFIED:20240110T101653Z
UID:15163-1708732800-1708819199@judo.se
SUMMARY:Judits pokal 1\, 2024
DESCRIPTION:Länk till anmälan i Smoothcomp.
URL:https://judo.se/event/judits-pokal-1-2024/
LOCATION:Göteborgs Judoklubb\, Andra långgatan 48\, Göteborg\, Sverige
CATEGORIES:Startsida,Tävlingar
ORGANIZER;CN="G%C3%B6teborgs Judoklubb":MAILTO:info@gjk.se
END:VEVENT
END:VCALENDAR