BEGIN:VCALENDAR
VERSION:2.0
PRODID:-//Svenska Judoförbundet - ECPv6.15.20//NONSGML v1.0//EN
CALSCALE:GREGORIAN
METHOD:PUBLISH
X-ORIGINAL-URL:https://judo.se
X-WR-CALDESC:Händelser för Svenska Judoförbundet
REFRESH-INTERVAL;VALUE=DURATION:PT1H
X-Robots-Tag:noindex
X-PUBLISHED-TTL:PT1H
BEGIN:VTIMEZONE
TZID:Europe/Stockholm
BEGIN:DAYLIGHT
TZOFFSETFROM:+0100
TZOFFSETTO:+0200
TZNAME:CEST
DTSTART:20240331T010000
END:DAYLIGHT
BEGIN:STANDARD
TZOFFSETFROM:+0200
TZOFFSETTO:+0100
TZNAME:CET
DTSTART:20241027T010000
END:STANDARD
BEGIN:DAYLIGHT
TZOFFSETFROM:+0100
TZOFFSETTO:+0200
TZNAME:CEST
DTSTART:20250330T010000
END:DAYLIGHT
BEGIN:STANDARD
TZOFFSETFROM:+0200
TZOFFSETTO:+0100
TZNAME:CET
DTSTART:20251026T010000
END:STANDARD
BEGIN:DAYLIGHT
TZOFFSETFROM:+0100
TZOFFSETTO:+0200
TZNAME:CEST
DTSTART:20260329T010000
END:DAYLIGHT
BEGIN:STANDARD
TZOFFSETFROM:+0200
TZOFFSETTO:+0100
TZNAME:CET
DTSTART:20261025T010000
END:STANDARD
END:VTIMEZONE
BEGIN:VEVENT
DTSTART;TZID=Europe/Stockholm:20250104T100000
DTEND;TZID=Europe/Stockholm:20250104T160000
DTSTAMP:20260425T223610
CREATED:20241203T152129Z
LAST-MODIFIED:20241209T133657Z
UID:16949-1735984800-1736006400@judo.se
SUMMARY:Anpassad kampsportsdag
DESCRIPTION:Den 4 januari kl. 10-16 kommer vi\, tillsammans med Svenska Brottningsförbundet och Svenska Budo- och kampsportsförbundet\, att arrangera en inspirerande och utvecklande anpassad kampidrottsdag på Bosön. Här får deltagarna chansen att prova på judo tillsammans med andra kampidrotter och träffa nya vänner. Dagen är öppen för alla under 18 år som har en funktionsnedsättning\, t ex intellektuell funktionsnedsättning\, synnedsättning eller annan fysisk funktionsnedsättning.\n\n\nÄr du intresserad eller känner någon som är så scanna QR-koden i bilden\, så kommer ni direkt till anmälan.
URL:https://judo.se/event/anpassad-kampsportsdag/
CATEGORIES:Läger,Special Needs/Parajudo,Startsida
END:VEVENT
END:VCALENDAR