BEGIN:VCALENDAR
VERSION:2.0
PRODID:-//Svenska Judoförbundet - ECPv6.15.20//NONSGML v1.0//EN
CALSCALE:GREGORIAN
METHOD:PUBLISH
X-WR-CALNAME:Svenska Judoförbundet
X-ORIGINAL-URL:https://judo.se
X-WR-CALDESC:Händelser för Svenska Judoförbundet
REFRESH-INTERVAL;VALUE=DURATION:PT1H
X-Robots-Tag:noindex
X-PUBLISHED-TTL:PT1H
BEGIN:VTIMEZONE
TZID:Europe/Stockholm
BEGIN:DAYLIGHT
TZOFFSETFROM:+0100
TZOFFSETTO:+0200
TZNAME:CEST
DTSTART:20240331T010000
END:DAYLIGHT
BEGIN:STANDARD
TZOFFSETFROM:+0200
TZOFFSETTO:+0100
TZNAME:CET
DTSTART:20241027T010000
END:STANDARD
BEGIN:DAYLIGHT
TZOFFSETFROM:+0100
TZOFFSETTO:+0200
TZNAME:CEST
DTSTART:20250330T010000
END:DAYLIGHT
BEGIN:STANDARD
TZOFFSETFROM:+0200
TZOFFSETTO:+0100
TZNAME:CET
DTSTART:20251026T010000
END:STANDARD
BEGIN:DAYLIGHT
TZOFFSETFROM:+0100
TZOFFSETTO:+0200
TZNAME:CEST
DTSTART:20260329T010000
END:DAYLIGHT
BEGIN:STANDARD
TZOFFSETFROM:+0200
TZOFFSETTO:+0100
TZNAME:CET
DTSTART:20261025T010000
END:STANDARD
END:VTIMEZONE
BEGIN:VEVENT
DTSTART;VALUE=DATE:20251101
DTEND;VALUE=DATE:20251102
DTSTAMP:20260423T122232
CREATED:20250826T065536Z
LAST-MODIFIED:20250905T172602Z
UID:18421-1761955200-1762041599@judo.se
SUMMARY:Kime No Kata - Grundkurs
DESCRIPTION:Info hittar du här.
URL:https://judo.se/event/kime-no-kata-grundkurs/
LOCATION:Borlänge Judo Club\, Teknikergatan 1\, Borlänge\, 78170\, Sverige
CATEGORIES:Läger,Startsida,Utbildningar
ORGANIZER;CN="Borl%C3%A4nge Judo Club":MAILTO:info@borlangejudo.se
END:VEVENT
BEGIN:VEVENT
DTSTART;VALUE=DATE:20251102
DTEND;VALUE=DATE:20251103
DTSTAMP:20260423T122232
CREATED:20250826T065721Z
LAST-MODIFIED:20250905T102158Z
UID:18423-1762041600-1762127999@judo.se
SUMMARY:Katame No Kata - Fördjupningskurs
DESCRIPTION:Info hittar ni här.
URL:https://judo.se/event/katame-no-kata-fordjupningskurs/
LOCATION:Borlänge Judo Club\, Teknikergatan 1\, Borlänge\, 78170\, Sverige
CATEGORIES:Läger,Startsida,Utbildningar
ORGANIZER;CN="Borl%C3%A4nge Judo Club":MAILTO:info@borlangejudo.se
END:VEVENT
BEGIN:VEVENT
DTSTART;TZID=Europe/Stockholm:20251115T113000
DTEND;TZID=Europe/Stockholm:20251115T160000
DTSTAMP:20260423T122232
CREATED:20251006T134235Z
LAST-MODIFIED:20251006T134235Z
UID:18641-1763206200-1763222400@judo.se
SUMMARY:Teknikläger\, Göteborg
DESCRIPTION:Se info här.
URL:https://judo.se/event/tekniklager-goteborg/
LOCATION:Göteborgs Judoklubb\, Andra långgatan 48\, Göteborg\, Sverige
CATEGORIES:Läger,Startsida,Veteran
ORGANIZER;CN="G%C3%B6teborgs Judoklubb":MAILTO:info@gjk.se
END:VEVENT
BEGIN:VEVENT
DTSTART;VALUE=DATE:20251122
DTEND;VALUE=DATE:20251124
DTSTAMP:20260423T122232
CREATED:20250220T190336Z
LAST-MODIFIED:20250220T190336Z
UID:17614-1763769600-1763942399@judo.se
SUMMARY:Riksmästerskap för distriktslag 2025
DESCRIPTION:Nivå A. \nInbjudan kommer att publiceras i Smoothcomp. 
URL:https://judo.se/event/riksmasterskap-for-distriktslag-2025/
LOCATION:Lindesbergs Arena\, Nyborgsgatan 1\, Lindesberg\, 71134\, Sverige
CATEGORIES:Läger,Startsida,Tävlingar
ORGANIZER;CN="Fr%C3%B6vi Judoklubb":MAILTO:info@frovijudo.se
END:VEVENT
END:VCALENDAR