BEGIN:VCALENDAR
VERSION:2.0
PRODID:-//Svenska Judoförbundet - ECPv6.15.20//NONSGML v1.0//EN
CALSCALE:GREGORIAN
METHOD:PUBLISH
X-ORIGINAL-URL:https://judo.se
X-WR-CALDESC:Händelser för Svenska Judoförbundet
REFRESH-INTERVAL;VALUE=DURATION:PT1H
X-Robots-Tag:noindex
X-PUBLISHED-TTL:PT1H
BEGIN:VTIMEZONE
TZID:Europe/Stockholm
BEGIN:DAYLIGHT
TZOFFSETFROM:+0100
TZOFFSETTO:+0200
TZNAME:CEST
DTSTART:20160327T010000
END:DAYLIGHT
BEGIN:STANDARD
TZOFFSETFROM:+0200
TZOFFSETTO:+0100
TZNAME:CET
DTSTART:20161030T010000
END:STANDARD
BEGIN:DAYLIGHT
TZOFFSETFROM:+0100
TZOFFSETTO:+0200
TZNAME:CEST
DTSTART:20170326T010000
END:DAYLIGHT
BEGIN:STANDARD
TZOFFSETFROM:+0200
TZOFFSETTO:+0100
TZNAME:CET
DTSTART:20171029T010000
END:STANDARD
BEGIN:DAYLIGHT
TZOFFSETFROM:+0100
TZOFFSETTO:+0200
TZNAME:CEST
DTSTART:20180325T010000
END:DAYLIGHT
BEGIN:STANDARD
TZOFFSETFROM:+0200
TZOFFSETTO:+0100
TZNAME:CET
DTSTART:20181028T010000
END:STANDARD
BEGIN:DAYLIGHT
TZOFFSETFROM:+0100
TZOFFSETTO:+0200
TZNAME:CEST
DTSTART:20190331T010000
END:DAYLIGHT
BEGIN:STANDARD
TZOFFSETFROM:+0200
TZOFFSETTO:+0100
TZNAME:CET
DTSTART:20191027T010000
END:STANDARD
BEGIN:DAYLIGHT
TZOFFSETFROM:+0100
TZOFFSETTO:+0200
TZNAME:CEST
DTSTART:20200329T010000
END:DAYLIGHT
BEGIN:STANDARD
TZOFFSETFROM:+0200
TZOFFSETTO:+0100
TZNAME:CET
DTSTART:20201025T010000
END:STANDARD
BEGIN:DAYLIGHT
TZOFFSETFROM:+0100
TZOFFSETTO:+0200
TZNAME:CEST
DTSTART:20210328T010000
END:DAYLIGHT
BEGIN:STANDARD
TZOFFSETFROM:+0200
TZOFFSETTO:+0100
TZNAME:CET
DTSTART:20211031T010000
END:STANDARD
BEGIN:DAYLIGHT
TZOFFSETFROM:+0100
TZOFFSETTO:+0200
TZNAME:CEST
DTSTART:20220327T010000
END:DAYLIGHT
BEGIN:STANDARD
TZOFFSETFROM:+0200
TZOFFSETTO:+0100
TZNAME:CET
DTSTART:20221030T010000
END:STANDARD
BEGIN:DAYLIGHT
TZOFFSETFROM:+0100
TZOFFSETTO:+0200
TZNAME:CEST
DTSTART:20230326T010000
END:DAYLIGHT
BEGIN:STANDARD
TZOFFSETFROM:+0200
TZOFFSETTO:+0100
TZNAME:CET
DTSTART:20231029T010000
END:STANDARD
BEGIN:DAYLIGHT
TZOFFSETFROM:+0100
TZOFFSETTO:+0200
TZNAME:CEST
DTSTART:20240331T010000
END:DAYLIGHT
BEGIN:STANDARD
TZOFFSETFROM:+0200
TZOFFSETTO:+0100
TZNAME:CET
DTSTART:20241027T010000
END:STANDARD
END:VTIMEZONE
BEGIN:VEVENT
DTSTART;TZID=Europe/Stockholm:20230617T080000
DTEND;TZID=Europe/Stockholm:20230617T170000
DTSTAMP:20260423T075307
CREATED:20230313T132939Z
LAST-MODIFIED:20230313T132939Z
UID:13331-1686988800-1687021200@judo.se
SUMMARY:Zongradering\, Skurup
DESCRIPTION:﻿
URL:https://judo.se/event/zongradering-skurup-2/
LOCATION:Skurup Sparbank Arena\, Vaktgatan\, Skurup\, Sverige
CATEGORIES:Graderingar,Startsida
ORGANIZER;CN="Wemmenh%C3%B6gs Budof%C3%B6rening":MAILTO:judo@wemmenhogsbudo.se
END:VEVENT
BEGIN:VEVENT
DTSTART;TZID=Europe/Stockholm:20230423T090000
DTEND;TZID=Europe/Stockholm:20230423T170000
DTSTAMP:20260423T075307
CREATED:20230123T161019Z
LAST-MODIFIED:20230123T161019Z
UID:12957-1682240400-1682269200@judo.se
SUMMARY:Zongradering Varberg
DESCRIPTION:﻿
URL:https://judo.se/event/zongradering-varberg-2/
LOCATION:Varbergs Judoklubb\, Danska vägen 5\, Varberg\, 432 51\, Sverige
CATEGORIES:Graderingar,Startsida
ORGANIZER;CN="Varbergs Judoklubb":MAILTO:info@vjk.nu
END:VEVENT
BEGIN:VEVENT
DTSTART;TZID=Europe/Stockholm:20230305T100000
DTEND;TZID=Europe/Stockholm:20230305T170000
DTSTAMP:20260423T075307
CREATED:20221221T104122Z
LAST-MODIFIED:20221221T104122Z
UID:12828-1678010400-1678035600@judo.se
SUMMARY:Zongradering\, Borlänge
DESCRIPTION:
URL:https://judo.se/event/zongradering-borlange-4/
LOCATION:Borlänge Judo Club\, Teknikergatan 1\, Borlänge\, 78170\, Sverige
CATEGORIES:Graderingar,Startsida
ORGANIZER;CN="Borl%C3%A4nge Judo Club":MAILTO:info@borlangejudo.se
END:VEVENT
BEGIN:VEVENT
DTSTART;TZID=Europe/Stockholm:20221210T100000
DTEND;TZID=Europe/Stockholm:20221210T170000
DTSTAMP:20260423T075307
CREATED:20220914T120133Z
LAST-MODIFIED:20220920T111949Z
UID:12106-1670666400-1670691600@judo.se
SUMMARY:Zongradering\, Stockholm
DESCRIPTION:﻿
URL:https://judo.se/event/zongradering-stockholm-5/
LOCATION:IK Södras Dojo\, Skarpnäcks Gårdsväg 10\, Skarpnäck\, 12831\, Sverige
CATEGORIES:Graderingar,Startsida
ORGANIZER;CN="IK S%C3%B6dra Judo":MAILTO:tavlingar@iksodra.com
END:VEVENT
BEGIN:VEVENT
DTSTART;TZID=Europe/Stockholm:20220611T090000
DTEND;TZID=Europe/Stockholm:20220611T170000
DTSTAMP:20260423T075307
CREATED:20220611T050000Z
LAST-MODIFIED:20220516T083607Z
UID:11386-1654938000-1654966800@judo.se
SUMMARY:Zongradering 1-2 Dan\, Lund (INSTÄLLD)
DESCRIPTION:﻿
URL:https://judo.se/event/zongradering-1-2-dan-lund/
LOCATION:LUGI JK\, Fasanvägen 2\, Lund\, 227 32
CATEGORIES:Graderingar
ORGANIZER;CN="Lugi Judoklubb":MAILTO:info@lugijudo.org
END:VEVENT
BEGIN:VEVENT
DTSTART;TZID=Europe/Stockholm:20220605T090000
DTEND;TZID=Europe/Stockholm:20220605T170000
DTSTAMP:20260423T075307
CREATED:20220329T115809Z
LAST-MODIFIED:20220329T115809Z
UID:11208-1654419600-1654448400@judo.se
SUMMARY:Zongradering\, Stockholm
DESCRIPTION:﻿
URL:https://judo.se/event/zongradering-stockholm-4/
LOCATION:Stockholms Judoklubb\, Tellusborgsvägen 10\, Stockholm\, 126 32\, Sverige
CATEGORIES:Graderingar,Startsida
END:VEVENT
BEGIN:VEVENT
DTSTART;TZID=Europe/Stockholm:20220430T090000
DTEND;TZID=Europe/Stockholm:20220430T170000
DTSTAMP:20260423T075307
CREATED:20220307T155621Z
LAST-MODIFIED:20220307T155621Z
UID:11135-1651309200-1651338000@judo.se
SUMMARY:Zongradering\, Norrköping
DESCRIPTION:﻿
URL:https://judo.se/event/zongradering-norrkoping/
LOCATION:Norrköpings judoklubb\, Kabelvägen 17\, Norrköping\, 602 10
CATEGORIES:Graderingar
END:VEVENT
BEGIN:VEVENT
DTSTART;TZID=Europe/Stockholm:20220423T080000
DTEND;TZID=Europe/Stockholm:20220423T170000
DTSTAMP:20260423T075307
CREATED:20220221T084153Z
LAST-MODIFIED:20220221T084153Z
UID:11063-1650700800-1650733200@judo.se
SUMMARY:Zongradering\, Landvetter
DESCRIPTION:﻿
URL:https://judo.se/event/zongradering-landvetter/
LOCATION:Landvetters judoklubb\, Salmaredsvägen 2\, Landvetter\, 438 33
CATEGORIES:Graderingar,Startsida
END:VEVENT
BEGIN:VEVENT
DTSTART;TZID=Europe/Stockholm:20220306T093000
DTEND;TZID=Europe/Stockholm:20220306T170000
DTSTAMP:20260423T075307
CREATED:20220112T125852Z
LAST-MODIFIED:20220112T125852Z
UID:10861-1646559000-1646586000@judo.se
SUMMARY:Zongradering\, Borlänge
DESCRIPTION:﻿
URL:https://judo.se/event/zongradering-borlange-3/
LOCATION:Borlänge Judo Club\, Teknikergatan 1\, Borlänge\, 78170\, Sverige
CATEGORIES:Graderingar,Startsida
ORGANIZER;CN="Borl%C3%A4nge Judo Club":MAILTO:info@borlangejudo.se
END:VEVENT
BEGIN:VEVENT
DTSTART;TZID=Europe/Stockholm:20210828T090000
DTEND;TZID=Europe/Stockholm:20210828T170000
DTSTAMP:20260423T075307
CREATED:20210602T091843Z
LAST-MODIFIED:20210602T091843Z
UID:9809-1630141200-1630170000@judo.se
SUMMARY:Zongradering\,  Frölunda
DESCRIPTION:﻿
URL:https://judo.se/event/zongradering-frolunda-3/
LOCATION:Frölunda Judoklubb\, Klubbvägen 8\, Västra Frölunda\, 421 47\, Sverige
CATEGORIES:Graderingar,Startsida
ORGANIZER;CN="Fr%C3%B6lunda Judoklubb":MAILTO:fjk@frolundajudo.se
END:VEVENT
BEGIN:VEVENT
DTSTART;TZID=Europe/Stockholm:20210213T090000
DTEND;TZID=Europe/Stockholm:20210213T170000
DTSTAMP:20260423T075307
CREATED:20210213T070000Z
LAST-MODIFIED:20210203T082502Z
UID:8742-1613206800-1613235600@judo.se
SUMMARY:Zongradering Linköping (Framflyttat till 13 mars)
DESCRIPTION:
URL:https://judo.se/event/zongradering-linkoping/
LOCATION:Linköpings Judoklubb\, Nya Tanneforsvägen 13\, Linköping\, 582 42\, Sverige
CATEGORIES:Graderingar,Startsida
ORGANIZER;CN="Svenska Judof%C3%B6rbundet":MAILTO:info@judo.se
END:VEVENT
BEGIN:VEVENT
DTSTART;TZID=Europe/Stockholm:20201121T090000
DTEND;TZID=Europe/Stockholm:20201121T170000
DTSTAMP:20260423T075307
CREATED:20201101T070000Z
LAST-MODIFIED:20201118T120825Z
UID:8590-1605949200-1605978000@judo.se
SUMMARY:Zongradering\, Stockholm
DESCRIPTION:
URL:https://judo.se/event/zongradering-stockholm-3/
LOCATION:Torvalla Sporthall\, Dalarövägen 66\, Haninge\, 136 45\, Sverige
CATEGORIES:Graderingar,Startsida
ORGANIZER;CN="Svenska Judof%C3%B6rbundet":MAILTO:info@judo.se
END:VEVENT
BEGIN:VEVENT
DTSTART;VALUE=DATE:20200419
DTEND;VALUE=DATE:20200420
DTSTAMP:20260423T075307
CREATED:20200110T085857Z
LAST-MODIFIED:20200402T074250Z
UID:7309-1587254400-1587340799@judo.se
SUMMARY:Zongradering Varberg (INSTÄLLD)
DESCRIPTION:Med anledning av utbrottet av COVID-19 följer SJF folkhälsomyndighetens rekommendationer och ställer in graderingen.\n﻿
URL:https://judo.se/event/zongradering-varberg-3/
LOCATION:Varbergs Judoklubb\, Danska vägen 5\, Varberg\, 432 51\, Sverige
CATEGORIES:Graderingar
ORGANIZER;CN="Varbergs Judoklubb":MAILTO:info@vjk.nu
END:VEVENT
BEGIN:VEVENT
DTSTART;TZID=Europe/Stockholm:20200301T093000
DTEND;TZID=Europe/Stockholm:20200301T170000
DTSTAMP:20260423T075307
CREATED:20200115T153433Z
LAST-MODIFIED:20200115T153442Z
UID:7321-1583055000-1583082000@judo.se
SUMMARY:Zongradering\, Borlänge
DESCRIPTION:﻿
URL:https://judo.se/event/zongradering-borlange-2/
LOCATION:Borlänge Judo Club\, Teknikergatan 1\, Borlänge\, 78170\, Sverige
CATEGORIES:Graderingar
ORGANIZER;CN="Borl%C3%A4nge Judo Club":MAILTO:info@borlangejudo.se
END:VEVENT
BEGIN:VEVENT
DTSTART;TZID=Europe/Stockholm:20191215T090000
DTEND;TZID=Europe/Stockholm:20191215T170000
DTSTAMP:20260423T075307
CREATED:20191018T130407Z
LAST-MODIFIED:20191018T130407Z
UID:6878-1576400400-1576429200@judo.se
SUMMARY:Zongradering Stockholm
DESCRIPTION:﻿
URL:https://judo.se/event/zongradering-stockholm-2/
LOCATION:SPIF Judo\, Tellusborgsvägen 22\, Hägersten\, 126 32\, Sverige
CATEGORIES:Graderingar
ORGANIZER;CN="Svenska Judof%C3%B6rbundet":MAILTO:info@judo.se
END:VEVENT
BEGIN:VEVENT
DTSTART;TZID=Europe/Stockholm:20191214T100000
DTEND;TZID=Europe/Stockholm:20191214T170000
DTSTAMP:20260423T075307
CREATED:20190917T092248Z
LAST-MODIFIED:20190930T073211Z
UID:6701-1576317600-1576342800@judo.se
SUMMARY:Zongradering Staffanstorp
DESCRIPTION:﻿
URL:https://judo.se/event/zongradering-staffanstorp/
LOCATION:Staffanstorps Judoklubb\, Hagalidvägen 4\, Staffanstorp\, 245 45\, Sverige
CATEGORIES:Graderingar
ORGANIZER;CN="Staffanstorps JK":MAILTO:judogames@staffanstorpsjudo.se
END:VEVENT
BEGIN:VEVENT
DTSTART;TZID=Europe/Stockholm:20190908T080000
DTEND;TZID=Europe/Stockholm:20190908T170000
DTSTAMP:20260423T075307
CREATED:20190329T090828Z
LAST-MODIFIED:20190816T133735Z
UID:5312-1567929600-1567962000@judo.se
SUMMARY:Riksgradering Frölunda
DESCRIPTION:﻿
URL:https://judo.se/event/zongradering-frolunda-2/
LOCATION:Frölunda Judoklubb\, Klubbvägen 8\, Västra Frölunda\, 421 47\, Sverige
CATEGORIES:Graderingar,Startsida
ORGANIZER;CN="Fr%C3%B6lunda Judoklubb":MAILTO:fjk@frolundajudo.se
END:VEVENT
BEGIN:VEVENT
DTSTART;TZID=Europe/Stockholm:20190608T100000
DTEND;TZID=Europe/Stockholm:20190608T170000
DTSTAMP:20260423T075307
CREATED:20190131T122437Z
LAST-MODIFIED:20190321T091311Z
UID:4881-1559988000-1560013200@judo.se
SUMMARY:Riksgradering Kristianstad
DESCRIPTION:
URL:https://judo.se/event/zongradering-kristianstad-2/
LOCATION:Kristianstads Judoklubb\, Björkhemsvägen 7a\, Kristianstad\, 29154\, Sverige
CATEGORIES:Graderingar
ORGANIZER;CN="Kristianstads Judoklubb":MAILTO:info@kristianstadjudo.se
END:VEVENT
BEGIN:VEVENT
DTSTART;TZID=Europe/Stockholm:20190329T080000
DTEND;TZID=Europe/Stockholm:20190329T170000
DTSTAMP:20260423T075307
CREATED:20190329T092131Z
LAST-MODIFIED:20190329T092131Z
UID:5314-1553846400-1553878800@judo.se
SUMMARY:Zongradering Varberg
DESCRIPTION:﻿
URL:https://judo.se/event/zongradering-varberg/
LOCATION:Varbergs Judoklubb\, Danska vägen 5\, Varberg\, 432 51\, Sverige
CATEGORIES:Graderingar
ORGANIZER;CN="Varbergs Judoklubb":MAILTO:info@vjk.nu
END:VEVENT
BEGIN:VEVENT
DTSTART;TZID=Europe/Stockholm:20190303T080000
DTEND;TZID=Europe/Stockholm:20190303T170000
DTSTAMP:20260423T075307
CREATED:20190123T091856Z
LAST-MODIFIED:20190123T091856Z
UID:4753-1551600000-1551632400@judo.se
SUMMARY:Zongradering Borlänge
DESCRIPTION:﻿
URL:https://judo.se/event/zongradering-borlange/
LOCATION:Borlänge Judo Club\, Teknikergatan 1\, Borlänge\, 78170\, Sverige
CATEGORIES:Graderingar
ORGANIZER;CN="Borl%C3%A4nge Judo Club":MAILTO:info@borlangejudo.se
END:VEVENT
BEGIN:VEVENT
DTSTART;VALUE=DATE:20180317
DTEND;VALUE=DATE:20180318
DTSTAMP:20260423T075307
CREATED:20180104T153643Z
LAST-MODIFIED:20180104T153643Z
UID:2554-1521244800-1521331199@judo.se
SUMMARY:Zongradering i Västra Frölunda
DESCRIPTION:﻿
URL:https://judo.se/event/zongradering-frolunda/
LOCATION:Frölunda Judoklubb\, Klubbvägen 8\, Västra Frölunda\, 421 47\, Sverige
CATEGORIES:Graderingar
ORGANIZER;CN="Fr%C3%B6lunda Judoklubb":MAILTO:fjk@frolundajudo.se
END:VEVENT
BEGIN:VEVENT
DTSTART;VALUE=DATE:20180311
DTEND;VALUE=DATE:20180312
DTSTAMP:20260423T075307
CREATED:20171218T134401Z
LAST-MODIFIED:20180327T113920Z
UID:2510-1520726400-1520812799@judo.se
SUMMARY:Zongradering i Borlänge
DESCRIPTION:﻿
URL:https://judo.se/event/zongradering/
LOCATION:Borlänge Judo Club\, Teknikergatan 1\, Borlänge\, 78170\, Sverige
CATEGORIES:Graderingar
END:VEVENT
BEGIN:VEVENT
DTSTART;VALUE=DATE:20171210
DTEND;VALUE=DATE:20171211
DTSTAMP:20260423T075307
CREATED:20170921T124431Z
LAST-MODIFIED:20170921T124959Z
UID:1886-1512864000-1512950399@judo.se
SUMMARY:Zongradering i Stockholm
DESCRIPTION:Arbetsgruppen för Dan-graderingar och Stockholms Judoklubb bjuder in till Zongradering för 1-2 DAN den 10 december 2017!
URL:https://judo.se/event/zongradering-stockholm/
LOCATION:Stockholms Judoklubb\, Tellusborgsvägen 10\, Stockholm\, 126 32\, Sverige
CATEGORIES:Graderingar
END:VEVENT
BEGIN:VEVENT
DTSTART;VALUE=DATE:20171104
DTEND;VALUE=DATE:20171105
DTSTAMP:20260423T075307
CREATED:20170906T070804Z
LAST-MODIFIED:20170921T124820Z
UID:1748-1509753600-1509839999@judo.se
SUMMARY:Zongradering i Skurup
DESCRIPTION:Zongradering för 1-2 Dan i Skurup!
URL:https://judo.se/event/zongradering-skurup/
CATEGORIES:Graderingar
END:VEVENT
END:VCALENDAR