BEGIN:VCALENDAR
VERSION:2.0
PRODID:-//Svenska Judoförbundet - ECPv6.15.20//NONSGML v1.0//EN
CALSCALE:GREGORIAN
METHOD:PUBLISH
X-WR-CALNAME:Svenska Judoförbundet
X-ORIGINAL-URL:https://judo.se
X-WR-CALDESC:Händelser för Svenska Judoförbundet
REFRESH-INTERVAL;VALUE=DURATION:PT1H
X-Robots-Tag:noindex
X-PUBLISHED-TTL:PT1H
BEGIN:VTIMEZONE
TZID:Europe/Stockholm
BEGIN:DAYLIGHT
TZOFFSETFROM:+0100
TZOFFSETTO:+0200
TZNAME:CEST
DTSTART:20250330T010000
END:DAYLIGHT
BEGIN:STANDARD
TZOFFSETFROM:+0200
TZOFFSETTO:+0100
TZNAME:CET
DTSTART:20251026T010000
END:STANDARD
BEGIN:DAYLIGHT
TZOFFSETFROM:+0100
TZOFFSETTO:+0200
TZNAME:CEST
DTSTART:20260329T010000
END:DAYLIGHT
BEGIN:STANDARD
TZOFFSETFROM:+0200
TZOFFSETTO:+0100
TZNAME:CET
DTSTART:20261025T010000
END:STANDARD
BEGIN:DAYLIGHT
TZOFFSETFROM:+0100
TZOFFSETTO:+0200
TZNAME:CEST
DTSTART:20270328T010000
END:DAYLIGHT
BEGIN:STANDARD
TZOFFSETFROM:+0200
TZOFFSETTO:+0100
TZNAME:CET
DTSTART:20271031T010000
END:STANDARD
END:VTIMEZONE
BEGIN:VEVENT
DTSTART;VALUE=DATE:20260530
DTEND;VALUE=DATE:20260531
DTSTAMP:20260420T210623
CREATED:20260330T082235Z
LAST-MODIFIED:20260330T082235Z
UID:19627-1780099200-1780185599@judo.se
SUMMARY:Zongradering\, Kristianstad
DESCRIPTION:Inbjudan hittar du här.
URL:https://judo.se/event/zongradering-kristianstad-3/
LOCATION:Kristianstads Judoklubb\, Björkhemsvägen 7a\, Kristianstad\, 29154\, Sverige
CATEGORIES:Graderingar,Startsida
END:VEVENT
BEGIN:VEVENT
DTSTART;TZID=Europe/Stockholm:20260531T100000
DTEND;TZID=Europe/Stockholm:20260531T170000
DTSTAMP:20260420T210623
CREATED:20260225T110757Z
LAST-MODIFIED:20260225T110757Z
UID:19431-1780221600-1780246800@judo.se
SUMMARY:Zongradering\, Varberg
DESCRIPTION:Info hittar ni här.
URL:https://judo.se/event/zongradering-varberg-5/
LOCATION:Varbergs Judoklubb\, Danska vägen 5\, Varberg\, 432 51\, Sverige
CATEGORIES:Graderingar,Startsida
ORGANIZER;CN="Varbergs Judoklubb":MAILTO:info@vjk.nu
END:VEVENT
END:VCALENDAR