BEGIN:VCALENDAR
VERSION:2.0
PRODID:-//Svenska Judoförbundet - ECPv6.15.20//NONSGML v1.0//EN
CALSCALE:GREGORIAN
METHOD:PUBLISH
X-ORIGINAL-URL:https://judo.se
X-WR-CALDESC:Händelser för Svenska Judoförbundet
REFRESH-INTERVAL;VALUE=DURATION:PT1H
X-Robots-Tag:noindex
X-PUBLISHED-TTL:PT1H
BEGIN:VTIMEZONE
TZID:Europe/Stockholm
BEGIN:DAYLIGHT
TZOFFSETFROM:+0100
TZOFFSETTO:+0200
TZNAME:CEST
DTSTART:20230326T010000
END:DAYLIGHT
BEGIN:STANDARD
TZOFFSETFROM:+0200
TZOFFSETTO:+0100
TZNAME:CET
DTSTART:20231029T010000
END:STANDARD
BEGIN:DAYLIGHT
TZOFFSETFROM:+0100
TZOFFSETTO:+0200
TZNAME:CEST
DTSTART:20240331T010000
END:DAYLIGHT
BEGIN:STANDARD
TZOFFSETFROM:+0200
TZOFFSETTO:+0100
TZNAME:CET
DTSTART:20241027T010000
END:STANDARD
BEGIN:DAYLIGHT
TZOFFSETFROM:+0100
TZOFFSETTO:+0200
TZNAME:CEST
DTSTART:20250330T010000
END:DAYLIGHT
BEGIN:STANDARD
TZOFFSETFROM:+0200
TZOFFSETTO:+0100
TZNAME:CET
DTSTART:20251026T010000
END:STANDARD
BEGIN:DAYLIGHT
TZOFFSETFROM:+0100
TZOFFSETTO:+0200
TZNAME:CEST
DTSTART:20260329T010000
END:DAYLIGHT
BEGIN:STANDARD
TZOFFSETFROM:+0200
TZOFFSETTO:+0100
TZNAME:CET
DTSTART:20261025T010000
END:STANDARD
END:VTIMEZONE
BEGIN:VEVENT
DTSTART;TZID=Europe/Stockholm:20241118T190000
DTEND;TZID=Europe/Stockholm:20241118T210000
DTSTAMP:20260419T184822
CREATED:20240814T161521Z
LAST-MODIFIED:20240814T161521Z
UID:16364-1731956400-1731963600@judo.se
SUMMARY:Steg 5\, B-domarkurs\, del 4/4 digitalt
DESCRIPTION:﻿
URL:https://judo.se/event/steg-5-b-domarkurs-del-4-4-digitalt/
LOCATION:Digitalt
CATEGORIES:Utbildningar
END:VEVENT
BEGIN:VEVENT
DTSTART;TZID=Europe/Stockholm:20241123T083000
DTEND;TZID=Europe/Stockholm:20241124T163000
DTSTAMP:20260419T184822
CREATED:20231207T154500Z
LAST-MODIFIED:20241009T132750Z
UID:14973-1732350600-1732465800@judo.se
SUMMARY:Judo4Balance-instruktörsutbildning\, Skurup
DESCRIPTION:Inbjudan: Judo4balance instruktörsutbildning Skurup 23-24 november 2024
URL:https://judo.se/event/judo4balance-instruktorsutbildning-skurup-2/
LOCATION:Wemmenhögs Budoförening\, Vaktgatan\, Skurup\, 274 34\, Sverige
CATEGORIES:Startsida,Utbildningar
ORGANIZER;CN="Wemmenh%C3%B6gs Budof%C3%B6rening":MAILTO:judo@wemmenhogsbudo.se
END:VEVENT
BEGIN:VEVENT
DTSTART;TZID=Europe/Stockholm:20241130T083000
DTEND;TZID=Europe/Stockholm:20241130T163000
DTSTAMP:20260419T184822
CREATED:20241017T123608Z
LAST-MODIFIED:20241017T125043Z
UID:16620-1732955400-1732984200@judo.se
SUMMARY:Domar- och regelkurs\, Helsingborg
DESCRIPTION:Inbjudan Regelkurs Helsingborg nov 2024
URL:https://judo.se/event/domar-och-regelkurs-helsingborg/
LOCATION:Helsingborgs Judoklubb\, Mellersta Stenbocksgatan 10\, Helsingborg\, 254 37
CATEGORIES:Startsida,Utbildningar
ORGANIZER;CN="Helsingborgs Judoklubb":MAILTO:andersson.ohrling@gmail.com
END:VEVENT
BEGIN:VEVENT
DTSTART;TZID=Europe/Stockholm:20241207T090000
DTEND;TZID=Europe/Stockholm:20241207T110000
DTSTAMP:20260419T184822
CREATED:20241114T105815Z
LAST-MODIFIED:20241114T110035Z
UID:16764-1733562000-1733569200@judo.se
SUMMARY:Klubbdomarkurs\, Stenungsund
DESCRIPTION:Inbjudan klubbdomarutbildning Stenungsund
URL:https://judo.se/event/klubbdomarutbildning-stenungsund/
LOCATION:Stenungsund arena\, Nösnäsvägen 2\, Stenungsund\, 444 47\, Sverige
CATEGORIES:Startsida,Utbildningar
ORGANIZER;CN="Stenungsunds JK":MAILTO:tavling@stenungsundsjudoklubb.com
END:VEVENT
BEGIN:VEVENT
DTSTART;TZID=Europe/Stockholm:20241214T080000
DTEND;TZID=Europe/Stockholm:20241214T180000
DTSTAMP:20260419T184822
CREATED:20241003T091611Z
LAST-MODIFIED:20241003T091611Z
UID:16560-1734163200-1734199200@judo.se
SUMMARY:Sjukvårdsutbildning nivå 3\, Kungsbacka
DESCRIPTION:Anmälan och inbjudan: Inbjudan Sjukvårdsutbildning Judo Nivå III 2024 \nKursen består av 3 tillfällen:\nDel 1: Digital träff\, 29 oktober \nDel 2: Fysisk träff\,  Lag-SM i Kungsbacka\, 14 december \nDel 3: Examination\, våren 2025
URL:https://judo.se/event/sjukvardsutbildning-niva-3-kungsbacka/
LOCATION:Kungsbacka sporthall\, KUNGSBACKA SPORTCENTER 2B\, Kungsbacka\, 434 50
CATEGORIES:Startsida,Utbildningar
END:VEVENT
BEGIN:VEVENT
DTSTART;TZID=Europe/Stockholm:20241214T140000
DTEND;TZID=Europe/Stockholm:20241214T160000
DTSTAMP:20260419T184822
CREATED:20241114T110016Z
LAST-MODIFIED:20241114T110016Z
UID:16766-1734184800-1734192000@judo.se
SUMMARY:Klubbdomarkurs\, Uppsala
DESCRIPTION:Inbjudan klubbdomarutbildning Uppsala
URL:https://judo.se/event/klubbdomarkurs-uppsala/
LOCATION:Uppsala Judoklubb\, Idrottsgatan 2\, Uppsala\, 75333\, Sverige
CATEGORIES:Startsida,Utbildningar
END:VEVENT
BEGIN:VEVENT
DTSTART;TZID=Europe/Stockholm:20250109T190000
DTEND;TZID=Europe/Stockholm:20250109T210000
DTSTAMP:20260419T184822
CREATED:20241213T110921Z
LAST-MODIFIED:20241213T110940Z
UID:17016-1736449200-1736456400@judo.se
SUMMARY:Regelseminarium IJF-regler\, digitalt
DESCRIPTION:Ny regler från IJF kommer börja gälla från årsskiftet\, så även på svenska tävlingar. \nAG domare kallar därmed till ett digitalt regelseminarium för domare\, coacher och aktiva för att presentera de nya reglerna. Obligatoriskt för alla som coachar och dömer på SM-nivå!\n\nJoin the meeting now\nMeeting ID: 319 255 680 008\nPasscode: m6RV9FY7
URL:https://judo.se/event/regelseminarium-digitalt/
LOCATION:Digitalt
CATEGORIES:Startsida,Utbildningar
END:VEVENT
BEGIN:VEVENT
DTSTART;TZID=Europe/Stockholm:20250111T083000
DTEND;TZID=Europe/Stockholm:20250111T163000
DTSTAMP:20260419T184822
CREATED:20241209T133823Z
LAST-MODIFIED:20241209T154253Z
UID:16967-1736584200-1736613000@judo.se
SUMMARY:Sjukvårdsutbildning nivå 1 & 2\, Helsingborg
DESCRIPTION:Sjukvårdsutbildning nivå 1 o 2 Helsingborg \n 
URL:https://judo.se/event/sjukvardsutbildning-niva-1-2-helsingborg/
LOCATION:Helsingborgs Judoklubb\, Mellersta Stenbocksgatan 10\, Helsingborg\, 254 37
CATEGORIES:Startsida,Utbildningar
ORGANIZER;CN="Helsingborgs Judoklubb":MAILTO:andersson.ohrling@gmail.com
END:VEVENT
BEGIN:VEVENT
DTSTART;TZID=Europe/Stockholm:20250118T083000
DTEND;TZID=Europe/Stockholm:20250119T160000
DTSTAMP:20260419T184822
CREATED:20241119T141206Z
LAST-MODIFIED:20241205T135732Z
UID:16784-1737189000-1737302400@judo.se
SUMMARY:Assisterande klubbtränarutbildning\, Sigtuna
DESCRIPTION:Inbjudan och anmälan: https://svenskjudo.sharepoint.com/:b:/s/intranat-Dokumentbanken/EeAcMr5DmcJAnLWYtZ4E0EIBVPeZFmnM5mS6Isl3kbrJuQ?e=MAhAjS
URL:https://judo.se/event/assisterande-klubbtranarutbildning-sigtuna/
LOCATION:Sigtuna Budoklubb\, John Åkerlunds väg 10A\, Sigtuna\, 19331\, Sweden
CATEGORIES:Startsida,Utbildningar
END:VEVENT
BEGIN:VEVENT
DTSTART;TZID=Europe/Stockholm:20250119T090000
DTEND;TZID=Europe/Stockholm:20250119T150000
DTSTAMP:20260419T184822
CREATED:20240918T090004Z
LAST-MODIFIED:20240918T090004Z
UID:16498-1737277200-1737298800@judo.se
SUMMARY:Sjukvårdsutbildning nivå 1\, Trollhättan
DESCRIPTION:Inbjudan Sjukvårdsutbildning Judo Nivå I TROLLHÄTTAN
URL:https://judo.se/event/sjukvardsutbildning-niva-1-trollhattan/
LOCATION:Arena Älvhögsborgs\, Trollhättan\, Storgatan 1\, Trollhättan\, Väst\, 46131\, Sweden
CATEGORIES:Startsida,Utbildningar
END:VEVENT
BEGIN:VEVENT
DTSTART;TZID=Europe/Stockholm:20250125T080000
DTEND;TZID=Europe/Stockholm:20250125T170000
DTSTAMP:20260419T184822
CREATED:20250107T163447Z
LAST-MODIFIED:20250107T163447Z
UID:17126-1737792000-1737824400@judo.se
SUMMARY:Regelkurs - steg 2 & 3\, Göteborg
DESCRIPTION:Inbjudan Regelkurs teori & praktik\, Göteborg 25 jan
URL:https://judo.se/event/regelkurs-steg-2-3-goteborg/
LOCATION:Göteborgs Judoklubb\, Andra långgatan 48\, Göteborg\, Sverige
CATEGORIES:Startsida,Utbildningar
ORGANIZER;CN="G%C3%B6teborgs Judoklubb":MAILTO:info@gjk.se
END:VEVENT
BEGIN:VEVENT
DTSTART;TZID=Europe/Stockholm:20250208T083000
DTEND;TZID=Europe/Stockholm:20250209T160000
DTSTAMP:20260419T184822
CREATED:20241120T120359Z
LAST-MODIFIED:20250114T113737Z
UID:16793-1739003400-1739116800@judo.se
SUMMARY:Assisterande klubbtränare\, Karlstad
DESCRIPTION:Assisterande_Klubbtränarutbildning Karlstad
URL:https://judo.se/event/assisterande-klubbtranare-karlstad/
LOCATION:Karlstad JK\, Orrholmsgatan 4\, Karlstad\, 652 15
CATEGORIES:Startsida,Utbildningar
END:VEVENT
BEGIN:VEVENT
DTSTART;TZID=Europe/Stockholm:20250211T180000
DTEND;TZID=Europe/Stockholm:20250211T200000
DTSTAMP:20260419T184822
CREATED:20241120T120754Z
LAST-MODIFIED:20250206T180326Z
UID:16795-1739296800-1739304000@judo.se
SUMMARY:Regelkurs\, digitalt (inställt)
DESCRIPTION:Steg 2 \nMer info kommer!
URL:https://judo.se/event/regelkurs-digitalt/
LOCATION:Digitalt
CATEGORIES:Startsida,Utbildningar
END:VEVENT
BEGIN:VEVENT
DTSTART;TZID=Europe/Stockholm:20250215T083000
DTEND;TZID=Europe/Stockholm:20250216T160000
DTSTAMP:20260419T184822
CREATED:20241120T121603Z
LAST-MODIFIED:20250114T113545Z
UID:16797-1739608200-1739721600@judo.se
SUMMARY:Klubbtränarutbildning\, Nacka
DESCRIPTION:ANMÄLAN MED MER INFO: https://educationwebregistration.idrottonline.se/home/index/2012086 
URL:https://judo.se/event/klubbtranarutbildning-nacka/
LOCATION:Nacka Judoklubb\, Griffelvägen 11\, Nacka\, 13140\, Sweden
CATEGORIES:Startsida,Utbildningar
ORGANIZER;CN="Nacka  Judoklubb":MAILTO:info@nackajudo.se
END:VEVENT
BEGIN:VEVENT
DTSTART;TZID=Europe/Stockholm:20250221T180000
DTEND;TZID=Europe/Stockholm:20250223T120000
DTSTAMP:20260419T184822
CREATED:20241120T124007Z
LAST-MODIFIED:20250110T145911Z
UID:16801-1740160800-1740312000@judo.se
SUMMARY:Assisterande klubbtränar- och Klubbtränarutbildning och katautbildning i A-judo\, Lindesberg
DESCRIPTION:Tränarutbildning A-judo februari
URL:https://judo.se/event/assisterande-klubbtranar-och-klubbtranarutbildning-a-judo-lindesberg/
LOCATION:Lindesberg Arena\, Nyborgsgatan 1\, Lindesberg\, Sverige
CATEGORIES:Startsida,Utbildningar
ORGANIZER;CN="Fr%C3%B6vi Judoklubb":MAILTO:info@frovijudo.se
END:VEVENT
BEGIN:VEVENT
DTSTART;TZID=Europe/Stockholm:20250222T083000
DTEND;TZID=Europe/Stockholm:20250223T160000
DTSTAMP:20260419T184822
CREATED:20241120T125654Z
LAST-MODIFIED:20250129T084053Z
UID:16805-1740213000-1740326400@judo.se
SUMMARY:Assisterande klubbtränare\, Sundsvall
DESCRIPTION:inbjudan_Assisterande_Klubbtränarutbildning sundsvall 20250522
URL:https://judo.se/event/assisterande-klubbtranare-sundsvall/
LOCATION:Judo Club Sundsvall\, Björneborgsgatan 25\, Sundsvall\, 854 60
CATEGORIES:Startsida,Utbildningar
ORGANIZER;CN="Judo Sundsvall":MAILTO:info@judosundsvall.com
END:VEVENT
BEGIN:VEVENT
DTSTART;TZID=Europe/Stockholm:20250222T090000
DTEND;TZID=Europe/Stockholm:20250222T170000
DTSTAMP:20260419T184822
CREATED:20250129T112241Z
LAST-MODIFIED:20250129T112313Z
UID:17330-1740214800-1740243600@judo.se
SUMMARY:Aspirantdomartest (steg 4)\, Göteborg
DESCRIPTION:Inbjudan aspirantdomare steg 4 – 20250222
URL:https://judo.se/event/aspirantdomartest-steg-4-goteborg/
LOCATION:Göteborgs Judoklubb\, Andra långgatan 48\, Göteborg\, Sverige
CATEGORIES:Startsida,Utbildningar
ORGANIZER;CN="G%C3%B6teborgs Judoklubb":MAILTO:info@gjk.se
END:VEVENT
BEGIN:VEVENT
DTSTART;TZID=Europe/Stockholm:20250301T100000
DTEND;TZID=Europe/Stockholm:20250301T150000
DTSTAMP:20260419T184822
CREATED:20250110T150620Z
LAST-MODIFIED:20250110T150850Z
UID:17165-1740823200-1740841200@judo.se
SUMMARY:Sjukvårdsutbildning nivå 1 & 2\, Stockholm
DESCRIPTION:Inbjudan Sjukvårdsutbildning Judo Nivå II Stockholm
URL:https://judo.se/event/sjukvardsutbildning-niva-1-2-stockholm/
LOCATION:Tellusborgshallen\, Herbariegränd 15\, Stockholm
CATEGORIES:Startsida,Utbildningar
ORGANIZER;CN="Svenska Judof%C3%B6rbundet":MAILTO:info@judo.se
END:VEVENT
BEGIN:VEVENT
DTSTART;TZID=Europe/Stockholm:20250308T083000
DTEND;TZID=Europe/Stockholm:20250309T160000
DTSTAMP:20260419T184822
CREATED:20241120T142253Z
LAST-MODIFIED:20250114T151317Z
UID:16808-1741422600-1741536000@judo.se
SUMMARY:Assisterande klubbtränarutbildning\, Frölunda
DESCRIPTION:Assisterande_Klubbtränarutbildning 8-9 mars Frölunda \n 
URL:https://judo.se/event/assisterande-klubbtranarutbildning-frolunda/
LOCATION:Frölunda Judoklubb\, Klubbvägen 8\, Västra Frölunda\, 421 47\, Sverige
CATEGORIES:Startsida,Utbildningar
ORGANIZER;CN="Fr%C3%B6lunda Judoklubb":MAILTO:fjk@frolundajudo.se
END:VEVENT
BEGIN:VEVENT
DTSTART;TZID=Europe/Stockholm:20250308T100000
DTEND;TZID=Europe/Stockholm:20250308T170000
DTSTAMP:20260419T184822
CREATED:20250218T105802Z
LAST-MODIFIED:20250304T212359Z
UID:17442-1741428000-1741453200@judo.se
SUMMARY:Tävlingsledarutbildning\, Kristianstad
DESCRIPTION:﻿
URL:https://judo.se/event/tavlingsledarutbildning-kristianstad/
LOCATION:Kristianstads Judoklubb\, Björkhemsvägen 7a\, Kristianstad\, 29154\, Sverige
CATEGORIES:Startsida,Utbildningar
ORGANIZER;CN="Kristianstads Judoklubb":MAILTO:info@kristianstadjudo.se
END:VEVENT
BEGIN:VEVENT
DTSTART;TZID=Europe/Stockholm:20250315T083000
DTEND;TZID=Europe/Stockholm:20250316T153000
DTSTAMP:20260419T184822
CREATED:20241213T145713Z
LAST-MODIFIED:20241213T150322Z
UID:17022-1742027400-1742139000@judo.se
SUMMARY:Judo4Balance instruktörsutbildning\, Vallentuna
DESCRIPTION:Judo4balance-instruktörsutbildning Vallentuna 15-16 mars \n 
URL:https://judo.se/event/judo4balance-instruktorsutbildning-vallentuna/
LOCATION:Vallentuna JK\, Orkesta Bygdegård\, Lindholmsvägen 245\, Vallentuna\, 18694
CATEGORIES:Startsida,Utbildningar
END:VEVENT
BEGIN:VEVENT
DTSTART;TZID=Europe/Stockholm:20250315T090000
DTEND;TZID=Europe/Stockholm:20250315T170000
DTSTAMP:20260419T184822
CREATED:20250129T112118Z
LAST-MODIFIED:20250129T120507Z
UID:17328-1742029200-1742058000@judo.se
SUMMARY:Aspirantdomartest (steg 4)\, Stenungsund
DESCRIPTION:Inbjudan aspirantdomare steg 4- 15mars
URL:https://judo.se/event/aspirantdomartest-steg-4-stenungsund/
LOCATION:Stenungsund arena\, Nösnäsvägen 2\, Stenungsund\, 444 47\, Sverige
CATEGORIES:Startsida,Utbildningar
ORGANIZER;CN="Stenungsunds JK":MAILTO:tavling@stenungsundsjudoklubb.com
END:VEVENT
BEGIN:VEVENT
DTSTART;TZID=Europe/Stockholm:20250322T080000
DTEND;TZID=Europe/Stockholm:20250322T170000
DTSTAMP:20260419T184822
CREATED:20241213T150630Z
LAST-MODIFIED:20250219T153308Z
UID:17026-1742630400-1742662800@judo.se
SUMMARY:Aspirantdomare praktik\, Stockholm (inställd)
DESCRIPTION:Inställd.
URL:https://judo.se/event/aspirantdomare-praktik-stockholm/
LOCATION:Stockholm\, Stockholm\, Sverige
CATEGORIES:Startsida,Utbildningar
END:VEVENT
BEGIN:VEVENT
DTSTART;TZID=Europe/Stockholm:20250322T080000
DTEND;TZID=Europe/Stockholm:20250322T170000
DTSTAMP:20260419T184822
CREATED:20241213T150720Z
LAST-MODIFIED:20250219T153724Z
UID:17029-1742630400-1742662800@judo.se
SUMMARY:Regelkurs praktik\, Stockholm (inställd)
DESCRIPTION:Inställd.
URL:https://judo.se/event/regelkurs-praktik-stockholm/
LOCATION:Stockholm\, Stockholm\, Sverige
CATEGORIES:Startsida,Utbildningar
END:VEVENT
BEGIN:VEVENT
DTSTART;TZID=Europe/Stockholm:20250322T083000
DTEND;TZID=Europe/Stockholm:20250322T160000
DTSTAMP:20260419T184822
CREATED:20250225T090756Z
LAST-MODIFIED:20250429T095341Z
UID:17627-1742632200-1742659200@judo.se
SUMMARY:Fördjupningskurs Nage no kata
DESCRIPTION:Inbjudan: Fördjupningskurs Nage no Kata.pdf
URL:https://judo.se/event/fordjupningskurs-nage-no-kata/
LOCATION:IK Södras Dojo\, Skarpnäcks Gårdsväg 10\, Skarpnäck\, 12831\, Sverige
CATEGORIES:Startsida,Utbildningar
END:VEVENT
BEGIN:VEVENT
DTSTART;TZID=Europe/Stockholm:20250322T090000
DTEND;TZID=Europe/Stockholm:20250323T160000
DTSTAMP:20260419T184822
CREATED:20241213T150949Z
LAST-MODIFIED:20250310T133941Z
UID:17031-1742634000-1742745600@judo.se
SUMMARY:Adaptiv kata för aktiva\, Landvetter
DESCRIPTION:Inbjudan och anmälan finns här.
URL:https://judo.se/event/adaptiv-kata-for-aktiva-landvetter/
LOCATION:Landvetters judoklubb\, Salmaredsvägen 2\, Landvetter\, 438 33
CATEGORIES:Startsida,Utbildningar
END:VEVENT
BEGIN:VEVENT
DTSTART;TZID=Europe/Stockholm:20250328T170000
DTEND;TZID=Europe/Stockholm:20250329T180000
DTSTAMP:20260419T184822
CREATED:20250225T131156Z
LAST-MODIFIED:20250225T131245Z
UID:17629-1743181200-1743271200@judo.se
SUMMARY:Tävlingsledarubildning\, Stockholm
DESCRIPTION:Inbjudan.Tävlingsledarutbildning.Torvalla.20250328.pdf
URL:https://judo.se/event/tavlingsledarubildning-stockholm/
LOCATION:Torvalla Sporthall\, Dalarövägen 66\, Haninge\, 136 45\, Sverige
CATEGORIES:Utbildningar
END:VEVENT
BEGIN:VEVENT
DTSTART;TZID=Europe/Stockholm:20250412T090000
DTEND;TZID=Europe/Stockholm:20250412T160000
DTSTAMP:20260419T184822
CREATED:20250110T151125Z
LAST-MODIFIED:20250305T104527Z
UID:17168-1744448400-1744473600@judo.se
SUMMARY:Assisterande klubbtränarutbildning\, Borlänge
DESCRIPTION:Inbjudan.
URL:https://judo.se/event/assisterande-klubbtranarutbildning-borlange-4/
LOCATION:Borlänge Judo Club\, Teknikergatan 1\, Borlänge\, 78170\, Sverige
CATEGORIES:Startsida,Utbildningar
ORGANIZER;CN="Borl%C3%A4nge Judo Club":MAILTO:info@borlangejudo.se
END:VEVENT
BEGIN:VEVENT
DTSTART;TZID=Europe/Stockholm:20250426T090000
DTEND;TZID=Europe/Stockholm:20250427T160000
DTSTAMP:20260419T184822
CREATED:20250110T151404Z
LAST-MODIFIED:20250429T100031Z
UID:17170-1745658000-1745769600@judo.se
SUMMARY:Step by Step - steg 1\, Frölunda (INSTÄLLD)
DESCRIPTION:Inbjudan Step by step steg 1 – 26-27 april 2025 Frölunda
URL:https://judo.se/event/step-by-step-steg-1-goteborg-2/
LOCATION:Frölunda Judoklubb\, Klubbvägen 8\, Västra Frölunda\, 421 47\, Sverige
CATEGORIES:Startsida,Utbildningar
ORGANIZER;CN="Fr%C3%B6lunda Judoklubb":MAILTO:fjk@frolundajudo.se
END:VEVENT
BEGIN:VEVENT
DTSTART;TZID=Europe/Stockholm:20250426T090000
DTEND;TZID=Europe/Stockholm:20250427T160000
DTSTAMP:20260419T184822
CREATED:20250110T151549Z
LAST-MODIFIED:20250429T095129Z
UID:17172-1745658000-1745769600@judo.se
SUMMARY:Klubbtränarutbildning\, Skurup (INSTÄLLD)
DESCRIPTION:Information och anmälan hittar du i inbjudan.
URL:https://judo.se/event/klubbtranarutbildning-skurup-3/
LOCATION:Wemmenhögs Budoförening\, Vaktgatan\, Skurup\, 274 34\, Sverige
CATEGORIES:Startsida,Utbildningar
ORGANIZER;CN="Wemmenh%C3%B6gs Budof%C3%B6rening":MAILTO:judo@wemmenhogsbudo.se
END:VEVENT
END:VCALENDAR