BEGIN:VCALENDAR
VERSION:2.0
PRODID:-//Svenska Judoförbundet - ECPv6.15.20//NONSGML v1.0//EN
CALSCALE:GREGORIAN
METHOD:PUBLISH
X-ORIGINAL-URL:https://judo.se
X-WR-CALDESC:Händelser för Svenska Judoförbundet
REFRESH-INTERVAL;VALUE=DURATION:PT1H
X-Robots-Tag:noindex
X-PUBLISHED-TTL:PT1H
BEGIN:VTIMEZONE
TZID:Europe/Stockholm
BEGIN:DAYLIGHT
TZOFFSETFROM:+0100
TZOFFSETTO:+0200
TZNAME:CEST
DTSTART:20250330T010000
END:DAYLIGHT
BEGIN:STANDARD
TZOFFSETFROM:+0200
TZOFFSETTO:+0100
TZNAME:CET
DTSTART:20251026T010000
END:STANDARD
BEGIN:DAYLIGHT
TZOFFSETFROM:+0100
TZOFFSETTO:+0200
TZNAME:CEST
DTSTART:20260329T010000
END:DAYLIGHT
BEGIN:STANDARD
TZOFFSETFROM:+0200
TZOFFSETTO:+0100
TZNAME:CET
DTSTART:20261025T010000
END:STANDARD
BEGIN:DAYLIGHT
TZOFFSETFROM:+0100
TZOFFSETTO:+0200
TZNAME:CEST
DTSTART:20270328T010000
END:DAYLIGHT
BEGIN:STANDARD
TZOFFSETFROM:+0200
TZOFFSETTO:+0100
TZNAME:CET
DTSTART:20271031T010000
END:STANDARD
END:VTIMEZONE
BEGIN:VEVENT
DTSTART;VALUE=DATE:20260502
DTEND;VALUE=DATE:20260504
DTSTAMP:20260420T054939
CREATED:20251128T122532Z
LAST-MODIFIED:20260121T084211Z
UID:18910-1777680000-1777852799@judo.se
SUMMARY:Assisterande klubbtränarutbildning\, Visby
DESCRIPTION:Info hittar ni här. \nLänk till anmälan.
URL:https://judo.se/event/assisterande-klubbtranarutbildning-visby/
LOCATION:Visby
CATEGORIES:Startsida,Utbildningar
END:VEVENT
BEGIN:VEVENT
DTSTART;VALUE=DATE:20260502
DTEND;VALUE=DATE:20260504
DTSTAMP:20260420T054939
CREATED:20260330T143812Z
LAST-MODIFIED:20260330T153624Z
UID:19632-1777680000-1777852799@judo.se
SUMMARY:Judo4Balance-instruktörsutbildning\, Kristianstad
DESCRIPTION:Inbjudan hittar ni här.
URL:https://judo.se/event/judo4balance-instruktorsutbildning-kristianstad-2/
LOCATION:Kristianstads Judoklubb\, Björkhemsvägen 7a\, Kristianstad\, 29154\, Sverige
CATEGORIES:Startsida,Utbildningar
END:VEVENT
BEGIN:VEVENT
DTSTART;TZID=Europe/Stockholm:20260508T180000
DTEND;TZID=Europe/Stockholm:20260510T160000
DTSTAMP:20260420T054939
CREATED:20260120T201928Z
LAST-MODIFIED:20260417T124650Z
UID:19197-1778263200-1778428800@judo.se
SUMMARY:Step by Step - Steg 1\, Sundsvall
DESCRIPTION:Utbildningen startar fre kl 18  efter avslutad tävling – Drakstadens Cup.\nInbjudan hittar du här. \nKlicka här för länk till anmälan \n 
URL:https://judo.se/event/step-by-step-steg-1-sundsvall-2/
LOCATION:Judo Club Sundsvall\, Björneborgsgatan 25\, Sundsvall\, 854 60
CATEGORIES:Startsida,Utbildningar
END:VEVENT
BEGIN:VEVENT
DTSTART;TZID=Europe/Stockholm:20260514T080000
DTEND;TZID=Europe/Stockholm:20260516T160000
DTSTAMP:20260420T054939
CREATED:20260206T205955Z
LAST-MODIFIED:20260206T205955Z
UID:19342-1778745600-1778947200@judo.se
SUMMARY:Domarutbildning A-judo\, Lindesberg
DESCRIPTION:Info kommer.
URL:https://judo.se/event/domarutbildning-a-judo-lindesberg/
LOCATION:Lindesberg Arena\, Nyborgsgatan 1\, Lindesberg\, Sverige
CATEGORIES:Startsida,Utbildningar
END:VEVENT
BEGIN:VEVENT
DTSTART;TZID=Europe/Stockholm:20260514T080000
DTEND;TZID=Europe/Stockholm:20260516T160000
DTSTAMP:20260420T054939
CREATED:20260206T210127Z
LAST-MODIFIED:20260206T210127Z
UID:19344-1778745600-1778947200@judo.se
SUMMARY:Katakurs A-judo\, Lindesberg
DESCRIPTION:Info kommer.
URL:https://judo.se/event/katakurs-a-judo-lindesberg/
LOCATION:Lindesberg Arena\, Nyborgsgatan 1\, Lindesberg\, Sverige
CATEGORIES:Startsida,Utbildningar
END:VEVENT
END:VCALENDAR