BEGIN:VCALENDAR
VERSION:2.0
PRODID:-//Svenska Judoförbundet - ECPv6.15.20//NONSGML v1.0//EN
CALSCALE:GREGORIAN
METHOD:PUBLISH
X-ORIGINAL-URL:https://judo.se
X-WR-CALDESC:Händelser för Svenska Judoförbundet
REFRESH-INTERVAL;VALUE=DURATION:PT1H
X-Robots-Tag:noindex
X-PUBLISHED-TTL:PT1H
BEGIN:VTIMEZONE
TZID:Europe/Stockholm
BEGIN:DAYLIGHT
TZOFFSETFROM:+0100
TZOFFSETTO:+0200
TZNAME:CEST
DTSTART:20220327T010000
END:DAYLIGHT
BEGIN:STANDARD
TZOFFSETFROM:+0200
TZOFFSETTO:+0100
TZNAME:CET
DTSTART:20221030T010000
END:STANDARD
BEGIN:DAYLIGHT
TZOFFSETFROM:+0100
TZOFFSETTO:+0200
TZNAME:CEST
DTSTART:20230326T010000
END:DAYLIGHT
BEGIN:STANDARD
TZOFFSETFROM:+0200
TZOFFSETTO:+0100
TZNAME:CET
DTSTART:20231029T010000
END:STANDARD
BEGIN:DAYLIGHT
TZOFFSETFROM:+0100
TZOFFSETTO:+0200
TZNAME:CEST
DTSTART:20240331T010000
END:DAYLIGHT
BEGIN:STANDARD
TZOFFSETFROM:+0200
TZOFFSETTO:+0100
TZNAME:CET
DTSTART:20241027T010000
END:STANDARD
END:VTIMEZONE
BEGIN:VEVENT
DTSTART;VALUE=DATE:20230211
DTEND;VALUE=DATE:20230213
DTSTAMP:20260422T104416
CREATED:20221213T135048Z
LAST-MODIFIED:20230110T102617Z
UID:12774-1676073600-1676246399@judo.se
SUMMARY:Assisterande klubbtränarutbildning\, Karlstad
DESCRIPTION:﻿
URL:https://judo.se/event/assisterande-klubbtranarutbildning-karlstad/
LOCATION:Karlstad JK\, Orrholmsgatan 4\, Karlstad\, 652 15
CATEGORIES:Startsida,Utbildningar
END:VEVENT
BEGIN:VEVENT
DTSTART;TZID=Europe/Stockholm:20230211T090000
DTEND;TZID=Europe/Stockholm:20230212T160000
DTSTAMP:20260422T104416
CREATED:20221109T155010Z
LAST-MODIFIED:20230112T102040Z
UID:12523-1676106000-1676217600@judo.se
SUMMARY:Assisterande klubbtränarutbildning\, Skövde
DESCRIPTION:﻿
URL:https://judo.se/event/assisterande-klubbtranarutbildning-skovde/
LOCATION:Skövde Judoklubb\, Gesällgatan 5\, Skövde\, 541 50\, Sverige
CATEGORIES:Startsida,Utbildningar
END:VEVENT
BEGIN:VEVENT
DTSTART;TZID=Europe/Stockholm:20230211T090000
DTEND;TZID=Europe/Stockholm:20230212T160000
DTSTAMP:20260422T104416
CREATED:20221109T155902Z
LAST-MODIFIED:20230110T122821Z
UID:12528-1676106000-1676217600@judo.se
SUMMARY:Step by Step - steg 1\, Skurup
DESCRIPTION:﻿
URL:https://judo.se/event/step-by-step-steg-1-skurup/
LOCATION:Skurup Sparbank Arena\, Vaktgatan\, Skurup\, Sverige
CATEGORIES:Startsida,Utbildningar
ORGANIZER;CN="Wemmenh%C3%B6gs Budof%C3%B6rening":MAILTO:judo@wemmenhogsbudo.se
END:VEVENT
BEGIN:VEVENT
DTSTART;TZID=Europe/Stockholm:20230226T083000
DTEND;TZID=Europe/Stockholm:20230226T180000
DTSTAMP:20260422T104416
CREATED:20230119T103942Z
LAST-MODIFIED:20230119T103942Z
UID:12942-1677400200-1677434400@judo.se
SUMMARY:Regelkurs\, Växjö
DESCRIPTION:﻿
URL:https://judo.se/event/regelkurs-vaxjo-2/
LOCATION:Växjö Judoklubb\, Hejaregatan 1\, Växjö\, 35246\, Sverige
CATEGORIES:Startsida,Utbildningar
END:VEVENT
END:VCALENDAR