BEGIN:VCALENDAR
VERSION:2.0
PRODID:-//Svenska Judoförbundet - ECPv6.15.20//NONSGML v1.0//EN
CALSCALE:GREGORIAN
METHOD:PUBLISH
X-WR-CALNAME:Svenska Judoförbundet
X-ORIGINAL-URL:https://judo.se
X-WR-CALDESC:Händelser för Svenska Judoförbundet
REFRESH-INTERVAL;VALUE=DURATION:PT1H
X-Robots-Tag:noindex
X-PUBLISHED-TTL:PT1H
BEGIN:VTIMEZONE
TZID:Europe/Stockholm
BEGIN:DAYLIGHT
TZOFFSETFROM:+0100
TZOFFSETTO:+0200
TZNAME:CEST
DTSTART:20220327T010000
END:DAYLIGHT
BEGIN:STANDARD
TZOFFSETFROM:+0200
TZOFFSETTO:+0100
TZNAME:CET
DTSTART:20221030T010000
END:STANDARD
BEGIN:DAYLIGHT
TZOFFSETFROM:+0100
TZOFFSETTO:+0200
TZNAME:CEST
DTSTART:20230326T010000
END:DAYLIGHT
BEGIN:STANDARD
TZOFFSETFROM:+0200
TZOFFSETTO:+0100
TZNAME:CET
DTSTART:20231029T010000
END:STANDARD
BEGIN:DAYLIGHT
TZOFFSETFROM:+0100
TZOFFSETTO:+0200
TZNAME:CEST
DTSTART:20240331T010000
END:DAYLIGHT
BEGIN:STANDARD
TZOFFSETFROM:+0200
TZOFFSETTO:+0100
TZNAME:CET
DTSTART:20241027T010000
END:STANDARD
END:VTIMEZONE
BEGIN:VEVENT
DTSTART;VALUE=DATE:20231007
DTEND;VALUE=DATE:20231008
DTSTAMP:20260421T222350
CREATED:20230728T080236Z
LAST-MODIFIED:20230728T080236Z
UID:14266-1696636800-1696723199@judo.se
SUMMARY:Södra Judo Open 3
DESCRIPTION:Inbjudan publicerad i Smoothcomp \nNivå B.
URL:https://judo.se/event/sodra-judo-open-3-5/
LOCATION:Torvalla Sporthall\, Dalarövägen 66\, Haninge\, 136 45\, Sverige
CATEGORIES:Tävlingar
ORGANIZER;CN="IK S%C3%B6dra Judo":MAILTO:tavlingar@iksodra.com
END:VEVENT
BEGIN:VEVENT
DTSTART;VALUE=DATE:20231014
DTEND;VALUE=DATE:20231015
DTSTAMP:20260421T222350
CREATED:20230525T075814Z
LAST-MODIFIED:20230525T080002Z
UID:13892-1697241600-1697327999@judo.se
SUMMARY:Gothenburg Judo Open 2023
DESCRIPTION:Inbjudan kommer att publiceras i Smoothcomp. \nNivå B.
URL:https://judo.se/event/gothenburg-judo-open-2023/
LOCATION:Prioritet Serneke Arena\, Krutvägen 2-4\, Göteborg\, 415 28\, Sverige
CATEGORIES:Startsida,Tävlingar
END:VEVENT
BEGIN:VEVENT
DTSTART;VALUE=DATE:20231014
DTEND;VALUE=DATE:20231016
DTSTAMP:20260421T222350
CREATED:20230105T124044Z
LAST-MODIFIED:20230105T154059Z
UID:12885-1697241600-1697414399@judo.se
SUMMARY:Utvecklingstävling & läger\, Göteborg 2023
DESCRIPTION:U13-U21.\nMer information kommer.
URL:https://judo.se/event/utvecklingstavling-lager-goteborg-2023/
CATEGORIES:Läger,Startsida,Tävlingar
END:VEVENT
BEGIN:VEVENT
DTSTART;VALUE=DATE:20231028
DTEND;VALUE=DATE:20231029
DTSTAMP:20260421T222350
CREATED:20230729T073822Z
LAST-MODIFIED:20230729T073822Z
UID:14272-1698451200-1698537599@judo.se
SUMMARY:GO Cup 2023 #2
DESCRIPTION:Nivå C. \nInbjudan kommer i Smoothcomp. \n 
URL:https://judo.se/event/go-cup-2023-2/
LOCATION:Stenungsund arena\, Nösnäsvägen 2\, Stenungsund\, 444 47\, Sverige
CATEGORIES:Startsida,Tävlingar
ORGANIZER;CN="Stenungsunds JK":MAILTO:tavling@stenungsundsjudoklubb.com
END:VEVENT
BEGIN:VEVENT
DTSTART;VALUE=DATE:20231030
DTEND;VALUE=DATE:20231103
DTSTAMP:20260421T222350
CREATED:20230105T124849Z
LAST-MODIFIED:20230929T111610Z
UID:12887-1698624000-1698969599@judo.se
SUMMARY:Utvecklingsläger U15-senior\, Malmö
DESCRIPTION:﻿
URL:https://judo.se/event/utvecklingslager-malmo-2023/
LOCATION:Nationella elitcentret i Malmö\, Eric Perssons väg 8A\, Malmö\, 21762\, Sverige
CATEGORIES:Läger,Startsida
END:VEVENT
END:VCALENDAR