BEGIN:VCALENDAR
VERSION:2.0
PRODID:-//Svenska Judoförbundet - ECPv6.15.20//NONSGML v1.0//EN
CALSCALE:GREGORIAN
METHOD:PUBLISH
X-ORIGINAL-URL:https://judo.se
X-WR-CALDESC:Händelser för Svenska Judoförbundet
REFRESH-INTERVAL;VALUE=DURATION:PT1H
X-Robots-Tag:noindex
X-PUBLISHED-TTL:PT1H
BEGIN:VTIMEZONE
TZID:Europe/Stockholm
BEGIN:DAYLIGHT
TZOFFSETFROM:+0100
TZOFFSETTO:+0200
TZNAME:CEST
DTSTART:20220327T010000
END:DAYLIGHT
BEGIN:STANDARD
TZOFFSETFROM:+0200
TZOFFSETTO:+0100
TZNAME:CET
DTSTART:20221030T010000
END:STANDARD
BEGIN:DAYLIGHT
TZOFFSETFROM:+0100
TZOFFSETTO:+0200
TZNAME:CEST
DTSTART:20230326T010000
END:DAYLIGHT
BEGIN:STANDARD
TZOFFSETFROM:+0200
TZOFFSETTO:+0100
TZNAME:CET
DTSTART:20231029T010000
END:STANDARD
BEGIN:DAYLIGHT
TZOFFSETFROM:+0100
TZOFFSETTO:+0200
TZNAME:CEST
DTSTART:20240331T010000
END:DAYLIGHT
BEGIN:STANDARD
TZOFFSETFROM:+0200
TZOFFSETTO:+0100
TZNAME:CET
DTSTART:20241027T010000
END:STANDARD
END:VTIMEZONE
BEGIN:VEVENT
DTSTART;TZID=Europe/Stockholm:20230506T080000
DTEND;TZID=Europe/Stockholm:20230507T170000
DTSTAMP:20260425T193350
CREATED:20221129T104527Z
LAST-MODIFIED:20221129T104527Z
UID:12674-1683360000-1683478800@judo.se
SUMMARY:Trollträffen 1\, 2023
DESCRIPTION:Nivå B. \nInbjudan kommer att läggas upp i Smoothcomp.
URL:https://judo.se/event/trolltraffen-1-2023/
LOCATION:Arena Älvhögsborgs\, Trollhättan\, Storgatan 1\, Trollhättan\, Väst\, 46131\, Sweden
CATEGORIES:Startsida,Tävlingar
ORGANIZER;CN="Trollh%C3%A4ttans Judoklubb":MAILTO:trollhattansjk@gmail.com
END:VEVENT
BEGIN:VEVENT
DTSTART;VALUE=DATE:20230518
DTEND;VALUE=DATE:20230520
DTSTAMP:20260425T193350
CREATED:20221221T125730Z
LAST-MODIFIED:20221221T130128Z
UID:12859-1684368000-1684540799@judo.se
SUMMARY:Budo Nord Cup 2023
DESCRIPTION:Tävlingen Budo Nord Cup är en del av Lugi Judo Event 18-21 maj:\nBudo Nord Cup\, 18-19 maj (kriterietävling för utvecklingsgrupperna)\nLugi Judo Camp\, 20-21 maj. \nMer info och anmälan kommer att publiceras på Smoothcomp. \n 
URL:https://judo.se/event/budo-nord-cup-2023/
LOCATION:Victoriastadion\, Lovisastigen 2-4\, Lund\, 222 41\, Sverige
CATEGORIES:Läger,Startsida,Tävlingar
ORGANIZER;CN="Lugi Judoklubb":MAILTO:info@lugijudo.org
END:VEVENT
END:VCALENDAR