BEGIN:VCALENDAR
VERSION:2.0
PRODID:-//Svenska Judoförbundet - ECPv6.15.20//NONSGML v1.0//EN
CALSCALE:GREGORIAN
METHOD:PUBLISH
X-ORIGINAL-URL:https://judo.se
X-WR-CALDESC:Händelser för Svenska Judoförbundet
REFRESH-INTERVAL;VALUE=DURATION:PT1H
X-Robots-Tag:noindex
X-PUBLISHED-TTL:PT1H
BEGIN:VTIMEZONE
TZID:Europe/Stockholm
BEGIN:DAYLIGHT
TZOFFSETFROM:+0100
TZOFFSETTO:+0200
TZNAME:CEST
DTSTART:20220327T010000
END:DAYLIGHT
BEGIN:STANDARD
TZOFFSETFROM:+0200
TZOFFSETTO:+0100
TZNAME:CET
DTSTART:20221030T010000
END:STANDARD
BEGIN:DAYLIGHT
TZOFFSETFROM:+0100
TZOFFSETTO:+0200
TZNAME:CEST
DTSTART:20230326T010000
END:DAYLIGHT
BEGIN:STANDARD
TZOFFSETFROM:+0200
TZOFFSETTO:+0100
TZNAME:CET
DTSTART:20231029T010000
END:STANDARD
BEGIN:DAYLIGHT
TZOFFSETFROM:+0100
TZOFFSETTO:+0200
TZNAME:CEST
DTSTART:20240331T010000
END:DAYLIGHT
BEGIN:STANDARD
TZOFFSETFROM:+0200
TZOFFSETTO:+0100
TZNAME:CET
DTSTART:20241027T010000
END:STANDARD
END:VTIMEZONE
BEGIN:VEVENT
DTSTART;VALUE=DATE:20230204
DTEND;VALUE=DATE:20230206
DTSTAMP:20260426T030134
CREATED:20220926T121416Z
LAST-MODIFIED:20220926T121535Z
UID:12172-1675468800-1675641599@judo.se
SUMMARY:SM 2023
DESCRIPTION:Individuella SM för U18\, U21\, senior och veteran. \nInbjudan kommer att läggas upp i Smoothcomp.
URL:https://judo.se/event/sm-2023/
LOCATION:Eriksdalshallen\, Ringvägen 70\, Stockholm\, Sverige
CATEGORIES:Startsida,Tävlingar
END:VEVENT
BEGIN:VEVENT
DTSTART;VALUE=DATE:20230218
DTEND;VALUE=DATE:20230222
DTSTAMP:20260426T030134
CREATED:20221221T113409Z
LAST-MODIFIED:20221221T113409Z
UID:12834-1676678400-1677023999@judo.se
SUMMARY:Matsumae Cup + läger\, Danmark
DESCRIPTION:Anmälan görs direkt till arrangören. Till hemsidan.  \nKriterietävling för utvecklingsgrupp.
URL:https://judo.se/event/matsumae-cup-lager-danmark/
LOCATION:DGI-huset\, Willy Sørensens Plads\, Vejle\, 7100\, Danmark
CATEGORIES:Läger,Startsida,Tävlingar
END:VEVENT
BEGIN:VEVENT
DTSTART;TZID=Europe/Stockholm:20230225T120000
DTEND;TZID=Europe/Stockholm:20230225T160000
DTSTAMP:20260426T030134
CREATED:20221206T090720Z
LAST-MODIFIED:20221206T090720Z
UID:12744-1677326400-1677340800@judo.se
SUMMARY:Mixlagserien\, kvaltävling 2
DESCRIPTION:Inbjudan ligger i Smoothcomp.
URL:https://judo.se/event/mixlagserien-kvaltavling-2/
LOCATION:Borlänge Judo Club\, Teknikergatan 1\, Borlänge\, 78170\, Sverige
CATEGORIES:Startsida,Tävlingar
ORGANIZER;CN="Borl%C3%A4nge Judo Club":MAILTO:info@borlangejudo.se
END:VEVENT
END:VCALENDAR