BEGIN:VCALENDAR
VERSION:2.0
PRODID:-//Svenska Judoförbundet - ECPv6.15.20//NONSGML v1.0//EN
CALSCALE:GREGORIAN
METHOD:PUBLISH
X-WR-CALNAME:Svenska Judoförbundet
X-ORIGINAL-URL:https://judo.se
X-WR-CALDESC:Händelser för Svenska Judoförbundet
REFRESH-INTERVAL;VALUE=DURATION:PT1H
X-Robots-Tag:noindex
X-PUBLISHED-TTL:PT1H
BEGIN:VTIMEZONE
TZID:Europe/Stockholm
BEGIN:DAYLIGHT
TZOFFSETFROM:+0100
TZOFFSETTO:+0200
TZNAME:CEST
DTSTART:20210328T010000
END:DAYLIGHT
BEGIN:STANDARD
TZOFFSETFROM:+0200
TZOFFSETTO:+0100
TZNAME:CET
DTSTART:20211031T010000
END:STANDARD
BEGIN:DAYLIGHT
TZOFFSETFROM:+0100
TZOFFSETTO:+0200
TZNAME:CEST
DTSTART:20220327T010000
END:DAYLIGHT
BEGIN:STANDARD
TZOFFSETFROM:+0200
TZOFFSETTO:+0100
TZNAME:CET
DTSTART:20221030T010000
END:STANDARD
BEGIN:DAYLIGHT
TZOFFSETFROM:+0100
TZOFFSETTO:+0200
TZNAME:CEST
DTSTART:20230326T010000
END:DAYLIGHT
BEGIN:STANDARD
TZOFFSETFROM:+0200
TZOFFSETTO:+0100
TZNAME:CET
DTSTART:20231029T010000
END:STANDARD
BEGIN:DAYLIGHT
TZOFFSETFROM:+0100
TZOFFSETTO:+0200
TZNAME:CEST
DTSTART:20240331T010000
END:DAYLIGHT
BEGIN:STANDARD
TZOFFSETFROM:+0200
TZOFFSETTO:+0100
TZNAME:CET
DTSTART:20241027T010000
END:STANDARD
END:VTIMEZONE
BEGIN:VEVENT
DTSTART;VALUE=DATE:20230923
DTEND;VALUE=DATE:20230925
DTSTAMP:20260426T012332
CREATED:20221111T211154Z
LAST-MODIFIED:20221111T211154Z
UID:12603-1695427200-1695599999@judo.se
SUMMARY:Linde Judo Open 2023
DESCRIPTION:Tävling för U11 till Senior \n\nLänk till Smoothcomp
URL:https://judo.se/event/linde-judo-open-2023/
LOCATION:Lindesberg Arena\, Nyborgsgatan 1\, Lindesberg\, Sverige
CATEGORIES:Tävlingar
ORGANIZER;CN="Fr%C3%B6vi Judoklubb":MAILTO:info@frovijudo.se
END:VEVENT
BEGIN:VEVENT
DTSTART;VALUE=DATE:20230909
DTEND;VALUE=DATE:20230911
DTSTAMP:20260426T012332
CREATED:20230425T162156Z
LAST-MODIFIED:20230425T162156Z
UID:13383-1694217600-1694390399@judo.se
SUMMARY:Arvika Judo Cup #2 2023
DESCRIPTION:Nivå B. \nInbjudan kommer i Smoothcomp
URL:https://judo.se/event/arvika-judo-cup-2-2023/
LOCATION:Sporthallen Arvika\, Skolgatan 34\, Arvika
CATEGORIES:Tävlingar
ORGANIZER;CN="Judoklubben Arvika":MAILTO:info@judoarvika.se
END:VEVENT
BEGIN:VEVENT
DTSTART;VALUE=DATE:20230902
DTEND;VALUE=DATE:20230904
DTSTAMP:20260426T012332
CREATED:20230104T155117Z
LAST-MODIFIED:20230104T155117Z
UID:12881-1693612800-1693785599@judo.se
SUMMARY:Cracow Judo Open 2023
DESCRIPTION:Anmälan görs direkt till arrangören. Till hemsidan.
URL:https://judo.se/event/cracow-judo-open-2023/
CATEGORIES:Startsida,Tävlingar
END:VEVENT
BEGIN:VEVENT
DTSTART;VALUE=DATE:20230819
DTEND;VALUE=DATE:20230821
DTSTAMP:20260426T012332
CREATED:20230104T154136Z
LAST-MODIFIED:20230706T121707Z
UID:12878-1692403200-1692575999@judo.se
SUMMARY:Utvecklingsläger\, Lindesberg
DESCRIPTION:När: 19 augusti 2023 klockan 10:00 – 20 augusti 2023 klockan 14:30\nKostnad: 250SEK (faktureras klubbarna i efterhand) \nVar: Lindesbergs Arena\, Lindesberg \nMålgrupp: Aktiva med tävlingsambitioner från U15 – senior \nLäs mer i inbjudan: Inbjudan utvecklingsläger Lindesberg augusti 2023 \nAnmälan\, senast fredag 11 augusti via följande länk: https://educationwebregistration.idrottonline.se/home/index/1780677 \nFör frågor\, kontakta: \nPeter Andersson\npeter.andersson@lindesberg.se\n070-618 13 27\n\nFrédérik Gourlay\nfrederik.gourlay@judo.se\n072-2111330
URL:https://judo.se/event/utvecklingslager-lindesberg-2/
LOCATION:Lindesberg Arena\, Nyborgsgatan 1\, Lindesberg\, Sverige
CATEGORIES:Läger,Startsida
END:VEVENT
BEGIN:VEVENT
DTSTART;VALUE=DATE:20230812
DTEND;VALUE=DATE:20230814
DTSTAMP:20260426T012332
CREATED:20230319T111815Z
LAST-MODIFIED:20230319T111830Z
UID:13362-1691798400-1691971199@judo.se
SUMMARY:Green Hill International 2023
DESCRIPTION:Inbjudan finns i Smoothcomp.
URL:https://judo.se/event/green-hill-international-4/
LOCATION:Eriksdalshallen\, Ringvägen 70\, Stockholm\, Sverige
CATEGORIES:Startsida,Tävlingar
END:VEVENT
BEGIN:VEVENT
DTSTART;TZID=Europe/Stockholm:20230705T170000
DTEND;TZID=Europe/Stockholm:20230709T110000
DTSTAMP:20260426T012332
CREATED:20230601T135932Z
LAST-MODIFIED:20230601T135932Z
UID:13958-1688576400-1688900400@judo.se
SUMMARY:Träningsläger med landslaget\, Lindesberg
DESCRIPTION:Varmt välkomna på träningsläger med landslaget. Lägret är till för att förbereda truppen som ska till Europaungdoms-OS (EYOF)\, men lägret är öppet för klubbar att delta på.Kom ihåg att fylla i anmälningslistan (ladda ner den på egen enhet innan du fyller i) och skicka till viktor.carlsson@judo.se senast 27 juni. \n﻿ \n 
URL:https://judo.se/event/traningslager-med-landslaget-lindesberg/
LOCATION:Lindesberg Arena\, Nyborgsgatan 1\, Lindesberg\, Sverige
CATEGORIES:Läger,Startsida
END:VEVENT
BEGIN:VEVENT
DTSTART;VALUE=DATE:20230615
DTEND;VALUE=DATE:20230619
DTSTAMP:20260426T012332
CREATED:20221221T131447Z
LAST-MODIFIED:20230427T093954Z
UID:12865-1686787200-1687132799@judo.se
SUMMARY:Landslagets sommarläger 2023\, Lindesberg
DESCRIPTION:﻿
URL:https://judo.se/event/landslagets-sommarlager-2023-lindesberg/
LOCATION:Lindesberg Arena\, Nyborgsgatan 1\, Lindesberg\, Sverige
CATEGORIES:Läger,Startsida
END:VEVENT
BEGIN:VEVENT
DTSTART;VALUE=DATE:20230518
DTEND;VALUE=DATE:20230520
DTSTAMP:20260426T012332
CREATED:20221221T125730Z
LAST-MODIFIED:20221221T130128Z
UID:12859-1684368000-1684540799@judo.se
SUMMARY:Budo Nord Cup 2023
DESCRIPTION:Tävlingen Budo Nord Cup är en del av Lugi Judo Event 18-21 maj:\nBudo Nord Cup\, 18-19 maj (kriterietävling för utvecklingsgrupperna)\nLugi Judo Camp\, 20-21 maj. \nMer info och anmälan kommer att publiceras på Smoothcomp. \n 
URL:https://judo.se/event/budo-nord-cup-2023/
LOCATION:Victoriastadion\, Lovisastigen 2-4\, Lund\, 222 41\, Sverige
CATEGORIES:Läger,Startsida,Tävlingar
ORGANIZER;CN="Lugi Judoklubb":MAILTO:info@lugijudo.org
END:VEVENT
BEGIN:VEVENT
DTSTART;TZID=Europe/Stockholm:20230506T080000
DTEND;TZID=Europe/Stockholm:20230507T170000
DTSTAMP:20260426T012332
CREATED:20221129T104527Z
LAST-MODIFIED:20221129T104527Z
UID:12674-1683360000-1683478800@judo.se
SUMMARY:Trollträffen 1\, 2023
DESCRIPTION:Nivå B. \nInbjudan kommer att läggas upp i Smoothcomp.
URL:https://judo.se/event/trolltraffen-1-2023/
LOCATION:Arena Älvhögsborgs\, Trollhättan\, Storgatan 1\, Trollhättan\, Väst\, 46131\, Sweden
CATEGORIES:Startsida,Tävlingar
ORGANIZER;CN="Trollh%C3%A4ttans Judoklubb":MAILTO:trollhattansjk@gmail.com
END:VEVENT
BEGIN:VEVENT
DTSTART;TZID=Europe/Stockholm:20230423T090000
DTEND;TZID=Europe/Stockholm:20230424T143000
DTSTAMP:20260426T012332
CREATED:20221221T123536Z
LAST-MODIFIED:20230329T081720Z
UID:12857-1682240400-1682346600@judo.se
SUMMARY:Utvecklingsläger\, Göteborg
DESCRIPTION:﻿
URL:https://judo.se/event/landslagets-utvecklingslager-vast/
LOCATION:Göteborgs Judoklubb\, Andra långgatan 48\, Göteborg\, Sverige
CATEGORIES:Läger,Startsida
END:VEVENT
BEGIN:VEVENT
DTSTART;VALUE=DATE:20230422
DTEND;VALUE=DATE:20230423
DTSTAMP:20260426T012332
CREATED:20230319T114725Z
LAST-MODIFIED:20230319T114725Z
UID:13374-1682121600-1682207999@judo.se
SUMMARY:Södra Judo Open 2
DESCRIPTION:Inbjudan publicerad i Smoothcomp \nNivå B.
URL:https://judo.se/event/sodra-judo-open-2-2/
LOCATION:Torvalla Sporthall\, Dalarövägen 66\, Haninge\, 136 45\, Sverige
CATEGORIES:Tävlingar
ORGANIZER;CN="IK S%C3%B6dra Judo":MAILTO:tavlingar@iksodra.com
END:VEVENT
BEGIN:VEVENT
DTSTART;VALUE=DATE:20230422
DTEND;VALUE=DATE:20230423
DTSTAMP:20260426T012332
CREATED:20221214T143226Z
LAST-MODIFIED:20221214T143226Z
UID:12757-1682121600-1682207999@judo.se
SUMMARY:Judits pokal 2\, 2023
DESCRIPTION:Länk till anmälan i Smoothcomp
URL:https://judo.se/event/judits-pokal-2-2023/
LOCATION:Göteborgs Judoklubb\, Andra långgatan 48\, Göteborg\, Sverige
CATEGORIES:Startsida,Tävlingar
ORGANIZER;CN="G%C3%B6teborgs Judoklubb":MAILTO:info@gjk.se
END:VEVENT
BEGIN:VEVENT
DTSTART;VALUE=DATE:20230422
DTEND;VALUE=DATE:20230423
DTSTAMP:20260426T012332
CREATED:20221129T101301Z
LAST-MODIFIED:20221129T101301Z
UID:12663-1682121600-1682207999@judo.se
SUMMARY:Knislinge Judo Open
DESCRIPTION:Tävling för alla kategorier från 4 kyu. \nAnmälan i Smoothcomp.
URL:https://judo.se/event/knislinge-judo-open/
LOCATION:Knislinge Judoklubb
CATEGORIES:Tävlingar
END:VEVENT
BEGIN:VEVENT
DTSTART;TZID=Europe/Stockholm:20230415T120000
DTEND;TZID=Europe/Stockholm:20230415T160000
DTSTAMP:20260426T012332
CREATED:20230104T141536Z
LAST-MODIFIED:20230104T141536Z
UID:12871-1681560000-1681574400@judo.se
SUMMARY:Mixlagserien\, kvaltävling 4
DESCRIPTION:Inbjudan kommer i Smoothcomp.
URL:https://judo.se/event/mixlagserien-kvaltavling-4/
LOCATION:Wemmenhögs Budoförening\, Vaktgatan\, Skurup\, 274 34\, Sverige
CATEGORIES:Startsida,Tävlingar
ORGANIZER;CN="Wemmenh%C3%B6gs Budof%C3%B6rening":MAILTO:judo@wemmenhogsbudo.se
END:VEVENT
BEGIN:VEVENT
DTSTART;VALUE=DATE:20230401
DTEND;VALUE=DATE:20230403
DTSTAMP:20260426T012332
CREATED:20220930T145057Z
LAST-MODIFIED:20230310T143251Z
UID:12223-1680307200-1680479999@judo.se
SUMMARY:Landslagets utvecklingtävling + läger\, Oxelösund
DESCRIPTION:Anmälan läger: https://svenskjudo.smoothcomp.com/en/event/10044/page/24180/development-camp  \nObservera att landslagets utvecklingstävling\, som går på lördagen\, är sammanslagen med Sörmlandsträffen. För att anmäla sig gör du bara en vanlig anmälan till Sörmlandsträffen. Inbjudan till tävlingen kommer att läggas upp i Smoothcomp.
URL:https://judo.se/event/landslagets-utvecklingslager/
LOCATION:Medley Ramdalen Sportcenter\, Torpsvägen 1C\, Oxelösund\, 613 35\, Sverige
CATEGORIES:Läger,Startsida,Tävlingar
END:VEVENT
BEGIN:VEVENT
DTSTART;VALUE=DATE:20230401
DTEND;VALUE=DATE:20230402
DTSTAMP:20260426T012332
CREATED:20230127T061932Z
LAST-MODIFIED:20230127T061932Z
UID:13043-1680307200-1680393599@judo.se
SUMMARY:Sörmlandsträffen och MSWOP 2023
DESCRIPTION:Tävling U15 till Veteran \nInbjudan finns på Smoothcomp \nÄven läger på söndagen 2/4 \n 
URL:https://judo.se/event/sormlandstraffen-och-mswop-2023/
LOCATION:Medley Ramdalen Sportcenter\, Torpsvägen 1C\, Oxelösund\, 613 35\, Sverige
CATEGORIES:Tävlingar
ORGANIZER;CN="Oxel%C3%B6sunds Judoklubb":MAILTO:info@ojk.nu
END:VEVENT
BEGIN:VEVENT
DTSTART;VALUE=DATE:20230325
DTEND;VALUE=DATE:20230330
DTSTAMP:20260426T012332
CREATED:20221221T121837Z
LAST-MODIFIED:20221221T121837Z
UID:12848-1679702400-1680134399@judo.se
SUMMARY:International Thuringia Cup + läger\, Tyskland
DESCRIPTION:Kriterietävling för utvecklingsgrupp.\nAnmälan görs direkt till arrangören. Till inbjudan. Till hemsidan.  \nTävling: 25 mars.\nLäger: 26-29 mars.
URL:https://judo.se/event/international-thuringia-cup-lager-tyskland/
LOCATION:Sports center of Bad Blankenburg\, Wirbacher Straße 10\, Bad Blankenburg\, 07422\, Tyskland
CATEGORIES:Läger,Startsida,Tävlingar
ORGANIZER;CN="Thuringia Judo Federation":MAILTO:info@thueringer-judoverband.de
END:VEVENT
BEGIN:VEVENT
DTSTART;VALUE=DATE:20230325
DTEND;VALUE=DATE:20230330
DTSTAMP:20260426T012332
CREATED:20221221T115200Z
LAST-MODIFIED:20221221T120819Z
UID:12841-1679702400-1680134399@judo.se
SUMMARY:International Masters Bremen + läger\, Tyskland
DESCRIPTION:Kriterietävling för utvecklingsgrupp. Anmälan görs direkt till arrangören. Till hemsidan.  \nTävling: 24-26 mars.\nLäger: 27-29 mars.
URL:https://judo.se/event/international-masters-bremen-lager/
LOCATION:Congress Centre Bremen\, Hollerallee 99\, Bremen\, 28215\, Tyskland
CATEGORIES:Läger,Startsida,Tävlingar
END:VEVENT
BEGIN:VEVENT
DTSTART;VALUE=DATE:20230325
DTEND;VALUE=DATE:20230326
DTSTAMP:20260426T012332
CREATED:20221129T103917Z
LAST-MODIFIED:20221129T103917Z
UID:12670-1679702400-1679788799@judo.se
SUMMARY:GO cup 1\, 2023
DESCRIPTION:Nivå C. \nAnmälan via Smoothcomp. \n 
URL:https://judo.se/event/go-cup-1-2023/
LOCATION:Stenungsund arena\, Nösnäsvägen 2\, Stenungsund\, 444 47\, Sverige
CATEGORIES:Startsida,Tävlingar
ORGANIZER;CN="Stenungsunds JK":MAILTO:tavling@stenungsundsjudoklubb.com
END:VEVENT
BEGIN:VEVENT
DTSTART;TZID=Europe/Stockholm:20230318T120000
DTEND;TZID=Europe/Stockholm:20230318T160000
DTSTAMP:20260426T012332
CREATED:20230104T141330Z
LAST-MODIFIED:20230104T141330Z
UID:12869-1679140800-1679155200@judo.se
SUMMARY:Mixlagserien\, kvaltävling 3
DESCRIPTION:Inbjudan kommer i Smoothcomp.
URL:https://judo.se/event/mixlagserien-kvaltavling-3/
LOCATION:Göteborgs Judoklubb\, Andra långgatan 48\, Göteborg\, Sverige
CATEGORIES:Startsida,Tävlingar
ORGANIZER;CN="G%C3%B6teborgs Judoklubb":MAILTO:info@gjk.se
END:VEVENT
BEGIN:VEVENT
DTSTART;VALUE=DATE:20230310
DTEND;VALUE=DATE:20230313
DTSTAMP:20260426T012332
CREATED:20221221T114140Z
LAST-MODIFIED:20230113T140327Z
UID:12838-1678406400-1678665599@judo.se
SUMMARY:Utvecklingsläger\, Malmö
DESCRIPTION:﻿
URL:https://judo.se/event/landslagets-utvecklingslager-malmo/
LOCATION:Nationella elitcentret i Malmö\, Eric Perssons väg 8A\, Malmö\, 21762\, Sverige
CATEGORIES:Läger,Startsida
END:VEVENT
BEGIN:VEVENT
DTSTART;TZID=Europe/Stockholm:20230225T120000
DTEND;TZID=Europe/Stockholm:20230225T160000
DTSTAMP:20260426T012332
CREATED:20221206T090720Z
LAST-MODIFIED:20221206T090720Z
UID:12744-1677326400-1677340800@judo.se
SUMMARY:Mixlagserien\, kvaltävling 2
DESCRIPTION:Inbjudan ligger i Smoothcomp.
URL:https://judo.se/event/mixlagserien-kvaltavling-2/
LOCATION:Borlänge Judo Club\, Teknikergatan 1\, Borlänge\, 78170\, Sverige
CATEGORIES:Startsida,Tävlingar
ORGANIZER;CN="Borl%C3%A4nge Judo Club":MAILTO:info@borlangejudo.se
END:VEVENT
BEGIN:VEVENT
DTSTART;VALUE=DATE:20230218
DTEND;VALUE=DATE:20230222
DTSTAMP:20260426T012332
CREATED:20221221T113409Z
LAST-MODIFIED:20221221T113409Z
UID:12834-1676678400-1677023999@judo.se
SUMMARY:Matsumae Cup + läger\, Danmark
DESCRIPTION:Anmälan görs direkt till arrangören. Till hemsidan.  \nKriterietävling för utvecklingsgrupp.
URL:https://judo.se/event/matsumae-cup-lager-danmark/
LOCATION:DGI-huset\, Willy Sørensens Plads\, Vejle\, 7100\, Danmark
CATEGORIES:Läger,Startsida,Tävlingar
END:VEVENT
BEGIN:VEVENT
DTSTART;VALUE=DATE:20230204
DTEND;VALUE=DATE:20230206
DTSTAMP:20260426T012332
CREATED:20220926T121416Z
LAST-MODIFIED:20220926T121535Z
UID:12172-1675468800-1675641599@judo.se
SUMMARY:SM 2023
DESCRIPTION:Individuella SM för U18\, U21\, senior och veteran. \nInbjudan kommer att läggas upp i Smoothcomp.
URL:https://judo.se/event/sm-2023/
LOCATION:Eriksdalshallen\, Ringvägen 70\, Stockholm\, Sverige
CATEGORIES:Startsida,Tävlingar
END:VEVENT
BEGIN:VEVENT
DTSTART;VALUE=DATE:20230128
DTEND;VALUE=DATE:20230129
DTSTAMP:20260426T012332
CREATED:20220708T100950Z
LAST-MODIFIED:20220708T100950Z
UID:11766-1674864000-1674950399@judo.se
SUMMARY:Södra Judo Open 1
DESCRIPTION:Inbjudan publiceras i Smoothcomp \nNivå B.
URL:https://judo.se/event/sodra-judo-open-1-2/
LOCATION:Torvalla Sporthall\, Dalarövägen 66\, Haninge\, 136 45\, Sverige
CATEGORIES:Tävlingar
ORGANIZER;CN="IK S%C3%B6dra Judo":MAILTO:tavlingar@iksodra.com
END:VEVENT
BEGIN:VEVENT
DTSTART;TZID=Europe/Stockholm:20230121T100000
DTEND;TZID=Europe/Stockholm:20230122T143000
DTSTAMP:20260426T012332
CREATED:20221122T133907Z
LAST-MODIFIED:20230104T153753Z
UID:12633-1674295200-1674397800@judo.se
SUMMARY:Utvecklingsläger\, Lindesberg
DESCRIPTION:﻿
URL:https://judo.se/event/utvecklingslager-lindesberg/
LOCATION:Lindesberg Arena\, Nyborgsgatan 1\, Lindesberg\, Sverige
CATEGORIES:Läger,Startsida
ORGANIZER;CN="Fr%C3%B6vi Judoklubb":MAILTO:info@frovijudo.se
END:VEVENT
BEGIN:VEVENT
DTSTART;VALUE=DATE:20230114
DTEND;VALUE=DATE:20230116
DTSTAMP:20260426T012332
CREATED:20221221T112635Z
LAST-MODIFIED:20221221T112653Z
UID:12831-1673654400-1673827199@judo.se
SUMMARY:Matsuru Dutch Open Espoir\, Nederländerna
DESCRIPTION:Anmälan görs direkt till arrangören. Till hemsidan. \nKriterietävling för utvecklingsgrupp.
URL:https://judo.se/event/matsuru-dutch-open-espoir-nederlanderna/
LOCATION:Indoor Sports Centre Eindhoven\, Theo Koomenlaan 1\, Eindhoven\, 5644\, Nederländerna
CATEGORIES:Startsida,Tävlingar
END:VEVENT
BEGIN:VEVENT
DTSTART;VALUE=DATE:20221217
DTEND;VALUE=DATE:20221218
DTSTAMP:20260426T012332
CREATED:20221209T220000Z
LAST-MODIFIED:20220816T105135Z
UID:11433-1671235200-1671321599@judo.se
SUMMARY:Sundsvalls Cup 2022
DESCRIPTION:Inbjudan kommer att läggas upp i Smoothcomp.  \nNivå: B/C. \n 
URL:https://judo.se/event/sundsvalls-cup-2022/
LOCATION:Judo Club Sundsvall\, Björneborgsgatan 25\, Sundsvall\, 854 60
CATEGORIES:Startsida,Tävlingar
ORGANIZER;CN="Judo Sundsvall":MAILTO:info@judosundsvall.com
END:VEVENT
BEGIN:VEVENT
DTSTART;VALUE=DATE:20221126
DTEND;VALUE=DATE:20221127
DTSTAMP:20260426T012332
CREATED:20220708T100755Z
LAST-MODIFIED:20220708T100755Z
UID:11764-1669420800-1669507199@judo.se
SUMMARY:Södra Judo Open 4
DESCRIPTION:Inbjudan publiceras i Smoothcomp. \nNivå B.
URL:https://judo.se/event/sodra-judo-open-4-3/
LOCATION:Torvalla Sporthall\, Dalarövägen 66\, Haninge\, 136 45\, Sverige
CATEGORIES:Tävlingar
ORGANIZER;CN="IK S%C3%B6dra Judo":MAILTO:tavlingar@iksodra.com
END:VEVENT
BEGIN:VEVENT
DTSTART;VALUE=DATE:20221119
DTEND;VALUE=DATE:20221121
DTSTAMP:20260426T012332
CREATED:20220505T142638Z
LAST-MODIFIED:20220505T142638Z
UID:11435-1668816000-1668988799@judo.se
SUMMARY:Trollträffen 2\, 2022
DESCRIPTION:Inbjudan kommer att publiceras i Smoothcomp. \nNivå: B.
URL:https://judo.se/event/trolltraffen-2-2022/
LOCATION:Arena Älvhögsborgs\, Trollhättan\, Storgatan 1\, Trollhättan\, Väst\, 46131\, Sweden
CATEGORIES:Startsida,Tävlingar
ORGANIZER;CN="Trollh%C3%A4ttans Judoklubb":MAILTO:trollhattansjk@gmail.com
END:VEVENT
END:VCALENDAR