BEGIN:VCALENDAR
VERSION:2.0
PRODID:-//Svenska Judoförbundet - ECPv6.15.20//NONSGML v1.0//EN
CALSCALE:GREGORIAN
METHOD:PUBLISH
X-ORIGINAL-URL:https://judo.se
X-WR-CALDESC:Händelser för Svenska Judoförbundet
REFRESH-INTERVAL;VALUE=DURATION:PT1H
X-Robots-Tag:noindex
X-PUBLISHED-TTL:PT1H
BEGIN:VTIMEZONE
TZID:Europe/Stockholm
BEGIN:DAYLIGHT
TZOFFSETFROM:+0100
TZOFFSETTO:+0200
TZNAME:CEST
DTSTART:20250330T010000
END:DAYLIGHT
BEGIN:STANDARD
TZOFFSETFROM:+0200
TZOFFSETTO:+0100
TZNAME:CET
DTSTART:20251026T010000
END:STANDARD
BEGIN:DAYLIGHT
TZOFFSETFROM:+0100
TZOFFSETTO:+0200
TZNAME:CEST
DTSTART:20260329T010000
END:DAYLIGHT
BEGIN:STANDARD
TZOFFSETFROM:+0200
TZOFFSETTO:+0100
TZNAME:CET
DTSTART:20261025T010000
END:STANDARD
BEGIN:DAYLIGHT
TZOFFSETFROM:+0100
TZOFFSETTO:+0200
TZNAME:CEST
DTSTART:20270328T010000
END:DAYLIGHT
BEGIN:STANDARD
TZOFFSETFROM:+0200
TZOFFSETTO:+0100
TZNAME:CET
DTSTART:20271031T010000
END:STANDARD
END:VTIMEZONE
BEGIN:VEVENT
DTSTART;VALUE=DATE:20260502
DTEND;VALUE=DATE:20260503
DTSTAMP:20260419T210612
CREATED:20260114T101041Z
LAST-MODIFIED:20260114T101041Z
UID:19169-1777680000-1777766399@judo.se
SUMMARY:Judits pokal 2\, 2026
DESCRIPTION:Nivå C \nAnmälan i Smoothcomp.
URL:https://judo.se/event/judits-pokal-2-2026/
LOCATION:Göteborgs Judoklubb\, Andra långgatan 48\, Göteborg\, Sverige
CATEGORIES:Startsida,Tävlingar,Tävlingar i Väst
ORGANIZER;CN="G%C3%B6teborgs Judoklubb":MAILTO:info@gjk.se
END:VEVENT
BEGIN:VEVENT
DTSTART;VALUE=DATE:20260510
DTEND;VALUE=DATE:20260511
DTSTAMP:20260419T210612
CREATED:20260109T121440Z
LAST-MODIFIED:20260109T121440Z
UID:19131-1778371200-1778457599@judo.se
SUMMARY:Sigtuna Judokamp VT 2026
DESCRIPTION:Nivå C. \nInbjudan kommer i Smoothcomp.
URL:https://judo.se/event/sigtuna-judokamp-vt-2026/
LOCATION:Prästängshallen\, John Åkerlundsväg 10A\, Sigtuna\, 19331
CATEGORIES:Startsida,Tävlingar i Öst
END:VEVENT
BEGIN:VEVENT
DTSTART;VALUE=DATE:20260510
DTEND;VALUE=DATE:20260511
DTSTAMP:20260419T210612
CREATED:20260218T073816Z
LAST-MODIFIED:20260218T073816Z
UID:19366-1778371200-1778457599@judo.se
SUMMARY:POKALJAKTEN & NEWAZA OPEN 2\, 2026
DESCRIPTION:Nivå C. \nAnmälan via Smoothcomp. \n 
URL:https://judo.se/event/pokaljakten-newaza-open-2-2026/
LOCATION:Jönsbergska Idrottshall\, Sprängstensgatan 1\, Norrköping
CATEGORIES:Startsida,Tävlingar i Öst
END:VEVENT
BEGIN:VEVENT
DTSTART;VALUE=DATE:20260514
DTEND;VALUE=DATE:20260518
DTSTAMP:20260419T210612
CREATED:20251112T100756Z
LAST-MODIFIED:20251112T100756Z
UID:18800-1778716800-1779062399@judo.se
SUMMARY:BUDO NORD CUP & LUGI JUDO CAMP 2026
DESCRIPTION:Nivå B. \nMer info och anmälan kommer i Smoothcomp.
URL:https://judo.se/event/budo-nord-cup-lugi-judo-camp-2026/
LOCATION:Victoriastadion\, Lovisastigen 2-4\, Lund\, 222 41\, Sverige
CATEGORIES:Läger,Startsida,Tävlingar,Tävlingar i Syd
ORGANIZER;CN="Lugi Judoklubb":MAILTO:info@lugijudo.org
END:VEVENT
END:VCALENDAR