BEGIN:VCALENDAR
VERSION:2.0
PRODID:-//Svenska Judoförbundet - ECPv6.15.20//NONSGML v1.0//EN
CALSCALE:GREGORIAN
METHOD:PUBLISH
X-WR-CALNAME:Svenska Judoförbundet
X-ORIGINAL-URL:https://judo.se
X-WR-CALDESC:Händelser för Svenska Judoförbundet
REFRESH-INTERVAL;VALUE=DURATION:PT1H
X-Robots-Tag:noindex
X-PUBLISHED-TTL:PT1H
BEGIN:VTIMEZONE
TZID:Europe/Stockholm
BEGIN:DAYLIGHT
TZOFFSETFROM:+0100
TZOFFSETTO:+0200
TZNAME:CEST
DTSTART:20240331T010000
END:DAYLIGHT
BEGIN:STANDARD
TZOFFSETFROM:+0200
TZOFFSETTO:+0100
TZNAME:CET
DTSTART:20241027T010000
END:STANDARD
BEGIN:DAYLIGHT
TZOFFSETFROM:+0100
TZOFFSETTO:+0200
TZNAME:CEST
DTSTART:20250330T010000
END:DAYLIGHT
BEGIN:STANDARD
TZOFFSETFROM:+0200
TZOFFSETTO:+0100
TZNAME:CET
DTSTART:20251026T010000
END:STANDARD
BEGIN:DAYLIGHT
TZOFFSETFROM:+0100
TZOFFSETTO:+0200
TZNAME:CEST
DTSTART:20260329T010000
END:DAYLIGHT
BEGIN:STANDARD
TZOFFSETFROM:+0200
TZOFFSETTO:+0100
TZNAME:CET
DTSTART:20261025T010000
END:STANDARD
BEGIN:DAYLIGHT
TZOFFSETFROM:+0100
TZOFFSETTO:+0200
TZNAME:CEST
DTSTART:20270328T010000
END:DAYLIGHT
BEGIN:STANDARD
TZOFFSETFROM:+0200
TZOFFSETTO:+0100
TZNAME:CET
DTSTART:20271031T010000
END:STANDARD
END:VTIMEZONE
BEGIN:VEVENT
DTSTART;VALUE=DATE:20250906
DTEND;VALUE=DATE:20250907
DTSTAMP:20260421T115208
CREATED:20241112T103406Z
LAST-MODIFIED:20250319T102516Z
UID:16727-1757116800-1757203199@judo.se
SUMMARY:Arvika Judo Cup 2025
DESCRIPTION:Nivå B \nInbjudan i Smoothcomp
URL:https://judo.se/event/arvika-judo-cup-2025/
LOCATION:Sporthallen Arvika\, Skolgatan 34\, Arvika
CATEGORIES:Startsida,Tävlingar
ORGANIZER;CN="Judoklubben Arvika":MAILTO:info@judoarvika.se
END:VEVENT
BEGIN:VEVENT
DTSTART;VALUE=DATE:20250907
DTEND;VALUE=DATE:20250908
DTSTAMP:20260421T115208
CREATED:20241107T113422Z
LAST-MODIFIED:20241112T103447Z
UID:16707-1757203200-1757289599@judo.se
SUMMARY:Wermland Judo Games 2025
DESCRIPTION:Nivå C. \nNybörjartävling\, oavsett bälte som tävlat max 10 gånger. \nInbjudan kommer i Smoothcomp
URL:https://judo.se/event/wermland-judo-games-2025/
LOCATION:Sporthallen Arvika\, Skolgatan 34\, Arvika
CATEGORIES:Startsida,Tävlingar
ORGANIZER;CN="Judoklubben Arvika":MAILTO:info@judoarvika.se
END:VEVENT
BEGIN:VEVENT
DTSTART;VALUE=DATE:20250913
DTEND;VALUE=DATE:20250914
DTSTAMP:20260421T115208
CREATED:20250611T090932Z
LAST-MODIFIED:20250611T090932Z
UID:18261-1757721600-1757807999@judo.se
SUMMARY:Södra Judo Open 3 2025
DESCRIPTION:Inbjudan kommer i Smoothcomp \nNivå B.
URL:https://judo.se/event/sodra-judo-open-3-2025/
LOCATION:Torvalla Sporthall\, Dalarövägen 66\, Haninge\, 136 45\, Sverige
CATEGORIES:Startsida,Tävlingar,Tävlingar i Öst
ORGANIZER;CN="IK S%C3%B6dra Judo":MAILTO:tavlingar@iksodra.com
END:VEVENT
BEGIN:VEVENT
DTSTART;VALUE=DATE:20250927
DTEND;VALUE=DATE:20250928
DTSTAMP:20260421T115208
CREATED:20250826T071354Z
LAST-MODIFIED:20250826T071354Z
UID:18425-1758931200-1759017599@judo.se
SUMMARY:POKALJAKTEN & NEWAZA OPEN 3\, 2025
DESCRIPTION:Nivå C. \nAnmälan via Smoothcomp. \n 
URL:https://judo.se/event/pokaljakten-newaza-open-3-2025/
LOCATION:Jönsbergska Idrottshall\, Sprängstensgatan 1\, Norrköping
CATEGORIES:Startsida,Tävlingar i Öst
END:VEVENT
BEGIN:VEVENT
DTSTART;VALUE=DATE:20250927
DTEND;VALUE=DATE:20250929
DTSTAMP:20260421T115208
CREATED:20241126T103023Z
LAST-MODIFIED:20241126T103023Z
UID:16864-1758931200-1759103999@judo.se
SUMMARY:Linde Judo Open 2025
DESCRIPTION:Tävling för U11 till Senior. Även läger på söndagen. \n\nInbjudan finns i Smoothcomp.
URL:https://judo.se/event/linde-judo-open-2025/
LOCATION:Lindesberg Arena\, Nyborgsgatan 1\, Lindesberg\, Sverige
CATEGORIES:Startsida,Tävlingar
ORGANIZER;CN="Fr%C3%B6vi Judoklubb":MAILTO:info@frovijudo.se
END:VEVENT
BEGIN:VEVENT
DTSTART;VALUE=DATE:20260926
DTEND;VALUE=DATE:20260927
DTSTAMP:20260421T115208
CREATED:20250828T073223Z
LAST-MODIFIED:20250828T073223Z
UID:18443-1790380800-1790467199@judo.se
SUMMARY:Linde Judo Open 2026
DESCRIPTION:Tävling för U11 till Senior. Även läger på söndagen. \n\nInbjudan kommer i Smoothcomp.
URL:https://judo.se/event/linde-judo-open-2026/
LOCATION:Lindesberg Arena\, Nyborgsgatan 1\, Lindesberg\, Sverige
CATEGORIES:Startsida,Tävlingar i Öst,Tävlingar i Väst
ORGANIZER;CN="Fr%C3%B6vi Judoklubb":MAILTO:info@frovijudo.se
END:VEVENT
END:VCALENDAR