BEGIN:VCALENDAR
VERSION:2.0
PRODID:-//Svenska Judoförbundet - ECPv6.15.20//NONSGML v1.0//EN
CALSCALE:GREGORIAN
METHOD:PUBLISH
X-WR-CALNAME:Svenska Judoförbundet
X-ORIGINAL-URL:https://judo.se
X-WR-CALDESC:Händelser för Svenska Judoförbundet
REFRESH-INTERVAL;VALUE=DURATION:PT1H
X-Robots-Tag:noindex
X-PUBLISHED-TTL:PT1H
BEGIN:VTIMEZONE
TZID:Europe/Stockholm
BEGIN:DAYLIGHT
TZOFFSETFROM:+0100
TZOFFSETTO:+0200
TZNAME:CEST
DTSTART:20240331T010000
END:DAYLIGHT
BEGIN:STANDARD
TZOFFSETFROM:+0200
TZOFFSETTO:+0100
TZNAME:CET
DTSTART:20241027T010000
END:STANDARD
BEGIN:DAYLIGHT
TZOFFSETFROM:+0100
TZOFFSETTO:+0200
TZNAME:CEST
DTSTART:20250330T010000
END:DAYLIGHT
BEGIN:STANDARD
TZOFFSETFROM:+0200
TZOFFSETTO:+0100
TZNAME:CET
DTSTART:20251026T010000
END:STANDARD
BEGIN:DAYLIGHT
TZOFFSETFROM:+0100
TZOFFSETTO:+0200
TZNAME:CEST
DTSTART:20260329T010000
END:DAYLIGHT
BEGIN:STANDARD
TZOFFSETFROM:+0200
TZOFFSETTO:+0100
TZNAME:CET
DTSTART:20261025T010000
END:STANDARD
BEGIN:DAYLIGHT
TZOFFSETFROM:+0100
TZOFFSETTO:+0200
TZNAME:CEST
DTSTART:20270328T010000
END:DAYLIGHT
BEGIN:STANDARD
TZOFFSETFROM:+0200
TZOFFSETTO:+0100
TZNAME:CET
DTSTART:20271031T010000
END:STANDARD
END:VTIMEZONE
BEGIN:VEVENT
DTSTART;VALUE=DATE:20251004
DTEND;VALUE=DATE:20251005
DTSTAMP:20260420T135639
CREATED:20241126T100930Z
LAST-MODIFIED:20250217T082647Z
UID:16856-1759536000-1759622399@judo.se
SUMMARY:Wemmenhögs Judo Open 2025
DESCRIPTION:Mer info och inbjudan i Smoothcomp
URL:https://judo.se/event/wemmenhogs-judo-open-2025/
LOCATION:Skurup Sparbanks Arena\,\, Vaktgatan\, Skurup\, 274 34\, Sverige
CATEGORIES:Startsida,Tävlingar,Tävlingar i Syd
ORGANIZER;CN="Wemmenh%C3%B6gs Budof%C3%B6rening":MAILTO:judo@wemmenhogsbudo.se
END:VEVENT
BEGIN:VEVENT
DTSTART;VALUE=DATE:20251004
DTEND;VALUE=DATE:20251006
DTSTAMP:20260420T135639
CREATED:20250305T103327Z
LAST-MODIFIED:20250509T075511Z
UID:17746-1759536000-1759708799@judo.se
SUMMARY:GO Cup 2\, 2025
DESCRIPTION:Nivå C + läger söndag \nAnmälan via Smoothcomp. \n 
URL:https://judo.se/event/go-cup-2-2025/
LOCATION:Stenungsund arena\, Nösnäsvägen 2\, Stenungsund\, 444 47\, Sverige
CATEGORIES:Läger,Startsida,Tävlingar i Väst
ORGANIZER;CN="Stenungsunds JK":MAILTO:tavling@stenungsundsjudoklubb.com
END:VEVENT
BEGIN:VEVENT
DTSTART;VALUE=DATE:20251011
DTEND;VALUE=DATE:20251012
DTSTAMP:20260420T135639
CREATED:20241126T101921Z
LAST-MODIFIED:20241126T101921Z
UID:16862-1760140800-1760227199@judo.se
SUMMARY:Dalsland Open 2 2025
DESCRIPTION:Nivå C. \nInbjudan kommer i Smoothcomp.
URL:https://judo.se/event/dalsland-open-2-2025/
LOCATION:Rådahallen\, Bergsgatan 28\, Mellerud\, 464 30\, Sverige
CATEGORIES:Startsida,Tävlingar
ORGANIZER;CN="Kroppefj%C3%A4lls IF":MAILTO:info@kroppefjallsif.se
END:VEVENT
BEGIN:VEVENT
DTSTART;VALUE=DATE:20251018
DTEND;VALUE=DATE:20251019
DTSTAMP:20260420T135639
CREATED:20250305T105420Z
LAST-MODIFIED:20250305T105707Z
UID:17752-1760745600-1760831999@judo.se
SUMMARY:Solnakampen Ht 2025
DESCRIPTION:Nivå C. \nInbjudan kommer i Smoothcomp.
URL:https://judo.se/event/solnakampen-ht-2025/
LOCATION:Solna Judoklubb\, Ankdammsgatan 23\, Solna\, 171 67
CATEGORIES:Startsida,Tävlingar
ORGANIZER;CN="Solna Judoklubb":MAILTO:info@solnajudo.se
END:VEVENT
BEGIN:VEVENT
DTSTART;VALUE=DATE:20251018
DTEND;VALUE=DATE:20251019
DTSTAMP:20260420T135639
CREATED:20250509T080343Z
LAST-MODIFIED:20250509T080343Z
UID:18059-1760745600-1760831999@judo.se
SUMMARY:Mittpunktscupen 2025
DESCRIPTION:Nivå C. \nMer info och inbjudan kommer i SmoothComp.
URL:https://judo.se/event/mittpunktscupen-2025/
LOCATION:Ljungandalens bad och sport\, badhusvägen 9\, Fränsta\, Sweden
CATEGORIES:Startsida,Tävlingar i Norr
ORGANIZER;CN="%C3%85nge Judoklubb":MAILTO:info.angejudo@gmail.com
END:VEVENT
BEGIN:VEVENT
DTSTART;VALUE=DATE:20251018
DTEND;VALUE=DATE:20251019
DTSTAMP:20260420T135639
CREATED:20250707T094218Z
LAST-MODIFIED:20250815T073745Z
UID:18330-1760745600-1760831999@judo.se
SUMMARY:Oxelöträffen 2025 & DM SÖJF
DESCRIPTION:Tävling U9 till U13\, Nybörjare \nÄven DM för judodistriktet SÖJF. Endast för medlemmar i SÖJF. \nInbjudan finns på Smoothcomp \n  \n 
URL:https://judo.se/event/oxelotraffen-2025-dm-sojf/
LOCATION:Medley Ramdalen Sportcenter\, Torpsvägen 1C\, Oxelösund\, 613 35\, Sverige
CATEGORIES:Startsida,Tävlingar i Öst
ORGANIZER;CN="Oxel%C3%B6sunds Judoklubb":MAILTO:info@ojk.nu
END:VEVENT
BEGIN:VEVENT
DTSTART;VALUE=DATE:20251108
DTEND;VALUE=DATE:20251109
DTSTAMP:20260420T135639
CREATED:20250204T125322Z
LAST-MODIFIED:20250611T090416Z
UID:17396-1762560000-1762646399@judo.se
SUMMARY:Judits pokal 4\, 2025
DESCRIPTION:Judits pokal och Lilla Judits \nAnmälan Judits pokal i Smoothcomp. \nAnmälan Lilla Judits i Smoothcomp.
URL:https://judo.se/event/judits-pokal-4-2025/
LOCATION:Göteborgs Judoklubb\, Andra långgatan 48\, Göteborg\, Sverige
CATEGORIES:Startsida,Tävlingar,Tävlingar i Väst
ORGANIZER;CN="G%C3%B6teborgs Judoklubb":MAILTO:info@gjk.se
END:VEVENT
BEGIN:VEVENT
DTSTART;VALUE=DATE:20251115
DTEND;VALUE=DATE:20251116
DTSTAMP:20260420T135639
CREATED:20250922T090213Z
LAST-MODIFIED:20250922T090213Z
UID:18559-1763164800-1763251199@judo.se
SUMMARY:Sigtuna Judokamp HT 2025
DESCRIPTION:Nivå C. \nInbjudan ligger i Smoothcomp.
URL:https://judo.se/event/sigtuna-judokamp-ht-2025/
LOCATION:Prästängshallen\, John Åkerlundsväg 10A\, Sigtuna\, 19331
CATEGORIES:Startsida,Tävlingar i Öst
END:VEVENT
BEGIN:VEVENT
DTSTART;TZID=Europe/Stockholm:20251115T080000
DTEND;TZID=Europe/Stockholm:20251116T170000
DTSTAMP:20260420T135639
CREATED:20250102T170327Z
LAST-MODIFIED:20250217T082520Z
UID:17123-1763193600-1763312400@judo.se
SUMMARY:Trollträffen 2\, 2025
DESCRIPTION:Nivå B. \nInbjudan kommer i Smoothcomp.
URL:https://judo.se/event/trolltraffen-2-2025/
LOCATION:Arena Älvhögsborgs\, Trollhättan\, Storgatan 1\, Trollhättan\, Väst\, 46131\, Sweden
CATEGORIES:Startsida,Tävlingar,Tävlingar i Väst
ORGANIZER;CN="Trollh%C3%A4ttans Judoklubb":MAILTO:trollhattansjk@gmail.com
END:VEVENT
BEGIN:VEVENT
DTSTART;VALUE=DATE:20251129
DTEND;VALUE=DATE:20251130
DTSTAMP:20260420T135639
CREATED:20250320T092707Z
LAST-MODIFIED:20250320T092707Z
UID:17813-1764374400-1764460799@judo.se
SUMMARY:Drakstaden Cup 2 2025
DESCRIPTION:Inbjudan finns i Smoothcomp.  \nNivå: C. \n 
URL:https://judo.se/event/drakstaden-cup-2-2025/
LOCATION:Judo Club Sundsvall\, Björneborgsgatan 25\, Sundsvall\, 854 60
CATEGORIES:Startsida,Tävlingar,Tävlingar i Norr
ORGANIZER;CN="Judo Sundsvall":MAILTO:info@judosundsvall.com
END:VEVENT
BEGIN:VEVENT
DTSTART;VALUE=DATE:20251129
DTEND;VALUE=DATE:20251130
DTSTAMP:20260420T135639
CREATED:20250611T090751Z
LAST-MODIFIED:20250611T090751Z
UID:18259-1764374400-1764460799@judo.se
SUMMARY:Södra Judo Open 4 2025
DESCRIPTION:Inbjudan kommer i Smoothcomp \nNivå B.
URL:https://judo.se/event/sodra-judo-open-4-2025/
LOCATION:Torvalla Sporthall\, Dalarövägen 66\, Haninge\, 136 45\, Sverige
CATEGORIES:Startsida,Tävlingar,Tävlingar i Öst
ORGANIZER;CN="IK S%C3%B6dra Judo":MAILTO:tavlingar@iksodra.com
END:VEVENT
BEGIN:VEVENT
DTSTART;VALUE=DATE:20251129
DTEND;VALUE=DATE:20251130
DTSTAMP:20260420T135639
CREATED:20250922T090509Z
LAST-MODIFIED:20250922T090509Z
UID:18561-1764374400-1764460799@judo.se
SUMMARY:Lilla Trollträffen 4\, 2025
DESCRIPTION:Anmälan kommer i Smoothcomp \nNivå C.
URL:https://judo.se/event/lilla-trolltraffen-4-2025/
LOCATION:Arena Älvhögsborgs\, Trollhättan\, Storgatan 1\, Trollhättan\, Väst\, 46131\, Sweden
CATEGORIES:Startsida,Tävlingar i Väst
ORGANIZER;CN="Trollh%C3%A4ttans Judoklubb":MAILTO:trollhattansjk@gmail.com
END:VEVENT
BEGIN:VEVENT
DTSTART;VALUE=DATE:20251206
DTEND;VALUE=DATE:20251207
DTSTAMP:20260420T135639
CREATED:20250826T072330Z
LAST-MODIFIED:20250826T072330Z
UID:18429-1764979200-1765065599@judo.se
SUMMARY:POKALJAKTEN & NEWAZA OPEN 4\, 2025
DESCRIPTION:Nivå C. \nAnmälan kommer i Smoothcomp. \n 
URL:https://judo.se/event/pokaljakten-newaza-open-4-2025/
LOCATION:Jönsbergska Idrottshall\, Sprängstensgatan 1\, Norrköping
CATEGORIES:Startsida,Tävlingar i Öst
END:VEVENT
BEGIN:VEVENT
DTSTART;VALUE=DATE:20251206
DTEND;VALUE=DATE:20251207
DTSTAMP:20260420T135639
CREATED:20251111T084904Z
LAST-MODIFIED:20251111T084904Z
UID:18786-1764979200-1765065599@judo.se
SUMMARY:BohusDal Cup 3 2025
DESCRIPTION:Nivå C. \nFör klubbar i BDJF. Tävlande från klubbar från andra distrikt är välkomna i mån av plats. \nKlubbar i Bohuslän och Dal distriktet kan samla poäng under året. \nAnmälan via Smoothcomp. \n 
URL:https://judo.se/event/bohusdal-cup-3-2025/
LOCATION:Brastad sporthall\, Sågvägen 13\, Brastad\, 45430\, Sweden
CATEGORIES:Startsida,Tävlingar i Väst
ORGANIZER;CN="Gullmarens Judo":MAILTO:gullmarensjudo@hotmail.com
END:VEVENT
BEGIN:VEVENT
DTSTART;VALUE=DATE:20251214
DTEND;VALUE=DATE:20251215
DTSTAMP:20260420T135639
CREATED:20250926T090126Z
LAST-MODIFIED:20250926T090126Z
UID:18596-1765670400-1765756799@judo.se
SUMMARY:Uppsala Judo Cup
DESCRIPTION:Nivå C. \nInbjudan kommer i Smoothcomp.
URL:https://judo.se/event/uppsala-judo-cup-3/
LOCATION:Fyrishov\, Tuna backar\, Uppsala\, 75217
CATEGORIES:Startsida,Tävlingar i Öst
END:VEVENT
BEGIN:VEVENT
DTSTART;VALUE=DATE:20260117
DTEND;VALUE=DATE:20260118
DTSTAMP:20260420T135639
CREATED:20251111T093725Z
LAST-MODIFIED:20251111T093725Z
UID:18791-1768608000-1768694399@judo.se
SUMMARY:Södra Judo Open 1 2026
DESCRIPTION:Denna tävlingen är bara för nybörjare i Stockholmsregionen. \nInbjudan publicerad i Smoothcomp \nNivå C.
URL:https://judo.se/event/sodra-judo-open-1-2026/
LOCATION:Torvalla Sporthall\, Dalarövägen 66\, Haninge\, 136 45\, Sverige
CATEGORIES:Startsida,Tävlingar,Tävlingar i Öst
ORGANIZER;CN="IK S%C3%B6dra Judo":MAILTO:tavlingar@iksodra.com
END:VEVENT
BEGIN:VEVENT
DTSTART;VALUE=DATE:20260214
DTEND;VALUE=DATE:20260215
DTSTAMP:20260420T135639
CREATED:20251205T101554Z
LAST-MODIFIED:20251205T101554Z
UID:18970-1771027200-1771113599@judo.se
SUMMARY:Lilla Trollträffen 1\, 2026
DESCRIPTION:Nivå C. \nAnmälan görs i Smoothcomp \n 
URL:https://judo.se/event/lilla-trolltraffen-1-2026/
LOCATION:Arena Älvhögsborgs\, Trollhättan\, Storgatan 1\, Trollhättan\, Väst\, 46131\, Sweden
CATEGORIES:Startsida,Tävlingar,Tävlingar i Väst
ORGANIZER;CN="Trollh%C3%A4ttans Judoklubb":MAILTO:trollhattansjk@gmail.com
END:VEVENT
BEGIN:VEVENT
DTSTART;VALUE=DATE:20260215
DTEND;VALUE=DATE:20260216
DTSTAMP:20260420T135639
CREATED:20251112T093632Z
LAST-MODIFIED:20251112T093632Z
UID:18793-1771113600-1771199999@judo.se
SUMMARY:Knivsta Judo Cup 1 2026
DESCRIPTION:Nivå C \nTävling för kategorierna U9 till U13 med högst grönt bälte. \nLänk till Smoothcomp.
URL:https://judo.se/event/knivsta-judo-cup-1-2026/
LOCATION:Knivsta Centrum för Idrott och Kultur\, Parkvägen 31 A\, Knivsta\, 74140\, Sverige
CATEGORIES:Startsida,Tävlingar i Öst
END:VEVENT
BEGIN:VEVENT
DTSTART;VALUE=DATE:20260221
DTEND;VALUE=DATE:20260222
DTSTAMP:20260420T135639
CREATED:20260114T100545Z
LAST-MODIFIED:20260114T100545Z
UID:19167-1771632000-1771718399@judo.se
SUMMARY:Judits pokal 1\, 2026
DESCRIPTION:Nivå C \nAnmälan i Smoothcomp.
URL:https://judo.se/event/judits-pokal-1-2026/
LOCATION:Göteborgs Judoklubb\, Andra långgatan 48\, Göteborg\, Sverige
CATEGORIES:Startsida,Tävlingar,Tävlingar i Väst
ORGANIZER;CN="G%C3%B6teborgs Judoklubb":MAILTO:info@gjk.se
END:VEVENT
BEGIN:VEVENT
DTSTART;VALUE=DATE:20260228
DTEND;VALUE=DATE:20260301
DTSTAMP:20260420T135639
CREATED:20251208T111142Z
LAST-MODIFIED:20251208T111142Z
UID:19000-1772236800-1772323199@judo.se
SUMMARY:Västgötaserien 1 2026 Skövde
DESCRIPTION:Nivå C \nEn nybörjartävling upp till orange bälte där man samlar poäng under hela årets tävlingar. \nInbjudan kommer i Smoothcomp
URL:https://judo.se/event/vastgotaserien-1-2026-skovde/
LOCATION:Skövde Judoklubb\, Gesällgatan 5\, Skövde\, 541 50\, Sverige
CATEGORIES:Startsida,Tävlingar,Tävlingar i Väst
END:VEVENT
BEGIN:VEVENT
DTSTART;VALUE=DATE:20260228
DTEND;VALUE=DATE:20260301
DTSTAMP:20260420T135639
CREATED:20260218T074336Z
LAST-MODIFIED:20260218T074336Z
UID:19368-1772236800-1772323199@judo.se
SUMMARY:POKALJAKTEN & NEWAZA OPEN 1\, 2026
DESCRIPTION:Nivå C. \nAnmälan via Smoothcomp.
URL:https://judo.se/event/pokaljakten-newaza-open-1-2026/
LOCATION:Jönsbergska Idrottshall\, Sprängstensgatan 1\, Norrköping
CATEGORIES:Startsida,Tävlingar i Öst
END:VEVENT
BEGIN:VEVENT
DTSTART;VALUE=DATE:20260301
DTEND;VALUE=DATE:20260302
DTSTAMP:20260420T135639
CREATED:20260218T074724Z
LAST-MODIFIED:20260218T074724Z
UID:19371-1772323200-1772409599@judo.se
SUMMARY:BohusDal Cup 1 2026
DESCRIPTION:Nivå C. \nFör klubbar i BDJF. Tävlande från klubbar från andra distrikt är välkomna i mån av plats. \nKlubbar i Bohuslän och Dal distriktet kan samla poäng under året. \nAnmälan via Smoothcomp. \n 
URL:https://judo.se/event/bohusdal-cup-1-2026/
LOCATION:Rimnershallen\, Rimnersgatan 13\, Uddevalla\, 451 52\, Sverige
CATEGORIES:Startsida,Tävlingar i Väst
END:VEVENT
BEGIN:VEVENT
DTSTART;VALUE=DATE:20260314
DTEND;VALUE=DATE:20260315
DTSTAMP:20260420T135639
CREATED:20250310T092123Z
LAST-MODIFIED:20251120T124448Z
UID:17765-1773446400-1773532799@judo.se
SUMMARY:Judo Sundsvalls Cup 2026
DESCRIPTION:Nivå: B/C. \nInbjudan ligger i Smoothcomp.  \n  \n 
URL:https://judo.se/event/judo-sundsvalls-cup-2026/
LOCATION:Judo Club Sundsvall\, Björneborgsgatan 25\, Sundsvall\, 854 60
CATEGORIES:Startsida,Tävlingar,Tävlingar i Norr
ORGANIZER;CN="Judo Sundsvall":MAILTO:info@judosundsvall.com
END:VEVENT
BEGIN:VEVENT
DTSTART;VALUE=DATE:20260314
DTEND;VALUE=DATE:20260315
DTSTAMP:20260420T135639
CREATED:20250505T093224Z
LAST-MODIFIED:20260109T121619Z
UID:18028-1773446400-1773532799@judo.se
SUMMARY:Knislinge Judo Open 2026
DESCRIPTION:Tävling för alla kategorier från 4 kyu. \nAnmälan i Smoothcomp.
URL:https://judo.se/event/knislinge-judo-open-2026/
LOCATION:Knislinge Judoklubb
CATEGORIES:Startsida,Tävlingar i Syd
END:VEVENT
BEGIN:VEVENT
DTSTART;VALUE=DATE:20260315
DTEND;VALUE=DATE:20260316
DTSTAMP:20260420T135639
CREATED:20250505T093600Z
LAST-MODIFIED:20250505T093600Z
UID:18031-1773532800-1773619199@judo.se
SUMMARY:Skåneserien 1 i Knislinge 2026
DESCRIPTION:Nivå C. \nMer info och inbjudan kommer i SmoothComp.
URL:https://judo.se/event/skaneserien-1-i-knislinge-2026/
LOCATION:Snapphanehallen\, Sigfrids väg 26\, Knislinge\, 289 31
CATEGORIES:Startsida,Tävlingar i Syd
END:VEVENT
BEGIN:VEVENT
DTSTART;VALUE=DATE:20260321
DTEND;VALUE=DATE:20260322
DTSTAMP:20260420T135639
CREATED:20251112T094801Z
LAST-MODIFIED:20251112T094801Z
UID:18796-1774051200-1774137599@judo.se
SUMMARY:Solnakampen VT 26
DESCRIPTION:Nivå C. \nInbjudan kommer i Smoothcomp.
URL:https://judo.se/event/solnakampen-vt-26/
LOCATION:Solna Judoklubb\, Ankdammsgatan 23\, Solna\, 171 67
CATEGORIES:Startsida,Tävlingar i Öst
ORGANIZER;CN="Solna Judoklubb":MAILTO:info@solnajudo.se
END:VEVENT
BEGIN:VEVENT
DTSTART;VALUE=DATE:20260321
DTEND;VALUE=DATE:20260322
DTSTAMP:20260420T135639
CREATED:20260109T113200Z
LAST-MODIFIED:20260109T113200Z
UID:19121-1774051200-1774137599@judo.se
SUMMARY:Västgötaserien 2 2026 Lidköping
DESCRIPTION:Nivå C \nEn nybörjartävling upp till orange bälte där man samlar poäng under hela årets tävlingar. \nFör klubbar i VJF. Tävlande från klubbar från andra distrikt är välkomna i mån av plats. \nInbjudan ligger i Smoothcomp
URL:https://judo.se/event/vastgotaserien-2-2026-lidkoping/
LOCATION:Idrottenshus\, Lidköping\, Hallgatan 1\, Lidköping\, Sverige
CATEGORIES:Startsida,Tävlingar,Tävlingar i Väst
END:VEVENT
BEGIN:VEVENT
DTSTART;VALUE=DATE:20260328
DTEND;VALUE=DATE:20260330
DTSTAMP:20260420T135639
CREATED:20250505T093802Z
LAST-MODIFIED:20250505T093802Z
UID:18035-1774656000-1774828799@judo.se
SUMMARY:GO Cup 1 & Läger\, 2026
DESCRIPTION:Nivå C. \nSöndagens läger är för alla bälten. \nAnmälan via Smoothcomp. \n 
URL:https://judo.se/event/go-cup-1-lager-2026/
LOCATION:Stenungsund arena\, Nösnäsvägen 2\, Stenungsund\, 444 47\, Sverige
CATEGORIES:Startsida,Tävlingar i Väst
ORGANIZER;CN="Stenungsunds JK":MAILTO:tavling@stenungsundsjudoklubb.com
END:VEVENT
BEGIN:VEVENT
DTSTART;VALUE=DATE:20260411
DTEND;VALUE=DATE:20260412
DTSTAMP:20260420T135639
CREATED:20260218T075700Z
LAST-MODIFIED:20260218T075700Z
UID:19375-1775865600-1775951999@judo.se
SUMMARY:Uppsala Judo Cup April 2026
DESCRIPTION:Nivå C. \nInbjudan kommer i Smoothcomp.
URL:https://judo.se/event/uppsala-judo-cup-april-2026/
LOCATION:Fyrishov\, Tuna backar\, Uppsala\, 75217
CATEGORIES:Startsida,Tävlingar i Öst
END:VEVENT
BEGIN:VEVENT
DTSTART;TZID=Europe/Stockholm:20260411T080000
DTEND;TZID=Europe/Stockholm:20260412T170000
DTSTAMP:20260420T135639
CREATED:20250617T085752Z
LAST-MODIFIED:20250623T064500Z
UID:18284-1775894400-1776013200@judo.se
SUMMARY:Trollträffen 1\, 2026
DESCRIPTION:Nivå B. \nInbjudan kommer i Smoothcomp.
URL:https://judo.se/event/trolltraffen-1-2026/
LOCATION:Arena Älvhögsborgs\, Trollhättan\, Storgatan 1\, Trollhättan\, Väst\, 46131\, Sweden
CATEGORIES:Startsida,Tävlingar i Väst
ORGANIZER;CN="Trollh%C3%A4ttans Judoklubb":MAILTO:trollhattansjk@gmail.com
END:VEVENT
END:VCALENDAR