BEGIN:VCALENDAR
VERSION:2.0
PRODID:-//Svenska Judoförbundet - ECPv6.15.20//NONSGML v1.0//EN
CALSCALE:GREGORIAN
METHOD:PUBLISH
X-WR-CALNAME:Svenska Judoförbundet
X-ORIGINAL-URL:https://judo.se
X-WR-CALDESC:Händelser för Svenska Judoförbundet
REFRESH-INTERVAL;VALUE=DURATION:PT1H
X-Robots-Tag:noindex
X-PUBLISHED-TTL:PT1H
BEGIN:VTIMEZONE
TZID:Europe/Stockholm
BEGIN:DAYLIGHT
TZOFFSETFROM:+0100
TZOFFSETTO:+0200
TZNAME:CEST
DTSTART:20210328T010000
END:DAYLIGHT
BEGIN:STANDARD
TZOFFSETFROM:+0200
TZOFFSETTO:+0100
TZNAME:CET
DTSTART:20211031T010000
END:STANDARD
BEGIN:DAYLIGHT
TZOFFSETFROM:+0100
TZOFFSETTO:+0200
TZNAME:CEST
DTSTART:20220327T010000
END:DAYLIGHT
BEGIN:STANDARD
TZOFFSETFROM:+0200
TZOFFSETTO:+0100
TZNAME:CET
DTSTART:20221030T010000
END:STANDARD
BEGIN:DAYLIGHT
TZOFFSETFROM:+0100
TZOFFSETTO:+0200
TZNAME:CEST
DTSTART:20230326T010000
END:DAYLIGHT
BEGIN:STANDARD
TZOFFSETFROM:+0200
TZOFFSETTO:+0100
TZNAME:CET
DTSTART:20231029T010000
END:STANDARD
BEGIN:DAYLIGHT
TZOFFSETFROM:+0100
TZOFFSETTO:+0200
TZNAME:CEST
DTSTART:20240331T010000
END:DAYLIGHT
BEGIN:STANDARD
TZOFFSETFROM:+0200
TZOFFSETTO:+0100
TZNAME:CET
DTSTART:20241027T010000
END:STANDARD
END:VTIMEZONE
BEGIN:VEVENT
DTSTART;VALUE=DATE:20230812
DTEND;VALUE=DATE:20230814
DTSTAMP:20260425T222046
CREATED:20230319T111815Z
LAST-MODIFIED:20230319T111830Z
UID:13362-1691798400-1691971199@judo.se
SUMMARY:Green Hill International 2023
DESCRIPTION:Inbjudan finns i Smoothcomp.
URL:https://judo.se/event/green-hill-international-4/
LOCATION:Eriksdalshallen\, Ringvägen 70\, Stockholm\, Sverige
CATEGORIES:Startsida,Tävlingar
END:VEVENT
BEGIN:VEVENT
DTSTART;TZID=Europe/Stockholm:20230526T170000
DTEND;TZID=Europe/Stockholm:20230528T130000
DTSTAMP:20260425T222046
CREATED:20221110T105655Z
LAST-MODIFIED:20230512T102216Z
UID:12542-1685120400-1685278800@judo.se
SUMMARY:Praktisk fortbildning - Lär ut judo för barn\, Lindesberg
DESCRIPTION:Notera att denna fortbildning har ersatt utbildningen ”Step by Step – steg 1” som var planerad från början. \n﻿
URL:https://judo.se/event/praktisk-fortbildning-lindesberg/
LOCATION:Lindesberg Arena\, Nyborgsgatan 1\, Lindesberg\, Sverige
CATEGORIES:Startsida,Utbildningar
ORGANIZER;CN="Fr%C3%B6vi Judoklubb":MAILTO:info@frovijudo.se
END:VEVENT
BEGIN:VEVENT
DTSTART;VALUE=DATE:20230513
DTEND;VALUE=DATE:20230514
DTSTAMP:20260425T222046
CREATED:20230127T054820Z
LAST-MODIFIED:20230127T054820Z
UID:13037-1683936000-1684022399@judo.se
SUMMARY:Hajime Cup 2023
DESCRIPTION:Tävling för U9 till U15 \nNivå C. \nInbjudan till tävlingen finns i Smoothcomp.
URL:https://judo.se/event/hajime-cup-2023/
LOCATION:Varbergs Idrottshall\, Danska vägen 5\, Varberg\, 432 51\, Sverige
CATEGORIES:Startsida,Tävlingar
ORGANIZER;CN="Varbergs Judoklubb":MAILTO:info@vjk.nu
END:VEVENT
BEGIN:VEVENT
DTSTART;TZID=Europe/Stockholm:20230506T080000
DTEND;TZID=Europe/Stockholm:20230507T170000
DTSTAMP:20260425T222046
CREATED:20221129T104527Z
LAST-MODIFIED:20221129T104527Z
UID:12674-1683360000-1683478800@judo.se
SUMMARY:Trollträffen 1\, 2023
DESCRIPTION:Nivå B. \nInbjudan kommer att läggas upp i Smoothcomp.
URL:https://judo.se/event/trolltraffen-1-2023/
LOCATION:Arena Älvhögsborgs\, Trollhättan\, Storgatan 1\, Trollhättan\, Väst\, 46131\, Sweden
CATEGORIES:Startsida,Tävlingar
ORGANIZER;CN="Trollh%C3%A4ttans Judoklubb":MAILTO:trollhattansjk@gmail.com
END:VEVENT
BEGIN:VEVENT
DTSTART;VALUE=DATE:20230422
DTEND;VALUE=DATE:20230423
DTSTAMP:20260425T222046
CREATED:20230319T114725Z
LAST-MODIFIED:20230319T114725Z
UID:13374-1682121600-1682207999@judo.se
SUMMARY:Södra Judo Open 2
DESCRIPTION:Inbjudan publicerad i Smoothcomp \nNivå B.
URL:https://judo.se/event/sodra-judo-open-2-2/
LOCATION:Torvalla Sporthall\, Dalarövägen 66\, Haninge\, 136 45\, Sverige
CATEGORIES:Tävlingar
ORGANIZER;CN="IK S%C3%B6dra Judo":MAILTO:tavlingar@iksodra.com
END:VEVENT
BEGIN:VEVENT
DTSTART;VALUE=DATE:20230422
DTEND;VALUE=DATE:20230423
DTSTAMP:20260425T222046
CREATED:20221129T101301Z
LAST-MODIFIED:20221129T101301Z
UID:12663-1682121600-1682207999@judo.se
SUMMARY:Knislinge Judo Open
DESCRIPTION:Tävling för alla kategorier från 4 kyu. \nAnmälan i Smoothcomp.
URL:https://judo.se/event/knislinge-judo-open/
LOCATION:Knislinge Judoklubb
CATEGORIES:Tävlingar
END:VEVENT
BEGIN:VEVENT
DTSTART;TZID=Europe/Stockholm:20230415T083000
DTEND;TZID=Europe/Stockholm:20230416T160000
DTSTAMP:20260425T222046
CREATED:20230201T092414Z
LAST-MODIFIED:20230331T081457Z
UID:13108-1681547400-1681660800@judo.se
SUMMARY:Step by Step - steg 1\, Sundsvall
DESCRIPTION:﻿
URL:https://judo.se/event/step-by-step-steg-1-sundsvall/
LOCATION:Judo Club Sundsvall\, Björneborgsgatan 25\, Sundsvall\, 854 60
CATEGORIES:Startsida,Utbildningar
ORGANIZER;CN="Judo Sundsvall":MAILTO:info@judosundsvall.com
END:VEVENT
BEGIN:VEVENT
DTSTART;VALUE=DATE:20230325
DTEND;VALUE=DATE:20230326
DTSTAMP:20260425T222046
CREATED:20230127T060505Z
LAST-MODIFIED:20230127T060505Z
UID:13039-1679702400-1679788799@judo.se
SUMMARY:Arboga Judo Cup 2023
DESCRIPTION:Nivå C. \nInbjudan till tävlingen finns på Smoothcomp.
URL:https://judo.se/event/arboga-judo-cup-2023/
LOCATION:Vasahallen\, Skandiagatan 22\, Arboga\, 43233\, Sverige
CATEGORIES:Startsida,Tävlingar
END:VEVENT
BEGIN:VEVENT
DTSTART;VALUE=DATE:20230325
DTEND;VALUE=DATE:20230326
DTSTAMP:20260425T222046
CREATED:20221129T103917Z
LAST-MODIFIED:20221129T103917Z
UID:12670-1679702400-1679788799@judo.se
SUMMARY:GO cup 1\, 2023
DESCRIPTION:Nivå C. \nAnmälan via Smoothcomp. \n 
URL:https://judo.se/event/go-cup-1-2023/
LOCATION:Stenungsund arena\, Nösnäsvägen 2\, Stenungsund\, 444 47\, Sverige
CATEGORIES:Startsida,Tävlingar
ORGANIZER;CN="Stenungsunds JK":MAILTO:tavling@stenungsundsjudoklubb.com
END:VEVENT
BEGIN:VEVENT
DTSTART;VALUE=DATE:20230318
DTEND;VALUE=DATE:20230319
DTSTAMP:20260425T222046
CREATED:20221129T103236Z
LAST-MODIFIED:20221129T103236Z
UID:12668-1679097600-1679183999@judo.se
SUMMARY:Solnakampen
DESCRIPTION:Nivå C. \nInbjudan kommer att publiceras på Smoothcomp.
URL:https://judo.se/event/solnakampen-2/
LOCATION:Solna Judoklubb\, Ankdammsgatan 23\, Solna\, 171 67
CATEGORIES:Startsida,Tävlingar
ORGANIZER;CN="Solna Judoklubb":MAILTO:info@solnajudo.se
END:VEVENT
BEGIN:VEVENT
DTSTART;VALUE=DATE:20230225
DTEND;VALUE=DATE:20230226
DTSTAMP:20260425T222046
CREATED:20221214T143015Z
LAST-MODIFIED:20221214T143015Z
UID:12756-1677283200-1677369599@judo.se
SUMMARY:Judits pokal 1\, 2023
DESCRIPTION:Länk till anmälan i Smoothcomp.
URL:https://judo.se/event/judits-pokal-1-2023/
LOCATION:Göteborgs Judoklubb\, Andra långgatan 48\, Göteborg\, Sverige
CATEGORIES:Startsida,Tävlingar
ORGANIZER;CN="G%C3%B6teborgs Judoklubb":MAILTO:info@gjk.se
END:VEVENT
BEGIN:VEVENT
DTSTART;VALUE=DATE:20230218
DTEND;VALUE=DATE:20230219
DTSTAMP:20260425T222046
CREATED:20230109T181202Z
LAST-MODIFIED:20230109T181304Z
UID:12910-1676678400-1676764799@judo.se
SUMMARY:Dalsland Open 2023
DESCRIPTION:Nivå C. \nInbjudan ligger i Smoothcomp.
URL:https://judo.se/event/dalsland-open-3/
LOCATION:Rådahallen\, Bergsgatan 28\, Mellerud\, 464 30\, Sverige
CATEGORIES:Startsida,Tävlingar
ORGANIZER;CN="Kroppefj%C3%A4lls IF":MAILTO:info@kroppefjallsif.se
END:VEVENT
BEGIN:VEVENT
DTSTART;TZID=Europe/Stockholm:20230212T100000
DTEND;TZID=Europe/Stockholm:20230212T170000
DTSTAMP:20260425T222046
CREATED:20221125T115553Z
LAST-MODIFIED:20221125T115553Z
UID:12640-1676196000-1676221200@judo.se
SUMMARY:Knivsta Judo Cup 1
DESCRIPTION:Tävling för kategorierna U9 till U13 med högst grönt bälte. \nLänk till Smoothcomp.
URL:https://judo.se/event/knivsta-judo-cup-1/
LOCATION:Knivsta Centrum för Idrott och Kultur\, Parkvägen 31 A\, Knivsta\, 74140\, Sverige
CATEGORIES:Tävlingar
END:VEVENT
BEGIN:VEVENT
DTSTART;VALUE=DATE:20230128
DTEND;VALUE=DATE:20230129
DTSTAMP:20260425T222046
CREATED:20220708T100950Z
LAST-MODIFIED:20220708T100950Z
UID:11766-1674864000-1674950399@judo.se
SUMMARY:Södra Judo Open 1
DESCRIPTION:Inbjudan publiceras i Smoothcomp \nNivå B.
URL:https://judo.se/event/sodra-judo-open-1-2/
LOCATION:Torvalla Sporthall\, Dalarövägen 66\, Haninge\, 136 45\, Sverige
CATEGORIES:Tävlingar
ORGANIZER;CN="IK S%C3%B6dra Judo":MAILTO:tavlingar@iksodra.com
END:VEVENT
BEGIN:VEVENT
DTSTART;VALUE=DATE:20230121
DTEND;VALUE=DATE:20230122
DTSTAMP:20260425T222046
CREATED:20221129T101803Z
LAST-MODIFIED:20221129T101803Z
UID:12666-1674259200-1674345599@judo.se
SUMMARY:Lilla Trollträffen 1\, 2023
DESCRIPTION:Inbjudan kommer att publiceras i Smoothcomp. \nNivå C.
URL:https://judo.se/event/lilla-trolltraffen-1-2023/
LOCATION:Arena Älvhögsborgs\, Trollhättan\, Storgatan 1\, Trollhättan\, Väst\, 46131\, Sweden
CATEGORIES:Tävlingar
ORGANIZER;CN="Trollh%C3%A4ttans Judoklubb":MAILTO:trollhattansjk@gmail.com
END:VEVENT
BEGIN:VEVENT
DTSTART;VALUE=DATE:20221217
DTEND;VALUE=DATE:20221218
DTSTAMP:20260425T222046
CREATED:20221209T220000Z
LAST-MODIFIED:20220816T105135Z
UID:11433-1671235200-1671321599@judo.se
SUMMARY:Sundsvalls Cup 2022
DESCRIPTION:Inbjudan kommer att läggas upp i Smoothcomp.  \nNivå: B/C. \n 
URL:https://judo.se/event/sundsvalls-cup-2022/
LOCATION:Judo Club Sundsvall\, Björneborgsgatan 25\, Sundsvall\, 854 60
CATEGORIES:Startsida,Tävlingar
ORGANIZER;CN="Judo Sundsvall":MAILTO:info@judosundsvall.com
END:VEVENT
BEGIN:VEVENT
DTSTART;VALUE=DATE:20221127
DTEND;VALUE=DATE:20221128
DTSTAMP:20260425T222046
CREATED:20221111T093047Z
LAST-MODIFIED:20221111T205830Z
UID:12579-1669507200-1669593599@judo.se
SUMMARY:Västgötaserien 3 2022 Borås
DESCRIPTION:En nybörjartävling upp till orange bälte där man samlar poäng under hela årets tävlingar. \nLänk till Smoothcomp
URL:https://judo.se/event/vastgotaserien-3-2022-boras/
LOCATION:Borås Judoklubb\, Stationsgatan 22\, Borås\, 50338\, Sverige
CATEGORIES:Tävlingar
ORGANIZER;CN="Bor%C3%A5s Judoklubb":MAILTO:martin1.hylander@gmail.com
END:VEVENT
BEGIN:VEVENT
DTSTART;VALUE=DATE:20221126
DTEND;VALUE=DATE:20221127
DTSTAMP:20260425T222046
CREATED:20220708T100755Z
LAST-MODIFIED:20220708T100755Z
UID:11764-1669420800-1669507199@judo.se
SUMMARY:Södra Judo Open 4
DESCRIPTION:Inbjudan publiceras i Smoothcomp. \nNivå B.
URL:https://judo.se/event/sodra-judo-open-4-3/
LOCATION:Torvalla Sporthall\, Dalarövägen 66\, Haninge\, 136 45\, Sverige
CATEGORIES:Tävlingar
ORGANIZER;CN="IK S%C3%B6dra Judo":MAILTO:tavlingar@iksodra.com
END:VEVENT
BEGIN:VEVENT
DTSTART;VALUE=DATE:20221119
DTEND;VALUE=DATE:20221121
DTSTAMP:20260425T222046
CREATED:20220505T142638Z
LAST-MODIFIED:20220505T142638Z
UID:11435-1668816000-1668988799@judo.se
SUMMARY:Trollträffen 2\, 2022
DESCRIPTION:Inbjudan kommer att publiceras i Smoothcomp. \nNivå: B.
URL:https://judo.se/event/trolltraffen-2-2022/
LOCATION:Arena Älvhögsborgs\, Trollhättan\, Storgatan 1\, Trollhättan\, Väst\, 46131\, Sweden
CATEGORIES:Startsida,Tävlingar
ORGANIZER;CN="Trollh%C3%A4ttans Judoklubb":MAILTO:trollhattansjk@gmail.com
END:VEVENT
BEGIN:VEVENT
DTSTART;VALUE=DATE:20221029
DTEND;VALUE=DATE:20221030
DTSTAMP:20260425T222046
CREATED:20221028T200000Z
LAST-MODIFIED:20220519T142419Z
UID:11457-1667001600-1667087999@judo.se
SUMMARY:GO cup 2\, 2022
DESCRIPTION:Nivå:C. \nAnmälan via Smoothcomp.
URL:https://judo.se/event/go-cup-2-2022/
LOCATION:Stenungsund arena\, Nösnäsvägen 2\, Stenungsund\, 444 47\, Sverige
CATEGORIES:Startsida,Tävlingar
ORGANIZER;CN="Stenungsunds JK":MAILTO:tavling@stenungsundsjudoklubb.com
END:VEVENT
BEGIN:VEVENT
DTSTART;VALUE=DATE:20221023
DTEND;VALUE=DATE:20221024
DTSTAMP:20260425T222046
CREATED:20220815T095521Z
LAST-MODIFIED:20220815T095521Z
UID:11845-1666483200-1666569599@judo.se
SUMMARY:Lilla Trollträffen Open 4\, 2022
DESCRIPTION:Inbjudan kommer att publiceras i Smoothcomp. \nNivå C.
URL:https://judo.se/event/lilla-trolltraffen-open-4-2022/
LOCATION:Arena Älvhögsborgs\, Trollhättan\, Storgatan 1\, Trollhättan\, Väst\, 46131\, Sweden
CATEGORIES:Startsida,Tävlingar
ORGANIZER;CN="Trollh%C3%A4ttans Judoklubb":MAILTO:trollhattansjk@gmail.com
END:VEVENT
BEGIN:VEVENT
DTSTART;VALUE=DATE:20221022
DTEND;VALUE=DATE:20221023
DTSTAMP:20260425T222046
CREATED:20221021T200000Z
LAST-MODIFIED:20220516T123326Z
UID:11481-1666396800-1666483199@judo.se
SUMMARY:Solnakampen 2022
DESCRIPTION:Nivå C. \nInbjudan kommer att publiceras på Smoothcomp.
URL:https://judo.se/event/solnakampen-2022/
LOCATION:Solna Judoklubb\, Ankdammsgatan 23\, Solna\, 171 67
CATEGORIES:Startsida,Tävlingar
ORGANIZER;CN="Solna Judoklubb":MAILTO:info@solnajudo.se
END:VEVENT
BEGIN:VEVENT
DTSTART;VALUE=DATE:20221022
DTEND;VALUE=DATE:20221023
DTSTAMP:20260425T222046
CREATED:20221021T200000Z
LAST-MODIFIED:20220815T095325Z
UID:11843-1666396800-1666483199@judo.se
SUMMARY:Lilla Trollträffen 4\, 2022
DESCRIPTION:Inbjudan kommer att publiceras i Smoothcomp. \nNivå C.
URL:https://judo.se/event/lilla-trolltraffen-4-2022/
LOCATION:Arena Älvhögsborgs\, Trollhättan\, Storgatan 1\, Trollhättan\, Väst\, 46131\, Sweden
CATEGORIES:Startsida,Tävlingar
ORGANIZER;CN="Trollh%C3%A4ttans Judoklubb":MAILTO:trollhattansjk@gmail.com
END:VEVENT
BEGIN:VEVENT
DTSTART;TZID=Europe/Stockholm:20221015T080000
DTEND;TZID=Europe/Stockholm:20221015T170000
DTSTAMP:20260425T222046
CREATED:20220708T123726Z
LAST-MODIFIED:20220708T123726Z
UID:11758-1665820800-1665853200@judo.se
SUMMARY:Södra Judo Open 3
DESCRIPTION:15 Oktober \nInbjudan publiceras i Smoothcomp \nNivå B.
URL:https://judo.se/event/sodra-judo-open-3-4/
LOCATION:Torvalla Sporthall\, Dalarövägen 66\, Haninge\, 136 45\, Sverige
CATEGORIES:Tävlingar
ORGANIZER;CN="IK S%C3%B6dra Judo":MAILTO:tavlingar@iksodra.com
END:VEVENT
BEGIN:VEVENT
DTSTART;VALUE=DATE:20221015
DTEND;VALUE=DATE:20221016
DTSTAMP:20260425T222046
CREATED:20221015T040000Z
LAST-MODIFIED:20220708T101114Z
UID:11762-1665792000-1665878399@judo.se
SUMMARY:Södra Judo Open 3
DESCRIPTION:Inbjudan publiceras i Smoothcomp \nNivå B.
URL:https://judo.se/event/sodra-judo-open-3-3/
LOCATION:Torvalla Sporthall\, Dalarövägen 66\, Haninge\, 136 45\, Sverige
CATEGORIES:Tävlingar
ORGANIZER;CN="IK S%C3%B6dra Judo":MAILTO:tavlingar@iksodra.com
END:VEVENT
BEGIN:VEVENT
DTSTART;VALUE=DATE:20221008
DTEND;VALUE=DATE:20221009
DTSTAMP:20260425T222046
CREATED:20221007T200000Z
LAST-MODIFIED:20220907T080655Z
UID:11422-1665187200-1665273599@judo.se
SUMMARY:Hajime Cup 2022 (INSTÄLLT)
DESCRIPTION:Tävlingen är inställd. \nNivå C.
URL:https://judo.se/event/hajime-cup-2022/
LOCATION:Varbergs Idrottshall\, Danska vägen 5\, Varberg\, 432 51\, Sverige
CATEGORIES:Startsida,Tävlingar
ORGANIZER;CN="Varbergs Judoklubb":MAILTO:info@vjk.nu
END:VEVENT
BEGIN:VEVENT
DTSTART;VALUE=DATE:20220924
DTEND;VALUE=DATE:20220925
DTSTAMP:20260425T222046
CREATED:20220502T172221Z
LAST-MODIFIED:20220908T121936Z
UID:11424-1663977600-1664063999@judo.se
SUMMARY:Linde Judo Open 2022
DESCRIPTION:Inbjudan kommer att läggas upp i Smoothcomp. \nNivå B. \n24 sep: tävling\n25 sep: läger \n 
URL:https://svenskjudo.smoothcomp.com/sv/event/7191
LOCATION:Lindesberg Arena\, Nyborgsgatan 1\, Lindesberg\, Sverige
CATEGORIES:Startsida,Tävlingar
ORGANIZER;CN="Fr%C3%B6vi Judoklubb":MAILTO:info@frovijudo.se
END:VEVENT
BEGIN:VEVENT
DTSTART;VALUE=DATE:20220917
DTEND;VALUE=DATE:20220918
DTSTAMP:20260425T222046
CREATED:20220816T100000Z
LAST-MODIFIED:20220816T104916Z
UID:10836-1663372800-1663459199@judo.se
SUMMARY:Judits pokal 3\, 2022
DESCRIPTION:Inbjudan till tävlingen finns i Smoothcomp.
URL:https://judo.se/event/judits-pokal-3-2022/
LOCATION:Göteborgs Judoklubb\, Andra långgatan 48\, Göteborg\, Sverige
CATEGORIES:Startsida,Tävlingar
ORGANIZER;CN="G%C3%B6teborgs Judoklubb":MAILTO:info@gjk.se
END:VEVENT
BEGIN:VEVENT
DTSTART;VALUE=DATE:20220904
DTEND;VALUE=DATE:20220905
DTSTAMP:20260425T222046
CREATED:20220903T200000Z
LAST-MODIFIED:20220815T094940Z
UID:11839-1662249600-1662335999@judo.se
SUMMARY:Lilla trollträffen Open 3\, 2022
DESCRIPTION:Inbjudan kommer att publiceras i Smoothcomp. \nNivå C. \n 
URL:https://judo.se/event/lilla-trolltraffen-open-3-2022/
LOCATION:Arena Älvhögsborgs\, Trollhättan\, Storgatan 1\, Trollhättan\, Väst\, 46131\, Sweden
CATEGORIES:Startsida,Tävlingar
ORGANIZER;CN="Trollh%C3%A4ttans Judoklubb":MAILTO:trollhattansjk@gmail.com
END:VEVENT
BEGIN:VEVENT
DTSTART;VALUE=DATE:20220813
DTEND;VALUE=DATE:20220814
DTSTAMP:20260425T222046
CREATED:20220521T154807Z
LAST-MODIFIED:20220521T154807Z
UID:11531-1660348800-1660435199@judo.se
SUMMARY:Green Hill International
DESCRIPTION:Inbjudan finns i Smoothcomp.
URL:https://judo.se/event/green-hill-international-3/
LOCATION:Eriksdalshallen\, Ringvägen 70\, Stockholm\, Sverige
CATEGORIES:Startsida,Tävlingar
END:VEVENT
END:VCALENDAR