BEGIN:VCALENDAR
VERSION:2.0
PRODID:-//Svenska Judoförbundet - ECPv6.15.20//NONSGML v1.0//EN
CALSCALE:GREGORIAN
METHOD:PUBLISH
X-WR-CALNAME:Svenska Judoförbundet
X-ORIGINAL-URL:https://judo.se
X-WR-CALDESC:Händelser för Svenska Judoförbundet
REFRESH-INTERVAL;VALUE=DURATION:PT1H
X-Robots-Tag:noindex
X-PUBLISHED-TTL:PT1H
BEGIN:VTIMEZONE
TZID:Europe/Stockholm
BEGIN:DAYLIGHT
TZOFFSETFROM:+0100
TZOFFSETTO:+0200
TZNAME:CEST
DTSTART:20250330T010000
END:DAYLIGHT
BEGIN:STANDARD
TZOFFSETFROM:+0200
TZOFFSETTO:+0100
TZNAME:CET
DTSTART:20251026T010000
END:STANDARD
BEGIN:DAYLIGHT
TZOFFSETFROM:+0100
TZOFFSETTO:+0200
TZNAME:CEST
DTSTART:20260329T010000
END:DAYLIGHT
BEGIN:STANDARD
TZOFFSETFROM:+0200
TZOFFSETTO:+0100
TZNAME:CET
DTSTART:20261025T010000
END:STANDARD
BEGIN:DAYLIGHT
TZOFFSETFROM:+0100
TZOFFSETTO:+0200
TZNAME:CEST
DTSTART:20270328T010000
END:DAYLIGHT
BEGIN:STANDARD
TZOFFSETFROM:+0200
TZOFFSETTO:+0100
TZNAME:CET
DTSTART:20271031T010000
END:STANDARD
END:VTIMEZONE
BEGIN:VEVENT
DTSTART;VALUE=DATE:20260425
DTEND;VALUE=DATE:20260426
DTSTAMP:20260420T224254
CREATED:20250310T092435Z
LAST-MODIFIED:20251113T080233Z
UID:17767-1777075200-1777161599@judo.se
SUMMARY:Dalsland Open 1 2026
DESCRIPTION:Nivå C. \nInbjudan ligger i Smoothcomp.
URL:https://judo.se/event/dalsland-open-1-2026/
LOCATION:Rådahallen\, Bergsgatan 28\, Mellerud\, 464 30\, Sverige
CATEGORIES:Startsida,Tävlingar,Tävlingar i Väst
ORGANIZER;CN="Kroppefj%C3%A4lls IF":MAILTO:info@kroppefjallsif.se
END:VEVENT
BEGIN:VEVENT
DTSTART;VALUE=DATE:20260509
DTEND;VALUE=DATE:20260510
DTSTAMP:20260420T224254
CREATED:20251205T101802Z
LAST-MODIFIED:20251205T101802Z
UID:18971-1778284800-1778371199@judo.se
SUMMARY:Lilla Trollträffen 2\, 2026
DESCRIPTION:Nivå C. \nAnmälan ligger i Smoothcomp \n 
URL:https://judo.se/event/lilla-trolltraffen-2-2026/
LOCATION:Arena Älvhögsborgs\, Trollhättan\, Storgatan 1\, Trollhättan\, Väst\, 46131\, Sweden
CATEGORIES:Startsida,Tävlingar,Tävlingar i Väst
ORGANIZER;CN="Trollh%C3%A4ttans Judoklubb":MAILTO:trollhattansjk@gmail.com
END:VEVENT
BEGIN:VEVENT
DTSTART;VALUE=DATE:20260509
DTEND;VALUE=DATE:20260510
DTSTAMP:20260420T224254
CREATED:20251205T102354Z
LAST-MODIFIED:20251205T102354Z
UID:18974-1778284800-1778371199@judo.se
SUMMARY:Drakstaden Cup 1 2026
DESCRIPTION:Nivå: C. \nInbjudan finns i Smoothcomp.  \n  \n 
URL:https://judo.se/event/drakstaden-cup-1-2026/
LOCATION:Judo Club Sundsvall\, Björneborgsgatan 25\, Sundsvall\, 854 60
CATEGORIES:Startsida,Tävlingar,Tävlingar i Norr
ORGANIZER;CN="Judo Sundsvall":MAILTO:info@judosundsvall.com
END:VEVENT
BEGIN:VEVENT
DTSTART;VALUE=DATE:20260509
DTEND;VALUE=DATE:20260510
DTSTAMP:20260420T224254
CREATED:20260109T120835Z
LAST-MODIFIED:20260109T121520Z
UID:19127-1778284800-1778371199@judo.se
SUMMARY:Oxelöträffen VT 2026
DESCRIPTION:Nivå C \nTävling U9 till U15\, Nybörjare \nInbjudan kommer i Smoothcomp \n  \n 
URL:https://judo.se/event/oxelotraffen-vt-2026/
LOCATION:Medley Ramdalen Sportcenter\, Torpsvägen 1C\, Oxelösund\, 613 35\, Sverige
CATEGORIES:Startsida,Tävlingar,Tävlingar i Öst
ORGANIZER;CN="Oxel%C3%B6sunds Judoklubb":MAILTO:info@ojk.nu
END:VEVENT
BEGIN:VEVENT
DTSTART;VALUE=DATE:20260509
DTEND;VALUE=DATE:20260510
DTSTAMP:20260420T224254
CREATED:20260109T121846Z
LAST-MODIFIED:20260109T121846Z
UID:19133-1778284800-1778371199@judo.se
SUMMARY:Lilla Sigtuna Judokamp VT 2026
DESCRIPTION:Nivå C. \nFör U9 och U11 \nInbjudan kommer i Smoothcomp.
URL:https://judo.se/event/lilla-sigtuna-judokamp-vt-2026/
LOCATION:Prästängshallen\, John Åkerlundsväg 10A\, Sigtuna\, 19331
CATEGORIES:Startsida,Tävlingar i Öst
END:VEVENT
BEGIN:VEVENT
DTSTART;VALUE=DATE:20260510
DTEND;VALUE=DATE:20260511
DTSTAMP:20260420T224254
CREATED:20260109T121440Z
LAST-MODIFIED:20260109T121440Z
UID:19131-1778371200-1778457599@judo.se
SUMMARY:Sigtuna Judokamp VT 2026
DESCRIPTION:Nivå C. \nInbjudan kommer i Smoothcomp.
URL:https://judo.se/event/sigtuna-judokamp-vt-2026/
LOCATION:Prästängshallen\, John Åkerlundsväg 10A\, Sigtuna\, 19331
CATEGORIES:Startsida,Tävlingar i Öst
END:VEVENT
BEGIN:VEVENT
DTSTART;VALUE=DATE:20260510
DTEND;VALUE=DATE:20260511
DTSTAMP:20260420T224254
CREATED:20260218T073816Z
LAST-MODIFIED:20260218T073816Z
UID:19366-1778371200-1778457599@judo.se
SUMMARY:POKALJAKTEN & NEWAZA OPEN 2\, 2026
DESCRIPTION:Nivå C. \nAnmälan via Smoothcomp. \n 
URL:https://judo.se/event/pokaljakten-newaza-open-2-2026/
LOCATION:Jönsbergska Idrottshall\, Sprängstensgatan 1\, Norrköping
CATEGORIES:Startsida,Tävlingar i Öst
END:VEVENT
BEGIN:VEVENT
DTSTART;VALUE=DATE:20260530
DTEND;VALUE=DATE:20260531
DTSTAMP:20260420T224254
CREATED:20260109T114822Z
LAST-MODIFIED:20260109T120029Z
UID:19123-1780099200-1780185599@judo.se
SUMMARY:Västgötaserien 3 2026 Mariestad
DESCRIPTION:Nivå C \nEn nybörjartävling upp till orange bälte där man samlar poäng under hela årets tävlingar. \nFör klubbar i VJF. Tävlande från klubbar från andra distrikt är välkomna i mån av plats. \nInbjudan ligger i Smoothcomp
URL:https://judo.se/event/vastgotaserien-3-2026-mariestad/
LOCATION:Mariestads Judoklubb\, Magasinsgatan 4\, Mariestad\, 54237
CATEGORIES:Startsida,Tävlingar,Tävlingar i Väst
ORGANIZER;CN="V%C3%A4sterg%C3%B6tlands Judof%C3%B6rbund":MAILTO:info@vjf.org
END:VEVENT
BEGIN:VEVENT
DTSTART;VALUE=DATE:20260531
DTEND;VALUE=DATE:20260601
DTSTAMP:20260420T224254
CREATED:20260218T075305Z
LAST-MODIFIED:20260218T075305Z
UID:19370-1780185600-1780271999@judo.se
SUMMARY:BohusDal Cup 2 2026
DESCRIPTION:Nivå C. \nFör klubbar i BDJF. Tävlande från klubbar från andra distrikt är välkomna i mån av plats. \nKlubbar i Bohuslän och Dal distriktet kan samla poäng under året. \nAnmälan kommer i Smoothcomp. \n 
URL:https://judo.se/event/bohusdal-cup-2-2026/
LOCATION:Rimnershallen\, Rimnersgatan 13\, Uddevalla\, 451 52\, Sverige
CATEGORIES:Startsida,Tävlingar i Väst
END:VEVENT
BEGIN:VEVENT
DTSTART;VALUE=DATE:20260905
DTEND;VALUE=DATE:20260906
DTSTAMP:20260420T224254
CREATED:20260114T101239Z
LAST-MODIFIED:20260114T101239Z
UID:19171-1788566400-1788652799@judo.se
SUMMARY:Judits pokal 3\, 2026
DESCRIPTION:Nivå C \nAnmälan i Smoothcomp.
URL:https://judo.se/event/judits-pokal-3-2026/
LOCATION:Göteborgs Judoklubb\, Andra långgatan 48\, Göteborg\, Sverige
CATEGORIES:Startsida,Tävlingar,Tävlingar i Väst
ORGANIZER;CN="G%C3%B6teborgs Judoklubb":MAILTO:info@gjk.se
END:VEVENT
BEGIN:VEVENT
DTSTART;VALUE=DATE:20260913
DTEND;VALUE=DATE:20260914
DTSTAMP:20260420T224254
CREATED:20260115T093518Z
LAST-MODIFIED:20260115T093518Z
UID:19176-1789257600-1789343999@judo.se
SUMMARY:Wermland Judo Games 2026
DESCRIPTION:Nivå C. \nNybörjartävling\, oavsett bälte som tävlat max 10 gånger. \nInbjudan kommer i Smoothcomp
URL:https://judo.se/event/wermland-judo-games-2026/
LOCATION:Sporthallen Arvika\, Skolgatan 34\, Arvika
CATEGORIES:Startsida,Tävlingar,Tävlingar i Väst
ORGANIZER;CN="Judoklubben Arvika":MAILTO:info@judoarvika.se
END:VEVENT
BEGIN:VEVENT
DTSTART;VALUE=DATE:20260920
DTEND;VALUE=DATE:20260921
DTSTAMP:20260420T224254
CREATED:20260309T085359Z
LAST-MODIFIED:20260309T085359Z
UID:19479-1789862400-1789948799@judo.se
SUMMARY:Västgötaserien 2026 Vara + DM + Västgötapokalen
DESCRIPTION:Nivå C + DM \nVästgötaserien är en nybörjartävling upp till orange bälte där man samlar poäng under hela årets tävlingar. \nFör klubbar i VJF. Tävlande från klubbar från andra distrikt är välkomna i mån av plats. \nÄven Västergötlands Distrikt Mästerskap. \nOch även Västgötapokalen för gult och uppåt. \nInbjudan kommer i Smoothcomp
URL:https://judo.se/event/vastgotaserien-2026-vara-dm-vastgotapokalen/
LOCATION:Levene arena\, Storgatan 50\, Stora Levene\, 53403\, Sweden
CATEGORIES:Startsida,Tävlingar,Tävlingar i Väst
ORGANIZER;CN="V%C3%A4sterg%C3%B6tlands Judof%C3%B6rbund":MAILTO:info@vjf.org
END:VEVENT
BEGIN:VEVENT
DTSTART;VALUE=DATE:20261003
DTEND;VALUE=DATE:20261004
DTSTAMP:20260420T224254
CREATED:20251117T105307Z
LAST-MODIFIED:20251117T105307Z
UID:18803-1790985600-1791071999@judo.se
SUMMARY:Wemmenhögs Judo Open 2026
DESCRIPTION:Nivå B \nMer info och inbjudan kommer i Smoothcomp
URL:https://judo.se/event/wemmenhogs-judo-open-2026/
LOCATION:Skurup Sparbanks Arena\,\, Vaktgatan\, Skurup\, 274 34\, Sverige
CATEGORIES:Startsida,Tävlingar,Tävlingar i Syd
ORGANIZER;CN="Wemmenh%C3%B6gs Budof%C3%B6rening":MAILTO:judo@wemmenhogsbudo.se
END:VEVENT
BEGIN:VEVENT
DTSTART;VALUE=DATE:20261010
DTEND;VALUE=DATE:20261012
DTSTAMP:20260420T224254
CREATED:20260218T081248Z
LAST-MODIFIED:20260218T081248Z
UID:19380-1791590400-1791763199@judo.se
SUMMARY:GO Cup 2 & Läger\, 2026
DESCRIPTION:Nivå C. \nSöndagens läger är för alla bälten. \nAnmälan via Smoothcomp. \n 
URL:https://judo.se/event/go-cup-2-lager-2026/
LOCATION:Stenungsund arena\, Nösnäsvägen 2\, Stenungsund\, 444 47\, Sverige
CATEGORIES:Startsida,Tävlingar i Väst
ORGANIZER;CN="Stenungsunds JK":MAILTO:tavling@stenungsundsjudoklubb.com
END:VEVENT
BEGIN:VEVENT
DTSTART;VALUE=DATE:20261017
DTEND;VALUE=DATE:20261018
DTSTAMP:20260420T224254
CREATED:20260219T081109Z
LAST-MODIFIED:20260219T081109Z
UID:19382-1792195200-1792281599@judo.se
SUMMARY:Dalsland Open 2 2026
DESCRIPTION:Nivå C. \nInbjudan ligger i Smoothcomp.
URL:https://judo.se/event/dalsland-open-2-2026/
LOCATION:Rådahallen\, Bergsgatan 28\, Mellerud\, 464 30\, Sverige
CATEGORIES:Startsida,Tävlingar,Tävlingar i Väst
END:VEVENT
BEGIN:VEVENT
DTSTART;VALUE=DATE:20261107
DTEND;VALUE=DATE:20261108
DTSTAMP:20260420T224254
CREATED:20260114T101508Z
LAST-MODIFIED:20260114T101508Z
UID:19173-1794009600-1794095999@judo.se
SUMMARY:Judits pokal 4\, 2026
DESCRIPTION:Nivå C \nJudits pokal och Lilla Judits \nAnmälan Judits pokal i Smoothcomp. \nAnmälan Lilla Judits i Smoothcomp.
URL:https://judo.se/event/judits-pokal-4-2026/
LOCATION:Göteborgs Judoklubb\, Andra långgatan 48\, Göteborg\, Sverige
CATEGORIES:Startsida,Tävlingar,Tävlingar i Väst
ORGANIZER;CN="G%C3%B6teborgs Judoklubb":MAILTO:info@gjk.se
END:VEVENT
BEGIN:VEVENT
DTSTART;VALUE=DATE:20261107
DTEND;VALUE=DATE:20261108
DTSTAMP:20260420T224254
CREATED:20260219T081637Z
LAST-MODIFIED:20260219T081637Z
UID:19385-1794009600-1794095999@judo.se
SUMMARY:Staffanstorps Judo Games 2026
DESCRIPTION:Nivå B. \nInbjudan kommer i Smoothcomp.
URL:https://judo.se/event/staffanstorps-judo-games-2026/
LOCATION:Staffanstorps Judoklubb\, Hagalidvägen 4\, Staffanstorp\, 245 45\, Sverige
CATEGORIES:Startsida,Tävlingar,Tävlingar i Syd
ORGANIZER;CN="Staffanstorps JK":MAILTO:judogames@staffanstorpsjudo.se
END:VEVENT
BEGIN:VEVENT
DTSTART;TZID=Europe/Stockholm:20261114T080000
DTEND;TZID=Europe/Stockholm:20261115T170000
DTSTAMP:20260420T224254
CREATED:20260109T122648Z
LAST-MODIFIED:20260109T122648Z
UID:19135-1794643200-1794762000@judo.se
SUMMARY:Trollträffen 2\, 2026
DESCRIPTION:Nivå B. \nInbjudan kommer i Smoothcomp.
URL:https://judo.se/event/trolltraffen-2-2026/
LOCATION:Arena Älvhögsborgs\, Trollhättan\, Storgatan 1\, Trollhättan\, Väst\, 46131\, Sweden
CATEGORIES:Startsida,Tävlingar,Tävlingar i Väst
ORGANIZER;CN="Trollh%C3%A4ttans Judoklubb":MAILTO:trollhattansjk@gmail.com
END:VEVENT
BEGIN:VEVENT
DTSTART;VALUE=DATE:20261212
DTEND;VALUE=DATE:20261213
DTSTAMP:20260420T224254
CREATED:20260218T075831Z
LAST-MODIFIED:20260218T075831Z
UID:19374-1797033600-1797119999@judo.se
SUMMARY:Uppsala Judo Cup December 2026
DESCRIPTION:Nivå C. \nInbjudan kommer i Smoothcomp.
URL:https://judo.se/event/uppsala-judo-cup-december-2026/
LOCATION:Fyrishov\, Tuna backar\, Uppsala\, 75217
CATEGORIES:Startsida,Tävlingar i Öst
END:VEVENT
END:VCALENDAR