BEGIN:VCALENDAR
VERSION:2.0
PRODID:-//Svenska Judoförbundet - ECPv6.15.20//NONSGML v1.0//EN
CALSCALE:GREGORIAN
METHOD:PUBLISH
X-WR-CALNAME:Svenska Judoförbundet
X-ORIGINAL-URL:https://judo.se
X-WR-CALDESC:Händelser för Svenska Judoförbundet
REFRESH-INTERVAL;VALUE=DURATION:PT1H
X-Robots-Tag:noindex
X-PUBLISHED-TTL:PT1H
BEGIN:VTIMEZONE
TZID:Europe/Stockholm
BEGIN:DAYLIGHT
TZOFFSETFROM:+0100
TZOFFSETTO:+0200
TZNAME:CEST
DTSTART:20240331T010000
END:DAYLIGHT
BEGIN:STANDARD
TZOFFSETFROM:+0200
TZOFFSETTO:+0100
TZNAME:CET
DTSTART:20241027T010000
END:STANDARD
BEGIN:DAYLIGHT
TZOFFSETFROM:+0100
TZOFFSETTO:+0200
TZNAME:CEST
DTSTART:20250330T010000
END:DAYLIGHT
BEGIN:STANDARD
TZOFFSETFROM:+0200
TZOFFSETTO:+0100
TZNAME:CET
DTSTART:20251026T010000
END:STANDARD
BEGIN:DAYLIGHT
TZOFFSETFROM:+0100
TZOFFSETTO:+0200
TZNAME:CEST
DTSTART:20260329T010000
END:DAYLIGHT
BEGIN:STANDARD
TZOFFSETFROM:+0200
TZOFFSETTO:+0100
TZNAME:CET
DTSTART:20261025T010000
END:STANDARD
END:VTIMEZONE
BEGIN:VEVENT
DTSTART;VALUE=DATE:20250503
DTEND;VALUE=DATE:20250504
DTSTAMP:20260421T044753
CREATED:20241126T094651Z
LAST-MODIFIED:20250217T083105Z
UID:16846-1746230400-1746316799@judo.se
SUMMARY:Lilla Trollträffen 2\, 2025
DESCRIPTION:Nivå C. \nAnmälan kommer i Smoothcomp \n 
URL:https://judo.se/event/lilla-trolltraffen-2-2025/
LOCATION:Arena Älvhögsborgs\, Trollhättan\, Storgatan 1\, Trollhättan\, Väst\, 46131\, Sweden
CATEGORIES:Tävlingar,Tävlingar i Väst
ORGANIZER;CN="Trollh%C3%A4ttans Judoklubb":MAILTO:trollhattansjk@gmail.com
END:VEVENT
BEGIN:VEVENT
DTSTART;VALUE=DATE:20250503
DTEND;VALUE=DATE:20250504
DTSTAMP:20260421T044753
CREATED:20250204T124858Z
LAST-MODIFIED:20250217T083011Z
UID:17393-1746230400-1746316799@judo.se
SUMMARY:Judits pokal 2\, 2025
DESCRIPTION:Anmälan i Smoothcomp.
URL:https://judo.se/event/judits-pokal-2-2025/
LOCATION:Göteborgs Judoklubb\, Andra långgatan 48\, Göteborg\, Sverige
CATEGORIES:Startsida,Tävlingar,Tävlingar i Väst
ORGANIZER;CN="G%C3%B6teborgs Judoklubb":MAILTO:info@gjk.se
END:VEVENT
BEGIN:VEVENT
DTSTART;VALUE=DATE:20250503
DTEND;VALUE=DATE:20250504
DTSTAMP:20260421T044753
CREATED:20250411T091911Z
LAST-MODIFIED:20250411T091911Z
UID:17925-1746230400-1746316799@judo.se
SUMMARY:Sigtuna Judokamp VT 2025
DESCRIPTION:Nivå C. \nInbjudan ligger i Smoothcomp.
URL:https://judo.se/event/sigtuna-judokamp-vt-2025/
LOCATION:Prästängshallen\, John Åkerlundsväg 10A\, Sigtuna\, 19331
CATEGORIES:Startsida,Tävlingar,Tävlingar i Öst
END:VEVENT
BEGIN:VEVENT
DTSTART;VALUE=DATE:20250524
DTEND;VALUE=DATE:20250525
DTSTAMP:20260421T044753
CREATED:20250204T130813Z
LAST-MODIFIED:20250217T082846Z
UID:17403-1748044800-1748131199@judo.se
SUMMARY:Drakstaden Cup 1 2025
DESCRIPTION:Inbjudan finns i Smoothcomp.  \nNivå: C. \n 
URL:https://judo.se/event/drakstaden-cup-1-2025/
LOCATION:Judo Club Sundsvall\, Björneborgsgatan 25\, Sundsvall\, 854 60
CATEGORIES:Startsida,Tävlingar,Tävlingar i Norr
ORGANIZER;CN="Judo Sundsvall":MAILTO:info@judosundsvall.com
END:VEVENT
END:VCALENDAR