BEGIN:VCALENDAR
VERSION:2.0
PRODID:-//Svenska Judoförbundet - ECPv6.15.20//NONSGML v1.0//EN
CALSCALE:GREGORIAN
METHOD:PUBLISH
X-WR-CALNAME:Svenska Judoförbundet
X-ORIGINAL-URL:https://judo.se
X-WR-CALDESC:Händelser för Svenska Judoförbundet
REFRESH-INTERVAL;VALUE=DURATION:PT1H
X-Robots-Tag:noindex
X-PUBLISHED-TTL:PT1H
BEGIN:VTIMEZONE
TZID:Europe/Stockholm
BEGIN:DAYLIGHT
TZOFFSETFROM:+0100
TZOFFSETTO:+0200
TZNAME:CEST
DTSTART:20240331T010000
END:DAYLIGHT
BEGIN:STANDARD
TZOFFSETFROM:+0200
TZOFFSETTO:+0100
TZNAME:CET
DTSTART:20241027T010000
END:STANDARD
BEGIN:DAYLIGHT
TZOFFSETFROM:+0100
TZOFFSETTO:+0200
TZNAME:CEST
DTSTART:20250330T010000
END:DAYLIGHT
BEGIN:STANDARD
TZOFFSETFROM:+0200
TZOFFSETTO:+0100
TZNAME:CET
DTSTART:20251026T010000
END:STANDARD
BEGIN:DAYLIGHT
TZOFFSETFROM:+0100
TZOFFSETTO:+0200
TZNAME:CEST
DTSTART:20260329T010000
END:DAYLIGHT
BEGIN:STANDARD
TZOFFSETFROM:+0200
TZOFFSETTO:+0100
TZNAME:CET
DTSTART:20261025T010000
END:STANDARD
END:VTIMEZONE
BEGIN:VEVENT
DTSTART;VALUE=DATE:20250302
DTEND;VALUE=DATE:20250303
DTSTAMP:20260421T091643
CREATED:20250204T125748Z
LAST-MODIFIED:20250217T083328Z
UID:17399-1740873600-1740959999@judo.se
SUMMARY:Oxelöträffen 2025
DESCRIPTION:Tävling U9 till U13\, Nybörjare \nInbjudan finns på Smoothcomp \n  \n 
URL:https://judo.se/event/oxelotraffen-2025/
LOCATION:Medley Ramdalen Sportcenter\, Torpsvägen 1C\, Oxelösund\, 613 35\, Sverige
CATEGORIES:Tävlingar,Tävlingar i Öst
ORGANIZER;CN="Oxel%C3%B6sunds Judoklubb":MAILTO:info@ojk.nu
END:VEVENT
BEGIN:VEVENT
DTSTART;VALUE=DATE:20250308
DTEND;VALUE=DATE:20250309
DTSTAMP:20260421T091643
CREATED:20250204T130112Z
LAST-MODIFIED:20250217T083321Z
UID:17401-1741392000-1741478399@judo.se
SUMMARY:Västgötaserien 1 2025 Skövde
DESCRIPTION:En nybörjartävling upp till orange bälte där man samlar poäng under hela årets tävlingar. \nInbjudan i Smoothcomp
URL:https://judo.se/event/vastgotaserien-1-2025-skovde/
LOCATION:Skövde Judoklubb\, Gesällgatan 5\, Skövde\, 541 50\, Sverige
CATEGORIES:Tävlingar,Tävlingar i Väst
END:VEVENT
BEGIN:VEVENT
DTSTART;VALUE=DATE:20250315
DTEND;VALUE=DATE:20250316
DTSTAMP:20260421T091643
CREATED:20240531T102811Z
LAST-MODIFIED:20240531T102811Z
UID:15890-1741996800-1742083199@judo.se
SUMMARY:Knislinge Judo Open 2025
DESCRIPTION:Tävling för alla kategorier från 4 kyu. \nAnmälan i Smoothcomp.
URL:https://judo.se/event/knislinge-judo-open-2025/
LOCATION:Knislinge Judoklubb
CATEGORIES:Tävlingar
END:VEVENT
BEGIN:VEVENT
DTSTART;VALUE=DATE:20250315
DTEND;VALUE=DATE:20250317
DTSTAMP:20260421T091643
CREATED:20241119T131141Z
LAST-MODIFIED:20250217T083315Z
UID:16778-1741996800-1742169599@judo.se
SUMMARY:GO Cup 1 & Läger\, 2025
DESCRIPTION:Nivå C. \nSöndagens läger är för alla bälten. \nAnmälan via Smoothcomp. \n 
URL:https://judo.se/event/go-cup-1-lager-2025/
LOCATION:Stenungsund arena\, Nösnäsvägen 2\, Stenungsund\, 444 47\, Sverige
CATEGORIES:Startsida,Tävlingar,Tävlingar i Väst
ORGANIZER;CN="Stenungsunds JK":MAILTO:tavling@stenungsundsjudoklubb.com
END:VEVENT
BEGIN:VEVENT
DTSTART;VALUE=DATE:20250316
DTEND;VALUE=DATE:20250317
DTSTAMP:20260421T091643
CREATED:20240531T103056Z
LAST-MODIFIED:20250217T083306Z
UID:15892-1742083200-1742169599@judo.se
SUMMARY:Skåneserien 1 i Knislinge 2025
DESCRIPTION:Nivå C. \nMer info och inbjudan finns i SmoothComp.
URL:https://judo.se/event/skaneserien-1-i-knislinge-2025/
LOCATION:Snapphanehallen\, Sigfrids väg 26\, Knislinge\, 289 31
CATEGORIES:Startsida,Tävlingar,Tävlingar i Syd
END:VEVENT
BEGIN:VEVENT
DTSTART;VALUE=DATE:20250322
DTEND;VALUE=DATE:20250323
DTSTAMP:20260421T091643
CREATED:20250305T104854Z
LAST-MODIFIED:20250305T105128Z
UID:17750-1742601600-1742687999@judo.se
SUMMARY:Solnakampen 2025
DESCRIPTION:Nivå C. \nInbjudan ligger i Smoothcomp.
URL:https://judo.se/event/solnakampen-2025/
LOCATION:Solna Judoklubb\, Ankdammsgatan 23\, Solna\, 171 67
CATEGORIES:Startsida,Tävlingar
ORGANIZER;CN="Solna Judoklubb":MAILTO:info@solnajudo.se
END:VEVENT
BEGIN:VEVENT
DTSTART;VALUE=DATE:20250329
DTEND;VALUE=DATE:20250330
DTSTAMP:20260421T091643
CREATED:20241119T131529Z
LAST-MODIFIED:20250319T095357Z
UID:16780-1743206400-1743292799@judo.se
SUMMARY:Södra Judo Open 2 2025
DESCRIPTION:Inbjudan publicerad i Smoothcomp \nNivå B.
URL:https://judo.se/event/sodra-judo-open-2-2025/
LOCATION:Torvalla Sporthall\, Dalarövägen 66\, Haninge\, 136 45\, Sverige
CATEGORIES:Startsida,Tävlingar,Tävlingar i Öst
ORGANIZER;CN="IK S%C3%B6dra Judo":MAILTO:tavlingar@iksodra.com
END:VEVENT
END:VCALENDAR