BEGIN:VCALENDAR
VERSION:2.0
PRODID:-//Svenska Judoförbundet - ECPv6.15.20//NONSGML v1.0//EN
CALSCALE:GREGORIAN
METHOD:PUBLISH
X-ORIGINAL-URL:https://judo.se
X-WR-CALDESC:Händelser för Svenska Judoförbundet
REFRESH-INTERVAL;VALUE=DURATION:PT1H
X-Robots-Tag:noindex
X-PUBLISHED-TTL:PT1H
BEGIN:VTIMEZONE
TZID:Europe/Stockholm
BEGIN:DAYLIGHT
TZOFFSETFROM:+0100
TZOFFSETTO:+0200
TZNAME:CEST
DTSTART:20240331T010000
END:DAYLIGHT
BEGIN:STANDARD
TZOFFSETFROM:+0200
TZOFFSETTO:+0100
TZNAME:CET
DTSTART:20241027T010000
END:STANDARD
BEGIN:DAYLIGHT
TZOFFSETFROM:+0100
TZOFFSETTO:+0200
TZNAME:CEST
DTSTART:20250330T010000
END:DAYLIGHT
BEGIN:STANDARD
TZOFFSETFROM:+0200
TZOFFSETTO:+0100
TZNAME:CET
DTSTART:20251026T010000
END:STANDARD
BEGIN:DAYLIGHT
TZOFFSETFROM:+0100
TZOFFSETTO:+0200
TZNAME:CEST
DTSTART:20260329T010000
END:DAYLIGHT
BEGIN:STANDARD
TZOFFSETFROM:+0200
TZOFFSETTO:+0100
TZNAME:CET
DTSTART:20261025T010000
END:STANDARD
END:VTIMEZONE
BEGIN:VEVENT
DTSTART;VALUE=DATE:20250208
DTEND;VALUE=DATE:20250209
DTSTAMP:20260421T134110
CREATED:20241126T101553Z
LAST-MODIFIED:20250217T083440Z
UID:16732-1738972800-1739059199@judo.se
SUMMARY:Dalsland Open 1 2025
DESCRIPTION:Nivå C. \nInbjudan ligger i Smoothcomp.
URL:https://judo.se/event/dalsland-open-1-2025/
LOCATION:Rådahallen\, Bergsgatan 28\, Mellerud\, 464 30\, Sverige
CATEGORIES:Startsida,Tävlingar,Tävlingar i Väst
ORGANIZER;CN="Kroppefj%C3%A4lls IF":MAILTO:info@kroppefjallsif.se
END:VEVENT
BEGIN:VEVENT
DTSTART;VALUE=DATE:20250209
DTEND;VALUE=DATE:20250210
DTSTAMP:20260421T134110
CREATED:20241119T130534Z
LAST-MODIFIED:20241119T130534Z
UID:16776-1739059200-1739145599@judo.se
SUMMARY:Knivsta Judo Cup 1 2025
DESCRIPTION:Tävling för kategorierna U9 till U13 med högst grönt bälte. \nLänk till Smoothcomp.
URL:https://judo.se/event/knivsta-judo-cup-1-2025/
LOCATION:Knivsta Centrum för Idrott och Kultur\, Parkvägen 31 A\, Knivsta\, 74140\, Sverige
CATEGORIES:Tävlingar
END:VEVENT
BEGIN:VEVENT
DTSTART;VALUE=DATE:20250222
DTEND;VALUE=DATE:20250223
DTSTAMP:20260421T134110
CREATED:20250204T124541Z
LAST-MODIFIED:20250217T083421Z
UID:17391-1740182400-1740268799@judo.se
SUMMARY:Judits pokal 1\, 2025
DESCRIPTION:Anmälan i Smoothcomp.
URL:https://judo.se/event/judits-pokal-1-2025/
LOCATION:Göteborgs Judoklubb\, Andra långgatan 48\, Göteborg\, Sverige
CATEGORIES:Startsida,Tävlingar,Tävlingar i Väst
ORGANIZER;CN="G%C3%B6teborgs Judoklubb":MAILTO:info@gjk.se
END:VEVENT
END:VCALENDAR