BEGIN:VCALENDAR
VERSION:2.0
PRODID:-//Svenska Judoförbundet - ECPv6.15.20//NONSGML v1.0//EN
CALSCALE:GREGORIAN
METHOD:PUBLISH
X-ORIGINAL-URL:https://judo.se
X-WR-CALDESC:Händelser för Svenska Judoförbundet
REFRESH-INTERVAL;VALUE=DURATION:PT1H
X-Robots-Tag:noindex
X-PUBLISHED-TTL:PT1H
BEGIN:VTIMEZONE
TZID:Europe/Stockholm
BEGIN:DAYLIGHT
TZOFFSETFROM:+0100
TZOFFSETTO:+0200
TZNAME:CEST
DTSTART:20210328T010000
END:DAYLIGHT
BEGIN:STANDARD
TZOFFSETFROM:+0200
TZOFFSETTO:+0100
TZNAME:CET
DTSTART:20211031T010000
END:STANDARD
BEGIN:DAYLIGHT
TZOFFSETFROM:+0100
TZOFFSETTO:+0200
TZNAME:CEST
DTSTART:20220327T010000
END:DAYLIGHT
BEGIN:STANDARD
TZOFFSETFROM:+0200
TZOFFSETTO:+0100
TZNAME:CET
DTSTART:20221030T010000
END:STANDARD
BEGIN:DAYLIGHT
TZOFFSETFROM:+0100
TZOFFSETTO:+0200
TZNAME:CEST
DTSTART:20230326T010000
END:DAYLIGHT
BEGIN:STANDARD
TZOFFSETFROM:+0200
TZOFFSETTO:+0100
TZNAME:CET
DTSTART:20231029T010000
END:STANDARD
END:VTIMEZONE
BEGIN:VEVENT
DTSTART;TZID=Europe/Stockholm:20221105T090000
DTEND;TZID=Europe/Stockholm:20221106T150000
DTSTAMP:20260426T014152
CREATED:20220818T144520Z
LAST-MODIFIED:20221028T142545Z
UID:11930-1667638800-1667746800@judo.se
SUMMARY:Omstart/Nystart läger\, Borlänge
DESCRIPTION:Sista anmälningsdag är förlängd till 31 oktober. \n﻿ \n 
URL:https://judo.se/event/omstart-nystart-lager-borlange/
LOCATION:Borlänge Judo Club\, Teknikergatan 1\, Borlänge\, 78170\, Sverige
CATEGORIES:Läger,Startsida
ORGANIZER;CN="Borl%C3%A4nge Judo Club":MAILTO:info@borlangejudo.se
END:VEVENT
BEGIN:VEVENT
DTSTART;TZID=Europe/Stockholm:20221112T080000
DTEND;TZID=Europe/Stockholm:20221113T170000
DTSTAMP:20260426T014152
CREATED:20221112T060000Z
LAST-MODIFIED:20221004T072902Z
UID:11977-1668240000-1668358800@judo.se
SUMMARY:Omstart/Nystart läger\, Stockholm
DESCRIPTION:﻿
URL:https://judo.se/event/omstart-nystart-lager-stockholm/
CATEGORIES:Läger,Startsida
END:VEVENT
END:VCALENDAR