BEGIN:VCALENDAR
VERSION:2.0
PRODID:-//Svenska Judoförbundet - ECPv6.15.20//NONSGML v1.0//EN
CALSCALE:GREGORIAN
METHOD:PUBLISH
X-ORIGINAL-URL:https://judo.se
X-WR-CALDESC:Händelser för Svenska Judoförbundet
REFRESH-INTERVAL;VALUE=DURATION:PT1H
X-Robots-Tag:noindex
X-PUBLISHED-TTL:PT1H
BEGIN:VTIMEZONE
TZID:Europe/Stockholm
BEGIN:DAYLIGHT
TZOFFSETFROM:+0100
TZOFFSETTO:+0200
TZNAME:CEST
DTSTART:20170326T010000
END:DAYLIGHT
BEGIN:STANDARD
TZOFFSETFROM:+0200
TZOFFSETTO:+0100
TZNAME:CET
DTSTART:20171029T010000
END:STANDARD
BEGIN:DAYLIGHT
TZOFFSETFROM:+0100
TZOFFSETTO:+0200
TZNAME:CEST
DTSTART:20180325T010000
END:DAYLIGHT
BEGIN:STANDARD
TZOFFSETFROM:+0200
TZOFFSETTO:+0100
TZNAME:CET
DTSTART:20181028T010000
END:STANDARD
BEGIN:DAYLIGHT
TZOFFSETFROM:+0100
TZOFFSETTO:+0200
TZNAME:CEST
DTSTART:20190331T010000
END:DAYLIGHT
BEGIN:STANDARD
TZOFFSETFROM:+0200
TZOFFSETTO:+0100
TZNAME:CET
DTSTART:20191027T010000
END:STANDARD
BEGIN:DAYLIGHT
TZOFFSETFROM:+0100
TZOFFSETTO:+0200
TZNAME:CEST
DTSTART:20200329T010000
END:DAYLIGHT
BEGIN:STANDARD
TZOFFSETFROM:+0200
TZOFFSETTO:+0100
TZNAME:CET
DTSTART:20201025T010000
END:STANDARD
BEGIN:DAYLIGHT
TZOFFSETFROM:+0100
TZOFFSETTO:+0200
TZNAME:CEST
DTSTART:20210328T010000
END:DAYLIGHT
BEGIN:STANDARD
TZOFFSETFROM:+0200
TZOFFSETTO:+0100
TZNAME:CET
DTSTART:20211031T010000
END:STANDARD
BEGIN:DAYLIGHT
TZOFFSETFROM:+0100
TZOFFSETTO:+0200
TZNAME:CEST
DTSTART:20220327T010000
END:DAYLIGHT
BEGIN:STANDARD
TZOFFSETFROM:+0200
TZOFFSETTO:+0100
TZNAME:CET
DTSTART:20221030T010000
END:STANDARD
BEGIN:DAYLIGHT
TZOFFSETFROM:+0100
TZOFFSETTO:+0200
TZNAME:CEST
DTSTART:20230326T010000
END:DAYLIGHT
BEGIN:STANDARD
TZOFFSETFROM:+0200
TZOFFSETTO:+0100
TZNAME:CET
DTSTART:20231029T010000
END:STANDARD
END:VTIMEZONE
BEGIN:VEVENT
DTSTART;VALUE=DATE:20221106
DTEND;VALUE=DATE:20221107
DTSTAMP:20260420T171743
CREATED:20220805T210000Z
LAST-MODIFIED:20221104T141552Z
UID:11534-1667692800-1667779199@judo.se
SUMMARY:Digital Riksfortbildning Tävlingsledare INSTÄLLD!
DESCRIPTION:Denna utbildning är tyvärr inställd. \nNytt datum meddelas senare. \n 
URL:https://judo.se/event/riksfortbildning-tavlingsledare/
LOCATION:Digitalt via zoom
CATEGORIES:Startsida,Utbildningar
ORGANIZER;CN="T%C3%A4vlingsutskottet":MAILTO:tu@judo.se
END:VEVENT
BEGIN:VEVENT
DTSTART;TZID=Europe/Stockholm:20220324T200000
DTEND;TZID=Europe/Stockholm:20220324T210000
DTSTAMP:20260420T171743
CREATED:20220317T083408Z
LAST-MODIFIED:20220317T083408Z
UID:11166-1648152000-1648155600@judo.se
SUMMARY:Smootcomp webinar
DESCRIPTION:Tävlingsutskottet inbjuder till Smoothcomp webinar. \nÄmne för kvällen är: Lottning\, med efterföljande frågestund. \nMöteslänk:\nhttps://us06web.zoom.us/j/82156209424?pwd=MDBIY0lYSTJGeUNHTFlaZ0gzOURzQT09 \nMötes ID: 821 5620 9424\nLösen: 703682
URL:https://judo.se/event/smootcomp-webinar-2/
LOCATION:Digitalt via zoom
CATEGORIES:Möten och Konferenser
ORGANIZER;CN="T%C3%A4vlingsutskottet":MAILTO:tu@judo.se
END:VEVENT
BEGIN:VEVENT
DTSTART;VALUE=DATE:20210828
DTEND;VALUE=DATE:20210829
DTSTAMP:20260420T171743
CREATED:20210827T200000Z
LAST-MODIFIED:20210813T101051Z
UID:9345-1630108800-1630195199@judo.se
SUMMARY:Tävlingsledarutbildning\, Malmö
DESCRIPTION:﻿
URL:https://judo.se/event/tavlingsledarutbildning-syd/
LOCATION:Malmö\, Malmö\, Sverige
CATEGORIES:Startsida,Utbildningar
ORGANIZER;CN="T%C3%A4vlingsutskottet":MAILTO:tu@judo.se
END:VEVENT
BEGIN:VEVENT
DTSTART;TZID=Europe/Stockholm:20210523T150000
DTEND;TZID=Europe/Stockholm:20210523T170000
DTSTAMP:20260420T171743
CREATED:20210503T110000Z
LAST-MODIFIED:20210505T113031Z
UID:9690-1621782000-1621789200@judo.se
SUMMARY:Digital utbildning i tävlingssystemet Smoothcomp
DESCRIPTION:﻿
URL:https://judo.se/event/digital-utbildning-i-tavlingssystemet-smoothcomp/
LOCATION:Digitalt via zoom
CATEGORIES:Startsida,Utbildningar
END:VEVENT
BEGIN:VEVENT
DTSTART;TZID=Europe/Stockholm:20210317T080000
DTEND;TZID=Europe/Stockholm:20210317T170000
DTSTAMP:20260420T171743
CREATED:20210203T111743Z
LAST-MODIFIED:20210203T111743Z
UID:9342-1615968000-1616000400@judo.se
SUMMARY:Tävlingsledarutbildning\, Lindesberg
DESCRIPTION:Inbjudan med mer info kommer inom kort. \nAnmälan! \n 
URL:https://judo.se/event/tavlingsledarutbildning-lindesberg/
LOCATION:Lindesberg Arena\, Nyborgsgatan 1\, Lindesberg\, Sverige
CATEGORIES:Utbildningar
ORGANIZER;CN="Fr%C3%B6vi Judoklubb":MAILTO:info@frovijudo.se
END:VEVENT
BEGIN:VEVENT
DTSTART;TZID=Europe/Stockholm:20210303T190000
DTEND;TZID=Europe/Stockholm:20210303T210000
DTSTAMP:20260420T171743
CREATED:20210103T170000Z
LAST-MODIFIED:20210203T153915Z
UID:9335-1614798000-1614805200@judo.se
SUMMARY:Webbinarium om Tävlingsbestämmelserna
DESCRIPTION:Tävlingsutskottet bjuder in alla tävlingsledare och tränare till ett webbinarium om de nya Tävlingsbestämmelserna. \nWebbinariet kommer ske genom zoom. \nAnmäl dig HÄR! \nMöteslänk skickas ut till dig efter sista anmälningsdagen (2/3 kl 15.00).
URL:https://judo.se/event/webbinarium-om-tavlingsbestammelser/
LOCATION:Digitalt via zoom
CATEGORIES:Möten och Konferenser,Startsida
END:VEVENT
BEGIN:VEVENT
DTSTART;TZID=Europe/Stockholm:20210218T190000
DTEND;TZID=Europe/Stockholm:20210218T210000
DTSTAMP:20260420T171743
CREATED:20210118T170000Z
LAST-MODIFIED:20210203T142413Z
UID:9277-1613674800-1613682000@judo.se
SUMMARY:Webbinarium om Tävlingsbestämmelserna
DESCRIPTION:Tävlingsutskottet bjuder in alla tävlingsledare och tränare till ett webbinarium om de nya Tävlingsbestämmelserna. \nWebbinariet kommer ske genom zoom. \nAnmäl dig HÄR! \nMöteslänk skickas ut till dig efter sista anmälningsdagen (17/2 kl 15.00).
URL:https://judo.se/event/webbinarium-om-tavlingsbestammelserna/
LOCATION:Digitalt via zoom
CATEGORIES:Möten och Konferenser,Startsida
END:VEVENT
BEGIN:VEVENT
DTSTART;TZID=Europe/Stockholm:20191215T090000
DTEND;TZID=Europe/Stockholm:20191215T150000
DTSTAMP:20260420T171743
CREATED:20191111T134907Z
LAST-MODIFIED:20191112T155255Z
UID:7020-1576400400-1576422000@judo.se
SUMMARY:Tävlingsledarkonferens Sundsvall
DESCRIPTION:﻿
URL:https://judo.se/event/tavlingsledarkonferens/
LOCATION:Judo Sundsvall\, Björneborgsgatan 25\, Sundsvall\, 854 60\, Sverige
CATEGORIES:Möten och Konferenser
ORGANIZER;CN="Judo Sundsvall":MAILTO:info@judosundsvall.com
END:VEVENT
BEGIN:VEVENT
DTSTART;TZID=Europe/Stockholm:20191020T090000
DTEND;TZID=Europe/Stockholm:20191020T143000
DTSTAMP:20260420T171743
CREATED:20190417T131549Z
LAST-MODIFIED:20190417T131616Z
UID:5530-1571562000-1571581800@judo.se
SUMMARY:Tävlingsledarkonferens Göteborg
DESCRIPTION:
URL:https://judo.se/event/tavlingsledarkonferens-goteborg/
LOCATION:Prioritet Serneke Arena\, Krutvägen 2-4\, Göteborg\, 415 28\, Sverige
CATEGORIES:Möten och Konferenser
END:VEVENT
BEGIN:VEVENT
DTSTART;TZID=Europe/Stockholm:20190531T130000
DTEND;TZID=Europe/Stockholm:20190531T160000
DTSTAMP:20260420T171743
CREATED:20190417T131035Z
LAST-MODIFIED:20190528T080756Z
UID:5527-1559307600-1559318400@judo.se
SUMMARY:Tävlingsledarkonferens Lund
DESCRIPTION:﻿
URL:https://judo.se/event/tavlingsledarkonferens-lund/
LOCATION:Eos-hallen\, Arkivgatan 32\, Lund\, 22359
CATEGORIES:Möten och Konferenser
ORGANIZER;CN="Svenska Judof%C3%B6rbundet":MAILTO:info@judo.se
END:VEVENT
BEGIN:VEVENT
DTSTART;TZID=Europe/Stockholm:20180317T093000
DTEND;TZID=Europe/Stockholm:20180317T170000
DTSTAMP:20260420T171743
CREATED:20180104T110806Z
LAST-MODIFIED:20180104T114731Z
UID:2544-1521279000-1521306000@judo.se
SUMMARY:Utbildning för tävlingsledare & assisterande tävlingsledare
DESCRIPTION:﻿
URL:https://judo.se/event/utbildning-for-tavlingsledare-assisterande-tavlingsledare-helsingborg/
LOCATION:Helsingborg Arena\, Mellersta Stenbocksgatan 14\, Helsingborg\, 254 37\, Sverige
CATEGORIES:Utbildningar
ORGANIZER;CN="T%C3%A4vlingsutskottet":MAILTO:tu@judo.se
END:VEVENT
BEGIN:VEVENT
DTSTART;TZID=Europe/Stockholm:20180203T093000
DTEND;TZID=Europe/Stockholm:20180203T170000
DTSTAMP:20260420T171743
CREATED:20180104T111726Z
LAST-MODIFIED:20180104T114553Z
UID:2548-1517650200-1517677200@judo.se
SUMMARY:Utbildning för tävlingsledare & assisterande tävlingsledare
DESCRIPTION:﻿
URL:https://judo.se/event/utbildning-for-tavlingsledare-assisterande-tavlingsledare-haninge/
LOCATION:Torvalla Sporthall\, Dalarövägen 66\, Haninge\, 136 45\, Sverige
CATEGORIES:Utbildningar
ORGANIZER;CN="T%C3%A4vlingsutskottet":MAILTO:tu@judo.se
END:VEVENT
END:VCALENDAR