BEGIN:VCALENDAR
VERSION:2.0
PRODID:-//Svenska Judoförbundet - ECPv6.15.20//NONSGML v1.0//EN
CALSCALE:GREGORIAN
METHOD:PUBLISH
X-WR-CALNAME:Svenska Judoförbundet
X-ORIGINAL-URL:https://judo.se
X-WR-CALDESC:Händelser för Svenska Judoförbundet
REFRESH-INTERVAL;VALUE=DURATION:PT1H
X-Robots-Tag:noindex
X-PUBLISHED-TTL:PT1H
BEGIN:VTIMEZONE
TZID:Europe/Stockholm
BEGIN:DAYLIGHT
TZOFFSETFROM:+0100
TZOFFSETTO:+0200
TZNAME:CEST
DTSTART:20250330T010000
END:DAYLIGHT
BEGIN:STANDARD
TZOFFSETFROM:+0200
TZOFFSETTO:+0100
TZNAME:CET
DTSTART:20251026T010000
END:STANDARD
BEGIN:DAYLIGHT
TZOFFSETFROM:+0100
TZOFFSETTO:+0200
TZNAME:CEST
DTSTART:20260329T010000
END:DAYLIGHT
BEGIN:STANDARD
TZOFFSETFROM:+0200
TZOFFSETTO:+0100
TZNAME:CET
DTSTART:20261025T010000
END:STANDARD
BEGIN:DAYLIGHT
TZOFFSETFROM:+0100
TZOFFSETTO:+0200
TZNAME:CEST
DTSTART:20270328T010000
END:DAYLIGHT
BEGIN:STANDARD
TZOFFSETFROM:+0200
TZOFFSETTO:+0100
TZNAME:CET
DTSTART:20271031T010000
END:STANDARD
END:VTIMEZONE
BEGIN:VEVENT
DTSTART;VALUE=DATE:20260124
DTEND;VALUE=DATE:20260126
DTSTAMP:20260419T182332
CREATED:20251117T123812Z
LAST-MODIFIED:20251203T130250Z
UID:18830-1769212800-1769385599@judo.se
SUMMARY:Nationell utbildningshelg - funktionärer
DESCRIPTION:Välkomna till en utbildningshelg för funktionärer!\nNär vi genomför och arrangerar en tävling behövs med många funktionärer. Allt från tävlingsledare\, domare\, sjukvårdare och Smoothcomp-funktionärer. Utan dem blir det ingen tävling! Därför vill vi samla alla under en utbildningshelg i början av terminen för att utbilda\, utveckla och få ökad kunskap om olika funktionärsområden; sjukvård\, domare\, tävlingsledare och Smoothcomp.\n\nKlicka här för inbjudan.\n\nKlicka här för anmälan.\nObs! I nuläget fungerar inte ”spårfunktionen” så om ni anmäler er och inte kan fylla i vilken utbildning ni önskar att gå\, kommer ni blir kontaktade och få frågan via telefon eller mail av mig\, Linn Sundfors.\n\nVälkomna!
URL:https://judo.se/event/nationell-utbildningshelg-funktionarer/
LOCATION:Lindesberg Arena\, Nyborgsgatan 1\, Lindesberg\, Sverige
CATEGORIES:Startsida,Utbildningar
END:VEVENT
END:VCALENDAR