BEGIN:VCALENDAR
VERSION:2.0
PRODID:-//Svenska Judoförbundet - ECPv6.15.20//NONSGML v1.0//EN
CALSCALE:GREGORIAN
METHOD:PUBLISH
X-ORIGINAL-URL:https://judo.se
X-WR-CALDESC:Händelser för Svenska Judoförbundet
REFRESH-INTERVAL;VALUE=DURATION:PT1H
X-Robots-Tag:noindex
X-PUBLISHED-TTL:PT1H
BEGIN:VTIMEZONE
TZID:Europe/Stockholm
BEGIN:DAYLIGHT
TZOFFSETFROM:+0100
TZOFFSETTO:+0200
TZNAME:CEST
DTSTART:20180325T010000
END:DAYLIGHT
BEGIN:STANDARD
TZOFFSETFROM:+0200
TZOFFSETTO:+0100
TZNAME:CET
DTSTART:20181028T010000
END:STANDARD
BEGIN:DAYLIGHT
TZOFFSETFROM:+0100
TZOFFSETTO:+0200
TZNAME:CEST
DTSTART:20190331T010000
END:DAYLIGHT
BEGIN:STANDARD
TZOFFSETFROM:+0200
TZOFFSETTO:+0100
TZNAME:CET
DTSTART:20191027T010000
END:STANDARD
BEGIN:DAYLIGHT
TZOFFSETFROM:+0100
TZOFFSETTO:+0200
TZNAME:CEST
DTSTART:20200329T010000
END:DAYLIGHT
BEGIN:STANDARD
TZOFFSETFROM:+0200
TZOFFSETTO:+0100
TZNAME:CET
DTSTART:20201025T010000
END:STANDARD
BEGIN:DAYLIGHT
TZOFFSETFROM:+0100
TZOFFSETTO:+0200
TZNAME:CEST
DTSTART:20210328T010000
END:DAYLIGHT
BEGIN:STANDARD
TZOFFSETFROM:+0200
TZOFFSETTO:+0100
TZNAME:CET
DTSTART:20211031T010000
END:STANDARD
BEGIN:DAYLIGHT
TZOFFSETFROM:+0100
TZOFFSETTO:+0200
TZNAME:CEST
DTSTART:20220327T010000
END:DAYLIGHT
BEGIN:STANDARD
TZOFFSETFROM:+0200
TZOFFSETTO:+0100
TZNAME:CET
DTSTART:20221030T010000
END:STANDARD
BEGIN:DAYLIGHT
TZOFFSETFROM:+0100
TZOFFSETTO:+0200
TZNAME:CEST
DTSTART:20230326T010000
END:DAYLIGHT
BEGIN:STANDARD
TZOFFSETFROM:+0200
TZOFFSETTO:+0100
TZNAME:CET
DTSTART:20231029T010000
END:STANDARD
BEGIN:DAYLIGHT
TZOFFSETFROM:+0100
TZOFFSETTO:+0200
TZNAME:CEST
DTSTART:20240331T010000
END:DAYLIGHT
BEGIN:STANDARD
TZOFFSETFROM:+0200
TZOFFSETTO:+0100
TZNAME:CET
DTSTART:20241027T010000
END:STANDARD
END:VTIMEZONE
BEGIN:VEVENT
DTSTART;TZID=Europe/Stockholm:20230128T080000
DTEND;TZID=Europe/Stockholm:20230128T170000
DTSTAMP:20260420T211005
CREATED:20221214T082853Z
LAST-MODIFIED:20221214T082853Z
UID:12788-1674892800-1674925200@judo.se
SUMMARY:Sydsvenska öppna Kata\, Kristiansstad
DESCRIPTION:Anmälan via Smoothcomp.
URL:https://judo.se/event/sydsvenska-oppna-kata-kristiansstad/
LOCATION:Kristianstads Judoklubb\, Björkhemsvägen 7a\, Kristianstad\, 29154\, Sverige
CATEGORIES:Tävlingar
ORGANIZER;CN="Kristianstads Judoklubb":MAILTO:info@kristianstadjudo.se
END:VEVENT
BEGIN:VEVENT
DTSTART;TZID=Europe/Stockholm:20230128T080000
DTEND;TZID=Europe/Stockholm:20230128T170000
DTSTAMP:20260420T211005
CREATED:20220907T082451Z
LAST-MODIFIED:20220907T082451Z
UID:12039-1674892800-1674925200@judo.se
SUMMARY:Kata tävling\, Kristianstad
DESCRIPTION:Nage No Kata & Katame No kata. \nInbjudan och anmälan läggs upp senast 2 månader innan eventet.
URL:https://judo.se/event/kata-tavling-kristianstad/
LOCATION:Kristianstads Judoklubb\, Björkhemsvägen 7a\, Kristianstad\, 29154\, Sverige
CATEGORIES:Startsida,Tävlingar
ORGANIZER;CN="Kristianstads Judoklubb":MAILTO:info@kristianstadjudo.se
END:VEVENT
BEGIN:VEVENT
DTSTART;VALUE=DATE:20221029
DTEND;VALUE=DATE:20221031
DTSTAMP:20260420T211005
CREATED:20220902T122017Z
LAST-MODIFIED:20220908T114351Z
UID:12008-1667001600-1667174399@judo.se
SUMMARY:Skåneserien 3 + läger\, Knislinge
DESCRIPTION:Anmälan i smoothcomp.
URL:https://judo.se/event/skaneserien-3-lager-knislinge/
LOCATION:Knislinge Judoklubb
CATEGORIES:Läger,Startsida,Tävlingar
END:VEVENT
BEGIN:VEVENT
DTSTART;TZID=Europe/Stockholm:20220514T080000
DTEND;TZID=Europe/Stockholm:20220515T170000
DTSTAMP:20260420T211005
CREATED:20220514T040000Z
LAST-MODIFIED:20220221T173054Z
UID:10437-1652515200-1652634000@judo.se
SUMMARY:Trollträffen 1\, 2022
DESCRIPTION:Nivå C. \nInbjudan kommer att läggas upp i Smoothcomp.
URL:https://judo.se/event/trolltraffen-1-trollhattan/
LOCATION:Arena Älvhögsborgs\, Trollhättan\, Storgatan 1\, Trollhättan\, Väst\, 46131\, Sweden
CATEGORIES:Startsida,Tävlingar
ORGANIZER;CN="Trollh%C3%A4ttans Judoklubb":MAILTO:trollhattansjk@gmail.com
END:VEVENT
BEGIN:VEVENT
DTSTART;TZID=Europe/Stockholm:20220429T160000
DTEND;TZID=Europe/Stockholm:20220501T150000
DTSTAMP:20260420T211005
CREATED:20220222T094836Z
LAST-MODIFIED:20220222T094836Z
UID:11084-1651248000-1651417200@judo.se
SUMMARY:Swedish Adaptive Judo Open 2022
DESCRIPTION:A-judo tävling för nivå 1-5 samt träningsläger. \nMer information och anmälan finns på Smootcomp.
URL:https://judo.se/event/swedish-adaptive-judo-open-2022/
LOCATION:Lindesbergs Arena\, Nyborgsgatan 1\, Lindesberg\, 71134\, Sverige
CATEGORIES:Läger,Special Needs/Parajudo,Startsida,Tävlingar
ORGANIZER;CN="Fr%C3%B6vi Judoklubb":MAILTO:info@frovijudo.se
END:VEVENT
BEGIN:VEVENT
DTSTART;VALUE=DATE:20220402
DTEND;VALUE=DATE:20220404
DTSTAMP:20260420T211005
CREATED:20220201T210000Z
LAST-MODIFIED:20220222T102456Z
UID:10975-1648857600-1649030399@judo.se
SUMMARY:SM 2022
DESCRIPTION:Individuella Svenska mästerskapen i judo (shiai). Nivå A. \nMer info och anmälan på Smoothcomp!
URL:https://judo.se/event/sm-2022-2/
LOCATION:Medley Ramdalen Sportcenter\, Torpsvägen 1C\, Oxelösund\, 613 35\, Sverige
CATEGORIES:Startsida,Tävlingar
END:VEVENT
BEGIN:VEVENT
DTSTART;VALUE=DATE:20220319
DTEND;VALUE=DATE:20220320
DTSTAMP:20260420T211005
CREATED:20220222T094152Z
LAST-MODIFIED:20220222T094152Z
UID:11082-1647648000-1647734399@judo.se
SUMMARY:Linde Cup 2022
DESCRIPTION:Årets första tävling för U18 och U21. \nMer info och anmälan på Smootcomp.
URL:https://judo.se/event/linde-cup-2022/
LOCATION:Lindesbergs Arena\, Nyborgsgatan 1\, Lindesberg\, 71134\, Sverige
CATEGORIES:Startsida,Tävlingar
ORGANIZER;CN="Fr%C3%B6vi Judoklubb":MAILTO:info@frovijudo.se
END:VEVENT
BEGIN:VEVENT
DTSTART;TZID=Europe/Stockholm:20220219T080000
DTEND;TZID=Europe/Stockholm:20220219T170000
DTSTAMP:20260420T211005
CREATED:20220219T060000Z
LAST-MODIFIED:20220110T121736Z
UID:10364-1645257600-1645290000@judo.se
SUMMARY:Green Hill Junior\, Täby (INSTÄLLT)
DESCRIPTION:Tävlingen är inställd på grund av pandemin. \n 
URL:https://judo.se/event/green-hill-junior-taby/
LOCATION:Tibblehallen\, Attundavägen 5-7\, Täby\, 183 34\, Sverige
CATEGORIES:Startsida,Tävlingar
END:VEVENT
BEGIN:VEVENT
DTSTART;TZID=Europe/Stockholm:20220212T120000
DTEND;TZID=Europe/Stockholm:20220215T160000
DTSTAMP:20260420T211005
CREATED:20211110T103424Z
LAST-MODIFIED:20211110T103424Z
UID:10517-1644667200-1644940800@judo.se
SUMMARY:Danish Open cup & camp
DESCRIPTION:﻿
URL:https://judo.se/event/danish-open-cup-camp/
LOCATION:DGI-huset\, Willy Sørensens Plads\, Vejle\, 7100\, Danmark
CATEGORIES:Läger,Tävlingar
END:VEVENT
BEGIN:VEVENT
DTSTART;TZID=Europe/Stockholm:20211002T110000
DTEND;TZID=Europe/Stockholm:20211002T160000
DTSTAMP:20260420T211005
CREATED:20210902T070000Z
LAST-MODIFIED:20210930T132037Z
UID:10275-1633172400-1633190400@judo.se
SUMMARY:Judokampen\, Wemmenhög (INSTÄLLD)
DESCRIPTION:﻿
URL:https://judo.se/event/judokampen-wemmenhog/
LOCATION:Skurup Sparbank Arena\, Vaktgatan\, Skurup\, Sverige
CATEGORIES:Startsida,Tävlingar
ORGANIZER;CN="Wemmenh%C3%B6gs Budof%C3%B6rening":MAILTO:judo@wemmenhogsbudo.se
END:VEVENT
BEGIN:VEVENT
DTSTART;TZID=Europe/Stockholm:20210912T080000
DTEND;TZID=Europe/Stockholm:20210912T170000
DTSTAMP:20260420T211005
CREATED:20210712T040000Z
LAST-MODIFIED:20210901T094055Z
UID:9860-1631433600-1631466000@judo.se
SUMMARY:Judokampen\, Göteborg
DESCRIPTION:﻿
URL:https://judo.se/event/judokampen/
LOCATION:Göteborgs Judoklubb\, Andra långgatan 48\, Göteborg\, Sverige
CATEGORIES:Startsida,Tävlingar
ORGANIZER;CN="G%C3%B6teborgs Judoklubb":MAILTO:info@gjk.se
END:VEVENT
BEGIN:VEVENT
DTSTART;VALUE=DATE:20191123
DTEND;VALUE=DATE:20191124
DTSTAMP:20260420T211005
CREATED:20190529T132749Z
LAST-MODIFIED:20191204T083253Z
UID:5885-1574467200-1574553599@judo.se
SUMMARY:Södra Judo Open 4 2019
DESCRIPTION:
URL:https://judo.se/event/sodra-judo-open-4/
LOCATION:Torvalla Sporthall\, Dalarövägen 66\, Haninge\, 136 45\, Sverige
CATEGORIES:Tävlingar
ORGANIZER;CN="IK S%C3%B6dra Judo":MAILTO:tavlingar@iksodra.com
END:VEVENT
BEGIN:VEVENT
DTSTART;TZID=Europe/Stockholm:20191012T080000
DTEND;TZID=Europe/Stockholm:20191012T170000
DTSTAMP:20260420T211005
CREATED:20190403T073616Z
LAST-MODIFIED:20190603T112911Z
UID:5341-1570867200-1570899600@judo.se
SUMMARY:Södra Judo Open 3 2019
DESCRIPTION:Inbjudan kommer snart!
URL:https://judo.se/event/sodra-judo-open/
LOCATION:Torvalla Sporthall\, Dalarövägen 66\, Haninge\, 136 45\, Sverige
CATEGORIES:Tävlingar
ORGANIZER;CN="IK S%C3%B6dra Judo":MAILTO:tavlingar@iksodra.com
END:VEVENT
END:VCALENDAR