BEGIN:VCALENDAR
VERSION:2.0
PRODID:-//Svenska Judoförbundet - ECPv6.15.20//NONSGML v1.0//EN
CALSCALE:GREGORIAN
METHOD:PUBLISH
X-ORIGINAL-URL:https://judo.se
X-WR-CALDESC:Händelser för Svenska Judoförbundet
REFRESH-INTERVAL;VALUE=DURATION:PT1H
X-Robots-Tag:noindex
X-PUBLISHED-TTL:PT1H
BEGIN:VTIMEZONE
TZID:Europe/Stockholm
BEGIN:DAYLIGHT
TZOFFSETFROM:+0100
TZOFFSETTO:+0200
TZNAME:CEST
DTSTART:20170326T010000
END:DAYLIGHT
BEGIN:STANDARD
TZOFFSETFROM:+0200
TZOFFSETTO:+0100
TZNAME:CET
DTSTART:20171029T010000
END:STANDARD
BEGIN:DAYLIGHT
TZOFFSETFROM:+0100
TZOFFSETTO:+0200
TZNAME:CEST
DTSTART:20180325T010000
END:DAYLIGHT
BEGIN:STANDARD
TZOFFSETFROM:+0200
TZOFFSETTO:+0100
TZNAME:CET
DTSTART:20181028T010000
END:STANDARD
BEGIN:DAYLIGHT
TZOFFSETFROM:+0100
TZOFFSETTO:+0200
TZNAME:CEST
DTSTART:20190331T010000
END:DAYLIGHT
BEGIN:STANDARD
TZOFFSETFROM:+0200
TZOFFSETTO:+0100
TZNAME:CET
DTSTART:20191027T010000
END:STANDARD
BEGIN:DAYLIGHT
TZOFFSETFROM:+0100
TZOFFSETTO:+0200
TZNAME:CEST
DTSTART:20200329T010000
END:DAYLIGHT
BEGIN:STANDARD
TZOFFSETFROM:+0200
TZOFFSETTO:+0100
TZNAME:CET
DTSTART:20201025T010000
END:STANDARD
BEGIN:DAYLIGHT
TZOFFSETFROM:+0100
TZOFFSETTO:+0200
TZNAME:CEST
DTSTART:20210328T010000
END:DAYLIGHT
BEGIN:STANDARD
TZOFFSETFROM:+0200
TZOFFSETTO:+0100
TZNAME:CET
DTSTART:20211031T010000
END:STANDARD
BEGIN:DAYLIGHT
TZOFFSETFROM:+0100
TZOFFSETTO:+0200
TZNAME:CEST
DTSTART:20220327T010000
END:DAYLIGHT
BEGIN:STANDARD
TZOFFSETFROM:+0200
TZOFFSETTO:+0100
TZNAME:CET
DTSTART:20221030T010000
END:STANDARD
BEGIN:DAYLIGHT
TZOFFSETFROM:+0100
TZOFFSETTO:+0200
TZNAME:CEST
DTSTART:20230326T010000
END:DAYLIGHT
BEGIN:STANDARD
TZOFFSETFROM:+0200
TZOFFSETTO:+0100
TZNAME:CET
DTSTART:20231029T010000
END:STANDARD
BEGIN:DAYLIGHT
TZOFFSETFROM:+0100
TZOFFSETTO:+0200
TZNAME:CEST
DTSTART:20240331T010000
END:DAYLIGHT
BEGIN:STANDARD
TZOFFSETFROM:+0200
TZOFFSETTO:+0100
TZNAME:CET
DTSTART:20241027T010000
END:STANDARD
END:VTIMEZONE
BEGIN:VEVENT
DTSTART;TZID=Europe/Stockholm:20230422T093000
DTEND;TZID=Europe/Stockholm:20230423T160000
DTSTAMP:20260420T164702
CREATED:20230119T104435Z
LAST-MODIFIED:20230403T094348Z
UID:12947-1682155800-1682265600@judo.se
SUMMARY:Step by Step - steg 4\, Borlänge
DESCRIPTION:﻿
URL:https://judo.se/event/judo4life-step-by-step-steg-4-borlange/
LOCATION:Borlänge Judo Club\, Teknikergatan 1\, Borlänge\, 78170\, Sverige
CATEGORIES:Startsida,Utbildningar
ORGANIZER;CN="Borl%C3%A4nge Judo Club":MAILTO:info@borlangejudo.se
END:VEVENT
BEGIN:VEVENT
DTSTART;TZID=Europe/Stockholm:20230415T083000
DTEND;TZID=Europe/Stockholm:20230416T160000
DTSTAMP:20260420T164702
CREATED:20230201T092414Z
LAST-MODIFIED:20230331T081457Z
UID:13108-1681547400-1681660800@judo.se
SUMMARY:Step by Step - steg 1\, Sundsvall
DESCRIPTION:﻿
URL:https://judo.se/event/step-by-step-steg-1-sundsvall/
LOCATION:Judo Club Sundsvall\, Björneborgsgatan 25\, Sundsvall\, 854 60
CATEGORIES:Startsida,Utbildningar
ORGANIZER;CN="Judo Sundsvall":MAILTO:info@judosundsvall.com
END:VEVENT
BEGIN:VEVENT
DTSTART;TZID=Europe/Stockholm:20230310T180000
DTEND;TZID=Europe/Stockholm:20230312T150000
DTSTAMP:20260420T164702
CREATED:20221110T105420Z
LAST-MODIFIED:20230113T140127Z
UID:12540-1678471200-1678633200@judo.se
SUMMARY:Step by Step - steg 3\, Malmö
DESCRIPTION:﻿
URL:https://judo.se/event/step-by-step-steg-3/
LOCATION:Nationella elitcentret i Malmö\, Eric Perssons väg 8A\, Malmö\, 21762\, Sverige
CATEGORIES:Startsida,Utbildningar
END:VEVENT
BEGIN:VEVENT
DTSTART;TZID=Europe/Stockholm:20230211T090000
DTEND;TZID=Europe/Stockholm:20230212T160000
DTSTAMP:20260420T164702
CREATED:20221109T155902Z
LAST-MODIFIED:20230110T122821Z
UID:12528-1676106000-1676217600@judo.se
SUMMARY:Step by Step - steg 1\, Skurup
DESCRIPTION:﻿
URL:https://judo.se/event/step-by-step-steg-1-skurup/
LOCATION:Skurup Sparbank Arena\, Vaktgatan\, Skurup\, Sverige
CATEGORIES:Startsida,Utbildningar
ORGANIZER;CN="Wemmenh%C3%B6gs Budof%C3%B6rening":MAILTO:judo@wemmenhogsbudo.se
END:VEVENT
BEGIN:VEVENT
DTSTART;TZID=Europe/Stockholm:20220409T090000
DTEND;TZID=Europe/Stockholm:20220410T160000
DTSTAMP:20260420T164702
CREATED:20220209T060000Z
LAST-MODIFIED:20220315T133909Z
UID:10621-1649494800-1649606400@judo.se
SUMMARY:Judo4Life Step by step - steg 2\, Borlänge
DESCRIPTION:﻿
URL:https://judo.se/event/judo4life-step-by-step-steg-2-borlange/
LOCATION:Borlänge Judo Club\, Teknikergatan 1\, Borlänge\, 78170\, Sverige
CATEGORIES:Startsida,Utbildningar
END:VEVENT
BEGIN:VEVENT
DTSTART;TZID=Europe/Stockholm:20220312T090000
DTEND;TZID=Europe/Stockholm:20220313T160000
DTSTAMP:20260420T164702
CREATED:20220112T070000Z
LAST-MODIFIED:20220301T162017Z
UID:10619-1647075600-1647187200@judo.se
SUMMARY:Judo4Life Step-by-step steg 1\, Göteborg
DESCRIPTION:Anmälan förlängd till 3/3! \n﻿﻿
URL:https://judo.se/event/judo4life-step-by-step-steg-1-goteborg/
LOCATION:Göteborgs Judoklubb\, Andra långgatan 48\, Göteborg\, Sverige
CATEGORIES:Startsida,Utbildningar
ORGANIZER;CN="Svenska Judof%C3%B6rbundet":MAILTO:info@judo.se
END:VEVENT
BEGIN:VEVENT
DTSTART;VALUE=DATE:20210327
DTEND;VALUE=DATE:20210329
DTSTAMP:20260420T164702
CREATED:20210127T070000Z
LAST-MODIFIED:20220908T114720Z
UID:8877-1616803200-1616975999@judo.se
SUMMARY:Step by step - steg 2\, Borlänge (INSTÄLLD)
DESCRIPTION:Inbjudan publiceras senast 2 månader innan utbildningen.
URL:https://judo.se/event/step-by-step-steg-2-borlange-installd/
LOCATION:Borlänge Judo Club\, Teknikergatan 1\, Borlänge\, 78170\, Sverige
CATEGORIES:Utbildningar
ORGANIZER;CN="Borl%C3%A4nge Judo Club":MAILTO:info@borlangejudo.se
END:VEVENT
BEGIN:VEVENT
DTSTART;TZID=Europe/Stockholm:20210313T090000
DTEND;TZID=Europe/Stockholm:20210314T160000
DTSTAMP:20260420T164702
CREATED:20210113T070000Z
LAST-MODIFIED:20210215T154241Z
UID:8872-1615626000-1615737600@judo.se
SUMMARY:Step by step - steg 1\, Göteborg (INSTÄLLD)
DESCRIPTION:Inbjudan publiceras senast 2 månader innan.
URL:https://judo.se/event/step-by-step-steg-1-goteborg/
LOCATION:Göteborgs Judoklubb\, Andra långgatan 48\, Göteborg\, Sverige
CATEGORIES:Utbildningar
ORGANIZER;CN="G%C3%B6teborgs Judoklubb":MAILTO:info@gjk.se
END:VEVENT
BEGIN:VEVENT
DTSTART;TZID=Europe/Stockholm:20200104T083000
DTEND;TZID=Europe/Stockholm:20200105T160000
DTSTAMP:20260420T164702
CREATED:20191111T135943Z
LAST-MODIFIED:20191112T150047Z
UID:7022-1578126600-1578240000@judo.se
SUMMARY:Fortbildning Judo4Life - Step by Step - steg 3  U18 & U21
DESCRIPTION:﻿
URL:https://judo.se/event/fortbildning-judo4life-step-by-step-steg-3-u19-u21/
LOCATION:Bosön Idrottsfolkhögskola\, Bosövägen 2\, Lidingö\, 181 47\, Sverige
CATEGORIES:Startsida,Utbildningar
ORGANIZER;CN="Svenska Judof%C3%B6rbundet":MAILTO:info@judo.se
END:VEVENT
BEGIN:VEVENT
DTSTART;TZID=Europe/Stockholm:20191102T090000
DTEND;TZID=Europe/Stockholm:20191103T150000
DTSTAMP:20260420T164702
CREATED:20190904T144113Z
LAST-MODIFIED:20191022T080130Z
UID:6632-1572685200-1572793200@judo.se
SUMMARY:Fortbildning Judo4Life Step-by-step\, steg 2
DESCRIPTION:OBS! Du behöver ej ha gått steg 1 för att få gå steg 2!\n﻿
URL:https://judo.se/event/instruktorsutbildning-judo4life-step-by-step-steg-2/
LOCATION:Wemmenhögs Budoförening\, Vaktgatan\, Skurup\, 274 34\, Sverige
CATEGORIES:Startsida,Utbildningar
ORGANIZER;CN="Svenska Judof%C3%B6rbundet":MAILTO:info@judo.se
END:VEVENT
BEGIN:VEVENT
DTSTART;TZID=Europe/Stockholm:20180511T180000
DTEND;TZID=Europe/Stockholm:20180513T180000
DTSTAMP:20260420T164702
CREATED:20180208T093351Z
LAST-MODIFIED:20180213T121316Z
UID:2849-1526061600-1526234400@judo.se
SUMMARY:Fortbildning Judo4Life - Step by Step
DESCRIPTION:
URL:https://judo.se/event/fortbildning-judo4life-step-by-step/
CATEGORIES:Utbildningar
ORGANIZER;CN="Judo4Life":MAILTO:karin.baathe@judo.se
END:VEVENT
BEGIN:VEVENT
DTSTART;VALUE=DATE:20180302
DTEND;VALUE=DATE:20180305
DTSTAMP:20260420T164702
CREATED:20180129T094729Z
LAST-MODIFIED:20180129T094729Z
UID:2803-1519948800-1520207999@judo.se
SUMMARY:Metodikhandledarutbildning Judo4Life - Step by Step
DESCRIPTION:﻿
URL:https://judo.se/event/metodikhandledarutbildning-judo4life-step-by-step-2/
LOCATION:Göteborg
CATEGORIES:Utbildningar
END:VEVENT
BEGIN:VEVENT
DTSTART;TZID=Europe/Stockholm:20180216T180000
DTEND;TZID=Europe/Stockholm:20180218T160000
DTSTAMP:20260420T164702
CREATED:20180129T094232Z
LAST-MODIFIED:20180129T094232Z
UID:2801-1518804000-1518969600@judo.se
SUMMARY:Metodikhandledarutbildning Judo4Life - Step by Step
DESCRIPTION:﻿
URL:https://judo.se/event/metodikhandledarutbildning-judo4life-step-by-step/
LOCATION:Skurup\, Skurup\, Sverige
CATEGORIES:Utbildningar
END:VEVENT
END:VCALENDAR