BEGIN:VCALENDAR
VERSION:2.0
PRODID:-//Svenska Judoförbundet - ECPv6.15.20//NONSGML v1.0//EN
CALSCALE:GREGORIAN
METHOD:PUBLISH
X-ORIGINAL-URL:https://judo.se
X-WR-CALDESC:Händelser för Svenska Judoförbundet
REFRESH-INTERVAL;VALUE=DURATION:PT1H
X-Robots-Tag:noindex
X-PUBLISHED-TTL:PT1H
BEGIN:VTIMEZONE
TZID:Europe/Stockholm
BEGIN:DAYLIGHT
TZOFFSETFROM:+0100
TZOFFSETTO:+0200
TZNAME:CEST
DTSTART:20240331T010000
END:DAYLIGHT
BEGIN:STANDARD
TZOFFSETFROM:+0200
TZOFFSETTO:+0100
TZNAME:CET
DTSTART:20241027T010000
END:STANDARD
BEGIN:DAYLIGHT
TZOFFSETFROM:+0100
TZOFFSETTO:+0200
TZNAME:CEST
DTSTART:20250330T010000
END:DAYLIGHT
BEGIN:STANDARD
TZOFFSETFROM:+0200
TZOFFSETTO:+0100
TZNAME:CET
DTSTART:20251026T010000
END:STANDARD
BEGIN:DAYLIGHT
TZOFFSETFROM:+0100
TZOFFSETTO:+0200
TZNAME:CEST
DTSTART:20260329T010000
END:DAYLIGHT
BEGIN:STANDARD
TZOFFSETFROM:+0200
TZOFFSETTO:+0100
TZNAME:CET
DTSTART:20261025T010000
END:STANDARD
END:VTIMEZONE
BEGIN:VEVENT
DTSTART;TZID=Europe/Stockholm:20250302T100000
DTEND;TZID=Europe/Stockholm:20250302T170000
DTSTAMP:20260423T124216
CREATED:20250114T131432Z
LAST-MODIFIED:20250114T131432Z
UID:17196-1740909600-1740934800@judo.se
SUMMARY:Riksgradering Borlänge
DESCRIPTION:Riksgradering Borlänge 250302
URL:https://judo.se/event/riksgradering-borlange-2/
LOCATION:Borlänge Judo Club\, Teknikergatan 1\, Borlänge\, 78170\, Sverige
CATEGORIES:Graderingar,Startsida
ORGANIZER;CN="Borl%C3%A4nge Judo Club":MAILTO:info@borlangejudo.se
END:VEVENT
END:VCALENDAR