BEGIN:VCALENDAR
VERSION:2.0
PRODID:-//Svenska Judoförbundet - ECPv6.15.20//NONSGML v1.0//EN
CALSCALE:GREGORIAN
METHOD:PUBLISH
X-WR-CALNAME:Svenska Judoförbundet
X-ORIGINAL-URL:https://judo.se
X-WR-CALDESC:Händelser för Svenska Judoförbundet
REFRESH-INTERVAL;VALUE=DURATION:PT1H
X-Robots-Tag:noindex
X-PUBLISHED-TTL:PT1H
BEGIN:VTIMEZONE
TZID:Europe/Stockholm
BEGIN:DAYLIGHT
TZOFFSETFROM:+0100
TZOFFSETTO:+0200
TZNAME:CEST
DTSTART:20240331T010000
END:DAYLIGHT
BEGIN:STANDARD
TZOFFSETFROM:+0200
TZOFFSETTO:+0100
TZNAME:CET
DTSTART:20241027T010000
END:STANDARD
BEGIN:DAYLIGHT
TZOFFSETFROM:+0100
TZOFFSETTO:+0200
TZNAME:CEST
DTSTART:20250330T010000
END:DAYLIGHT
BEGIN:STANDARD
TZOFFSETFROM:+0200
TZOFFSETTO:+0100
TZNAME:CET
DTSTART:20251026T010000
END:STANDARD
BEGIN:DAYLIGHT
TZOFFSETFROM:+0100
TZOFFSETTO:+0200
TZNAME:CEST
DTSTART:20260329T010000
END:DAYLIGHT
BEGIN:STANDARD
TZOFFSETFROM:+0200
TZOFFSETTO:+0100
TZNAME:CET
DTSTART:20261025T010000
END:STANDARD
END:VTIMEZONE
BEGIN:VEVENT
DTSTART;TZID=Europe/Stockholm:20250109T190000
DTEND;TZID=Europe/Stockholm:20250109T210000
DTSTAMP:20260423T181909
CREATED:20241213T110921Z
LAST-MODIFIED:20241213T110940Z
UID:17016-1736449200-1736456400@judo.se
SUMMARY:Regelseminarium IJF-regler\, digitalt
DESCRIPTION:Ny regler från IJF kommer börja gälla från årsskiftet\, så även på svenska tävlingar. \nAG domare kallar därmed till ett digitalt regelseminarium för domare\, coacher och aktiva för att presentera de nya reglerna. Obligatoriskt för alla som coachar och dömer på SM-nivå!\n\nJoin the meeting now\nMeeting ID: 319 255 680 008\nPasscode: m6RV9FY7
URL:https://judo.se/event/regelseminarium-digitalt/
LOCATION:Digitalt
CATEGORIES:Startsida,Utbildningar
END:VEVENT
END:VCALENDAR