BEGIN:VCALENDAR
VERSION:2.0
PRODID:-//Svenska Judoförbundet - ECPv6.15.20//NONSGML v1.0//EN
CALSCALE:GREGORIAN
METHOD:PUBLISH
X-ORIGINAL-URL:https://judo.se
X-WR-CALDESC:Händelser för Svenska Judoförbundet
REFRESH-INTERVAL;VALUE=DURATION:PT1H
X-Robots-Tag:noindex
X-PUBLISHED-TTL:PT1H
BEGIN:VTIMEZONE
TZID:Europe/Stockholm
BEGIN:DAYLIGHT
TZOFFSETFROM:+0100
TZOFFSETTO:+0200
TZNAME:CEST
DTSTART:20210328T010000
END:DAYLIGHT
BEGIN:STANDARD
TZOFFSETFROM:+0200
TZOFFSETTO:+0100
TZNAME:CET
DTSTART:20211031T010000
END:STANDARD
BEGIN:DAYLIGHT
TZOFFSETFROM:+0100
TZOFFSETTO:+0200
TZNAME:CEST
DTSTART:20220327T010000
END:DAYLIGHT
BEGIN:STANDARD
TZOFFSETFROM:+0200
TZOFFSETTO:+0100
TZNAME:CET
DTSTART:20221030T010000
END:STANDARD
BEGIN:DAYLIGHT
TZOFFSETFROM:+0100
TZOFFSETTO:+0200
TZNAME:CEST
DTSTART:20230326T010000
END:DAYLIGHT
BEGIN:STANDARD
TZOFFSETFROM:+0200
TZOFFSETTO:+0100
TZNAME:CET
DTSTART:20231029T010000
END:STANDARD
END:VTIMEZONE
BEGIN:VEVENT
DTSTART;TZID=Europe/Stockholm:20220910T100000
DTEND;TZID=Europe/Stockholm:20220911T143000
DTSTAMP:20260422T023817
CREATED:20220726T111239Z
LAST-MODIFIED:20220726T111239Z
UID:11785-1662804000-1662906600@judo.se
SUMMARY:Omstart-Nystart klubbträff\, Luleå
DESCRIPTION:﻿﻿
URL:https://judo.se/event/omstart-nystart-klubbtraff-lulea/
LOCATION:Luleå Energi Arena\, Bastugatan 6-8
CATEGORIES:Möten och Konferenser,Startsida
END:VEVENT
BEGIN:VEVENT
DTSTART;TZID=Europe/Stockholm:20220806T100000
DTEND;TZID=Europe/Stockholm:20220806T143000
DTSTAMP:20260422T023817
CREATED:20220806T060000Z
LAST-MODIFIED:20220726T103926Z
UID:11475-1659780000-1659796200@judo.se
SUMMARY:Omstart/Nystart klubbträff\, Borlänge - INSTÄLLD!
DESCRIPTION:
URL:https://judo.se/event/omstart-nystart-klubbtraff-borlange/
LOCATION:Borlänge Judo Club\, Teknikergatan 1\, Borlänge\, 78170\, Sverige
CATEGORIES:Möten och Konferenser,Startsida
ORGANIZER;CN="Borl%C3%A4nge Judo Club":MAILTO:info@borlangejudo.se
END:VEVENT
BEGIN:VEVENT
DTSTART;TZID=Europe/Stockholm:20220806T100000
DTEND;TZID=Europe/Stockholm:20220806T143000
DTSTAMP:20260422T023817
CREATED:20220806T060000Z
LAST-MODIFIED:20220726T103959Z
UID:11473-1659780000-1659796200@judo.se
SUMMARY:Omstart/Nystart träningsläger\, Borlänge - INSTÄLLD!
DESCRIPTION:
URL:https://judo.se/event/omstart-nystart-traningslager-borlange/
LOCATION:Borlänge Judo Club\, Teknikergatan 1\, Borlänge\, 78170\, Sverige
CATEGORIES:Läger,Startsida
ORGANIZER;CN="Borl%C3%A4nge Judo Club":MAILTO:info@borlangejudo.se
END:VEVENT
BEGIN:VEVENT
DTSTART;TZID=Europe/Stockholm:20220720T100000
DTEND;TZID=Europe/Stockholm:20220722T130000
DTSTAMP:20260422T023817
CREATED:20220512T121332Z
LAST-MODIFIED:20220512T121332Z
UID:11469-1658311200-1658494800@judo.se
SUMMARY:Omstart-Nystart klubbträff\, Visby
DESCRIPTION:﻿
URL:https://judo.se/event/omstart-nystart-klubbtraff-visby/
LOCATION:Innebandycenter\, Visborgsallén 34\,\, 621 50 Visby\, 621 50
CATEGORIES:Möten och Konferenser,Startsida
END:VEVENT
BEGIN:VEVENT
DTSTART;TZID=Europe/Stockholm:20220720T100000
DTEND;TZID=Europe/Stockholm:20220722T130000
DTSTAMP:20260422T023817
CREATED:20220510T060000Z
LAST-MODIFIED:20220516T072833Z
UID:11465-1658311200-1658494800@judo.se
SUMMARY:Omstart-Nystart läger\, Visby
DESCRIPTION:﻿
URL:https://judo.se/event/omstart-nystart-lager-visby/
LOCATION:Innebandycenter\, Visborgsallén 34\,\, 621 50 Visby\, 621 50
CATEGORIES:Läger,Startsida
END:VEVENT
BEGIN:VEVENT
DTSTART;TZID=Europe/Stockholm:20220409T160000
DTEND;TZID=Europe/Stockholm:20220410T160000
DTSTAMP:20260422T023817
CREATED:20220209T130000Z
LAST-MODIFIED:20220321T133216Z
UID:11138-1649520000-1649606400@judo.se
SUMMARY:Omstart-Nystart Träningsläger\, Mellerud
DESCRIPTION:﻿
URL:https://judo.se/event/omstart-nystart-traningslager-kroppefjall/
LOCATION:Rådahallen Sport & Friskvårdscenter\, Bergsgatan 28\, Mellerud\, 464 30
CATEGORIES:Läger,Startsida
ORGANIZER;CN="Kroppefj%C3%A4lls IF":MAILTO:info@kroppefjallsif.se
END:VEVENT
BEGIN:VEVENT
DTSTART;TZID=Europe/Stockholm:20220409T160000
DTEND;TZID=Europe/Stockholm:20220410T160000
DTSTAMP:20260422T023817
CREATED:20220209T130000Z
LAST-MODIFIED:20220325T103317Z
UID:11141-1649520000-1649606400@judo.se
SUMMARY:Omstart-Nystart föreningsträff\, Mellerud
DESCRIPTION:﻿
URL:https://judo.se/event/omstart-nystart-foreningstraff-kroppefjall/
LOCATION:Rådahallen Sport & Friskvårdscenter\, Bergsgatan 28\, Mellerud\, 464 30
CATEGORIES:Möten och Konferenser,Startsida,Utbildningar
ORGANIZER;CN="Kroppefj%C3%A4lls IF":MAILTO:info@kroppefjallsif.se
END:VEVENT
END:VCALENDAR