BEGIN:VCALENDAR
VERSION:2.0
PRODID:-//Svenska Judoförbundet - ECPv6.15.20//NONSGML v1.0//EN
CALSCALE:GREGORIAN
METHOD:PUBLISH
X-ORIGINAL-URL:https://judo.se
X-WR-CALDESC:Händelser för Svenska Judoförbundet
REFRESH-INTERVAL;VALUE=DURATION:PT1H
X-Robots-Tag:noindex
X-PUBLISHED-TTL:PT1H
BEGIN:VTIMEZONE
TZID:Europe/Stockholm
BEGIN:DAYLIGHT
TZOFFSETFROM:+0100
TZOFFSETTO:+0200
TZNAME:CEST
DTSTART:20240331T010000
END:DAYLIGHT
BEGIN:STANDARD
TZOFFSETFROM:+0200
TZOFFSETTO:+0100
TZNAME:CET
DTSTART:20241027T010000
END:STANDARD
BEGIN:DAYLIGHT
TZOFFSETFROM:+0100
TZOFFSETTO:+0200
TZNAME:CEST
DTSTART:20250330T010000
END:DAYLIGHT
BEGIN:STANDARD
TZOFFSETFROM:+0200
TZOFFSETTO:+0100
TZNAME:CET
DTSTART:20251026T010000
END:STANDARD
BEGIN:DAYLIGHT
TZOFFSETFROM:+0100
TZOFFSETTO:+0200
TZNAME:CEST
DTSTART:20260329T010000
END:DAYLIGHT
BEGIN:STANDARD
TZOFFSETFROM:+0200
TZOFFSETTO:+0100
TZNAME:CET
DTSTART:20261025T010000
END:STANDARD
END:VTIMEZONE
BEGIN:VEVENT
DTSTART;TZID=Europe/Stockholm:20250125T090000
DTEND;TZID=Europe/Stockholm:20250125T173000
DTSTAMP:20260423T021831
CREATED:20241120T115108Z
LAST-MODIFIED:20241205T153839Z
UID:16788-1737795600-1737826200@judo.se
SUMMARY:Ungdomskonferensen 2025\, Stockholm
DESCRIPTION:Svenska Judoförbundet bjuder in 3st engagerade ungdomar (13–25 år) per distrikt som är representanter i ungdomsråd\, kommittéer\, styrelser eller motsvarande i sina klubbar eller distrikt\, alternativt ungdomar som är intresserade av att starta ungdomsengagemang är välkomna. \nDatum: 25 januari 2025\nTid: 09.00-17.30 + middag 19.00\nPlats: Scandic Alvik\, Gustavslundsvägen 153\, Stockholm (Bromma)  \nKonferensens syfte är att träffas och utbyta erfarenheter med andra ungdomsrepresentanter\, inspireras och läras av teman om ungas delaktighet\, demokrati och inkludering. Vi vill med konferensen lyfta ungdomars tankar och idéer och uppmuntra dem till att påverka i sin judoklubb\, distrikt och judoförbundet. \nDeltagandet är helt gratis\, Svenska Judoförbundet står för resor\, konferens och boende. \nHjälp oss att sprida ordet till ungdomarna i er klubb/distrikt! \nIntresseanmälan görs till klara.ronnebrand@judo.se\, senast 16 december! Först till kvarn gäller!
URL:https://judo.se/event/ungdomskonferensen-2025/
LOCATION:Scandic Alvik
CATEGORIES:Möten och Konferenser,Startsida
END:VEVENT
BEGIN:VEVENT
DTSTART;TZID=Europe/Stockholm:20250125T090000
DTEND;TZID=Europe/Stockholm:20250126T150000
DTSTAMP:20260423T021831
CREATED:20241007T125719Z
LAST-MODIFIED:20241127T095009Z
UID:16572-1737795600-1737903600@judo.se
SUMMARY:Ledarkonferensen 2025
DESCRIPTION:För distriktsordföranden\, arbetsgrupper\, anställda\, förbundsstyrelsen\, personer med särskilda uppdrag.
URL:https://judo.se/event/ledarkonferensen-2025/
LOCATION:Scandic Alvik
CATEGORIES:Möten och Konferenser,Startsida
END:VEVENT
END:VCALENDAR