BEGIN:VCALENDAR
VERSION:2.0
PRODID:-//Svenska Judoförbundet - ECPv6.15.20//NONSGML v1.0//EN
CALSCALE:GREGORIAN
METHOD:PUBLISH
X-ORIGINAL-URL:https://judo.se
X-WR-CALDESC:Händelser för Svenska Judoförbundet
REFRESH-INTERVAL;VALUE=DURATION:PT1H
X-Robots-Tag:noindex
X-PUBLISHED-TTL:PT1H
BEGIN:VTIMEZONE
TZID:Europe/Stockholm
BEGIN:DAYLIGHT
TZOFFSETFROM:+0100
TZOFFSETTO:+0200
TZNAME:CEST
DTSTART:20240331T010000
END:DAYLIGHT
BEGIN:STANDARD
TZOFFSETFROM:+0200
TZOFFSETTO:+0100
TZNAME:CET
DTSTART:20241027T010000
END:STANDARD
BEGIN:DAYLIGHT
TZOFFSETFROM:+0100
TZOFFSETTO:+0200
TZNAME:CEST
DTSTART:20250330T010000
END:DAYLIGHT
BEGIN:STANDARD
TZOFFSETFROM:+0200
TZOFFSETTO:+0100
TZNAME:CET
DTSTART:20251026T010000
END:STANDARD
BEGIN:DAYLIGHT
TZOFFSETFROM:+0100
TZOFFSETTO:+0200
TZNAME:CEST
DTSTART:20260329T010000
END:DAYLIGHT
BEGIN:STANDARD
TZOFFSETFROM:+0200
TZOFFSETTO:+0100
TZNAME:CET
DTSTART:20261025T010000
END:STANDARD
END:VTIMEZONE
BEGIN:VEVENT
DTSTART;TZID=Europe/Stockholm:20251006T180000
DTEND;TZID=Europe/Stockholm:20251006T200000
DTSTAMP:20260420T083132
CREATED:20250926T070911Z
LAST-MODIFIED:20250926T071959Z
UID:18585-1759773600-1759780800@judo.se
SUMMARY:Digital föreläsning med Måns Lööf - Idrott och NPF
DESCRIPTION:Info hittar du här. \nLänk till anmälan för den digitala föreläsningen 6 oktober
URL:https://judo.se/event/digital-forelasning-med-mans-loof-idrott-och-npf/
LOCATION:Digitalt
CATEGORIES:Special Needs/Parajudo,Startsida,Utbildningar
END:VEVENT
BEGIN:VEVENT
DTSTART;TZID=Europe/Stockholm:20251008T180000
DTEND;TZID=Europe/Stockholm:20251008T200000
DTSTAMP:20260420T083132
CREATED:20250926T072914Z
LAST-MODIFIED:20250926T073448Z
UID:18589-1759946400-1759953600@judo.se
SUMMARY:Digital föreläsning med Måns Lööf - Idrott och NPF
DESCRIPTION:Info hittar du här. \nLänk till anmälan för den digitala föreläsningen 8 oktober hittar du här.
URL:https://judo.se/event/digital-forelasning-med-mans-loof-idrott-och-npf-2/
LOCATION:Digitalt
CATEGORIES:Special Needs/Parajudo,Startsida,Utbildningar
END:VEVENT
BEGIN:VEVENT
DTSTART;TZID=Europe/Stockholm:20251014T180000
DTEND;TZID=Europe/Stockholm:20251014T200000
DTSTAMP:20260420T083132
CREATED:20250926T073631Z
LAST-MODIFIED:20250926T073631Z
UID:18591-1760464800-1760472000@judo.se
SUMMARY:Digital föreläsning med Måns Lööf - Idrott och NPF
DESCRIPTION:Info hittar du här. \nLänk till anmälan för den digitala föreläsningen den 14 oktober hittar du här. \n 
URL:https://judo.se/event/digital-forelasning-med-mans-loof-idrott-och-npf-3/
LOCATION:Digitalt
CATEGORIES:Special Needs/Parajudo,Startsida,Utbildningar
END:VEVENT
BEGIN:VEVENT
DTSTART;TZID=Europe/Stockholm:20251027T180000
DTEND;TZID=Europe/Stockholm:20251027T200000
DTSTAMP:20260420T083132
CREATED:20251003T104310Z
LAST-MODIFIED:20251003T104326Z
UID:18633-1761588000-1761595200@judo.se
SUMMARY:Digital workshop med Måns Lööf - Idrott och NPF
DESCRIPTION:Info hittar du här. \nLänk till anmälan för den digitala workshopen hittar ni här \n 
URL:https://judo.se/event/digital-workshop-med-mans-loof-idrott-och-npf/
LOCATION:Digitalt
CATEGORIES:Special Needs/Parajudo,Startsida,Utbildningar
END:VEVENT
END:VCALENDAR