BEGIN:VCALENDAR
VERSION:2.0
PRODID:-//Svenska Judoförbundet - ECPv6.15.20//NONSGML v1.0//EN
CALSCALE:GREGORIAN
METHOD:PUBLISH
X-ORIGINAL-URL:https://judo.se
X-WR-CALDESC:Händelser för Svenska Judoförbundet
REFRESH-INTERVAL;VALUE=DURATION:PT1H
X-Robots-Tag:noindex
X-PUBLISHED-TTL:PT1H
BEGIN:VTIMEZONE
TZID:Europe/Stockholm
BEGIN:DAYLIGHT
TZOFFSETFROM:+0100
TZOFFSETTO:+0200
TZNAME:CEST
DTSTART:20160327T010000
END:DAYLIGHT
BEGIN:STANDARD
TZOFFSETFROM:+0200
TZOFFSETTO:+0100
TZNAME:CET
DTSTART:20161030T010000
END:STANDARD
BEGIN:DAYLIGHT
TZOFFSETFROM:+0100
TZOFFSETTO:+0200
TZNAME:CEST
DTSTART:20170326T010000
END:DAYLIGHT
BEGIN:STANDARD
TZOFFSETFROM:+0200
TZOFFSETTO:+0100
TZNAME:CET
DTSTART:20171029T010000
END:STANDARD
BEGIN:DAYLIGHT
TZOFFSETFROM:+0100
TZOFFSETTO:+0200
TZNAME:CEST
DTSTART:20180325T010000
END:DAYLIGHT
BEGIN:STANDARD
TZOFFSETFROM:+0200
TZOFFSETTO:+0100
TZNAME:CET
DTSTART:20181028T010000
END:STANDARD
BEGIN:DAYLIGHT
TZOFFSETFROM:+0100
TZOFFSETTO:+0200
TZNAME:CEST
DTSTART:20190331T010000
END:DAYLIGHT
BEGIN:STANDARD
TZOFFSETFROM:+0200
TZOFFSETTO:+0100
TZNAME:CET
DTSTART:20191027T010000
END:STANDARD
BEGIN:DAYLIGHT
TZOFFSETFROM:+0100
TZOFFSETTO:+0200
TZNAME:CEST
DTSTART:20200329T010000
END:DAYLIGHT
BEGIN:STANDARD
TZOFFSETFROM:+0200
TZOFFSETTO:+0100
TZNAME:CET
DTSTART:20201025T010000
END:STANDARD
END:VTIMEZONE
BEGIN:VEVENT
DTSTART;TZID=Europe/Stockholm:20190928T100000
DTEND;TZID=Europe/Stockholm:20190929T153000
DTSTAMP:20260422T221206
CREATED:20190805T122444Z
LAST-MODIFIED:20190805T123052Z
UID:6249-1569664800-1569771000@judo.se
SUMMARY:Katakurs med Sensei Lura
DESCRIPTION:﻿kr
URL:https://judo.se/event/katakurs-med-sensei-lura/
LOCATION:Kristianstads Judoklubb\, Björkhemsvägen 7a\, Kristianstad\, 29154\, Sverige
CATEGORIES:Utbildningar
ORGANIZER;CN="Kristianstads Judoklubb":MAILTO:info@kristianstadjudo.se
END:VEVENT
BEGIN:VEVENT
DTSTART;TZID=Europe/Stockholm:20190419T080000
DTEND;TZID=Europe/Stockholm:20190419T170000
DTSTAMP:20260422T221206
CREATED:20190131T105952Z
LAST-MODIFIED:20190131T105952Z
UID:4871-1555660800-1555693200@judo.se
SUMMARY:Långfredagskata i Kristianstad
DESCRIPTION:﻿
URL:https://judo.se/event/langfredagskata-i-kristianstad/
LOCATION:Kristianstads Judoklubb\, Björkhemsvägen 7a\, Kristianstad\, 29154\, Sverige
CATEGORIES:Utbildningar
ORGANIZER;CN="Kristianstads Judoklubb":MAILTO:info@kristianstadjudo.se
END:VEVENT
BEGIN:VEVENT
DTSTART;VALUE=DATE:20171202
DTEND;VALUE=DATE:20171204
DTSTAMP:20260422T221206
CREATED:20170919T100013Z
LAST-MODIFIED:20170919T100116Z
UID:1849-1512172800-1512345599@judo.se
SUMMARY:Katakurs i Nage No Kata & Ju No Kata
DESCRIPTION:
URL:https://judo.se/event/katakurs-i-nage-no-kata-ju-no-kata/
LOCATION:Vilhelmina Judoklubb\, Bondegatan 14\, Vilhelmina\, 91233\, Sverige
CATEGORIES:Utbildningar
END:VEVENT
BEGIN:VEVENT
DTSTART;TZID=Europe/Stockholm:20170923T100000
DTEND;TZID=Europe/Stockholm:20170924T153000
DTSTAMP:20260422T221206
CREATED:20170815T092515Z
LAST-MODIFIED:20170815T092515Z
UID:1498-1506160800-1506267000@judo.se
SUMMARY:Katakurs
DESCRIPTION:Katakurs med Sensei Iura i Kristianstad! Under helgen kommer Sensei Yoshihiko Iura (8 Dan) gå igenom Nage No Kata och Katame No Kata.
URL:https://judo.se/event/katakurs/
LOCATION:Kristianstads Judoklubb\, Björkhemsvägen 7a\, Kristianstad\, 29154\, Sverige
CATEGORIES:Utbildningar
ORGANIZER;CN="Kristianstads Judoklubb":MAILTO:info@kristianstadjudo.se
END:VEVENT
END:VCALENDAR