BEGIN:VCALENDAR
VERSION:2.0
PRODID:-//Svenska Judoförbundet - ECPv6.15.20//NONSGML v1.0//EN
CALSCALE:GREGORIAN
METHOD:PUBLISH
X-ORIGINAL-URL:https://judo.se
X-WR-CALDESC:Händelser för Svenska Judoförbundet
REFRESH-INTERVAL;VALUE=DURATION:PT1H
X-Robots-Tag:noindex
X-PUBLISHED-TTL:PT1H
BEGIN:VTIMEZONE
TZID:Europe/Stockholm
BEGIN:DAYLIGHT
TZOFFSETFROM:+0100
TZOFFSETTO:+0200
TZNAME:CEST
DTSTART:20160327T010000
END:DAYLIGHT
BEGIN:STANDARD
TZOFFSETFROM:+0200
TZOFFSETTO:+0100
TZNAME:CET
DTSTART:20161030T010000
END:STANDARD
BEGIN:DAYLIGHT
TZOFFSETFROM:+0100
TZOFFSETTO:+0200
TZNAME:CEST
DTSTART:20170326T010000
END:DAYLIGHT
BEGIN:STANDARD
TZOFFSETFROM:+0200
TZOFFSETTO:+0100
TZNAME:CET
DTSTART:20171029T010000
END:STANDARD
BEGIN:DAYLIGHT
TZOFFSETFROM:+0100
TZOFFSETTO:+0200
TZNAME:CEST
DTSTART:20180325T010000
END:DAYLIGHT
BEGIN:STANDARD
TZOFFSETFROM:+0200
TZOFFSETTO:+0100
TZNAME:CET
DTSTART:20181028T010000
END:STANDARD
BEGIN:DAYLIGHT
TZOFFSETFROM:+0100
TZOFFSETTO:+0200
TZNAME:CEST
DTSTART:20190331T010000
END:DAYLIGHT
BEGIN:STANDARD
TZOFFSETFROM:+0200
TZOFFSETTO:+0100
TZNAME:CET
DTSTART:20191027T010000
END:STANDARD
BEGIN:DAYLIGHT
TZOFFSETFROM:+0100
TZOFFSETTO:+0200
TZNAME:CEST
DTSTART:20200329T010000
END:DAYLIGHT
BEGIN:STANDARD
TZOFFSETFROM:+0200
TZOFFSETTO:+0100
TZNAME:CET
DTSTART:20201025T010000
END:STANDARD
BEGIN:DAYLIGHT
TZOFFSETFROM:+0100
TZOFFSETTO:+0200
TZNAME:CEST
DTSTART:20210328T010000
END:DAYLIGHT
BEGIN:STANDARD
TZOFFSETFROM:+0200
TZOFFSETTO:+0100
TZNAME:CET
DTSTART:20211031T010000
END:STANDARD
BEGIN:DAYLIGHT
TZOFFSETFROM:+0100
TZOFFSETTO:+0200
TZNAME:CEST
DTSTART:20220327T010000
END:DAYLIGHT
BEGIN:STANDARD
TZOFFSETFROM:+0200
TZOFFSETTO:+0100
TZNAME:CET
DTSTART:20221030T010000
END:STANDARD
BEGIN:DAYLIGHT
TZOFFSETFROM:+0100
TZOFFSETTO:+0200
TZNAME:CEST
DTSTART:20230326T010000
END:DAYLIGHT
BEGIN:STANDARD
TZOFFSETFROM:+0200
TZOFFSETTO:+0100
TZNAME:CET
DTSTART:20231029T010000
END:STANDARD
BEGIN:DAYLIGHT
TZOFFSETFROM:+0100
TZOFFSETTO:+0200
TZNAME:CEST
DTSTART:20240331T010000
END:DAYLIGHT
BEGIN:STANDARD
TZOFFSETFROM:+0200
TZOFFSETTO:+0100
TZNAME:CET
DTSTART:20241027T010000
END:STANDARD
END:VTIMEZONE
BEGIN:VEVENT
DTSTART;TZID=Europe/Stockholm:20230923T100000
DTEND;TZID=Europe/Stockholm:20230924T153000
DTSTAMP:20260422T194809
CREATED:20230815T100434Z
LAST-MODIFIED:20230815T100434Z
UID:14351-1695463200-1695569400@judo.se
SUMMARY:Kataläger med Sensei Iura
DESCRIPTION:﻿
URL:https://judo.se/event/katalager-med-sensei-iura/
LOCATION:Kristianstads Judoklubb\, Björkhemsvägen 7a\, Kristianstad\, 29154\, Sverige
CATEGORIES:Läger,Startsida,Utbildningar
ORGANIZER;CN="Kristianstads Judoklubb":MAILTO:info@kristianstadjudo.se
END:VEVENT
BEGIN:VEVENT
DTSTART;TZID=Europe/Stockholm:20230826T080000
DTEND;TZID=Europe/Stockholm:20230826T170000
DTSTAMP:20260422T194809
CREATED:20220907T082624Z
LAST-MODIFIED:20220907T082624Z
UID:12041-1693036800-1693069200@judo.se
SUMMARY:Kata tävling\, Krisitanstad
DESCRIPTION:Nage No Kata & Katame No kata. \nInbjudan och anmälan läggs upp senast 2 månader innan eventet.
URL:https://judo.se/event/kata-tavling-krisitanstad/
LOCATION:Kristianstads Judoklubb\, Björkhemsvägen 7a\, Kristianstad\, 29154\, Sverige
CATEGORIES:Startsida,Tävlingar
ORGANIZER;CN="Kristianstads Judoklubb":MAILTO:info@kristianstadjudo.se
END:VEVENT
BEGIN:VEVENT
DTSTART;TZID=Europe/Stockholm:20230825T170000
DTEND;TZID=Europe/Stockholm:20230827T160000
DTSTAMP:20260422T194809
CREATED:20230511T145609Z
LAST-MODIFIED:20230522T152814Z
UID:13843-1692982800-1693152000@judo.se
SUMMARY:Nordic Judo Kata Open Tournament\, Kristiansstad
DESCRIPTION:Workshop on Friday\, competition on Saturday\, seminar on Sunday. \n﻿
URL:https://judo.se/event/nordic-judo-kata-open-tournament-kristiansstad/
LOCATION:Kristianstads Judoklubb\, Björkhemsvägen 7a\, Kristianstad\, 29154\, Sverige
CATEGORIES:Läger,Startsida,Tävlingar
ORGANIZER;CN="Kristianstads Judoklubb":MAILTO:info@kristianstadjudo.se
END:VEVENT
BEGIN:VEVENT
DTSTART;TZID=Europe/Stockholm:20230603T100000
DTEND;TZID=Europe/Stockholm:20230604T150000
DTSTAMP:20260422T194809
CREATED:20230119T104902Z
LAST-MODIFIED:20230505T135543Z
UID:12949-1685786400-1685890800@judo.se
SUMMARY:Katakurs\, Kristinehamn
DESCRIPTION:﻿
URL:https://judo.se/event/katakurs-kristinehamn/
LOCATION:Kristinehamns JK\, Fiskartorpsvägen 4\, Kristinehamn\, 681 54
CATEGORIES:Startsida,Utbildningar
END:VEVENT
BEGIN:VEVENT
DTSTART;TZID=Europe/Stockholm:20230407T100000
DTEND;TZID=Europe/Stockholm:20230407T160000
DTSTAMP:20260422T194809
CREATED:20230220T110148Z
LAST-MODIFIED:20230220T110148Z
UID:13269-1680861600-1680883200@judo.se
SUMMARY:Långfredagskata\, Kristiansstad
DESCRIPTION:﻿
URL:https://judo.se/event/langfredagskata-kristiansstad-2/
LOCATION:Kristianstads Judoklubb\, Björkhemsvägen 7a\, Kristianstad\, 29154\, Sverige
CATEGORIES:Utbildningar
ORGANIZER;CN="Kristianstads Judoklubb":MAILTO:info@kristianstadjudo.se
END:VEVENT
BEGIN:VEVENT
DTSTART;TZID=Europe/Stockholm:20230128T080000
DTEND;TZID=Europe/Stockholm:20230128T170000
DTSTAMP:20260422T194809
CREATED:20221214T082853Z
LAST-MODIFIED:20221214T082853Z
UID:12788-1674892800-1674925200@judo.se
SUMMARY:Sydsvenska öppna Kata\, Kristiansstad
DESCRIPTION:Anmälan via Smoothcomp.
URL:https://judo.se/event/sydsvenska-oppna-kata-kristiansstad/
LOCATION:Kristianstads Judoklubb\, Björkhemsvägen 7a\, Kristianstad\, 29154\, Sverige
CATEGORIES:Tävlingar
ORGANIZER;CN="Kristianstads Judoklubb":MAILTO:info@kristianstadjudo.se
END:VEVENT
BEGIN:VEVENT
DTSTART;TZID=Europe/Stockholm:20230128T080000
DTEND;TZID=Europe/Stockholm:20230128T170000
DTSTAMP:20260422T194809
CREATED:20220907T082451Z
LAST-MODIFIED:20220907T082451Z
UID:12039-1674892800-1674925200@judo.se
SUMMARY:Kata tävling\, Kristianstad
DESCRIPTION:Nage No Kata & Katame No kata. \nInbjudan och anmälan läggs upp senast 2 månader innan eventet.
URL:https://judo.se/event/kata-tavling-kristianstad/
LOCATION:Kristianstads Judoklubb\, Björkhemsvägen 7a\, Kristianstad\, 29154\, Sverige
CATEGORIES:Startsida,Tävlingar
ORGANIZER;CN="Kristianstads Judoklubb":MAILTO:info@kristianstadjudo.se
END:VEVENT
BEGIN:VEVENT
DTSTART;TZID=Europe/Stockholm:20221029T100000
DTEND;TZID=Europe/Stockholm:20221030T163000
DTSTAMP:20260422T194809
CREATED:20221013T123950Z
LAST-MODIFIED:20221013T123950Z
UID:12337-1667037600-1667147400@judo.se
SUMMARY:Katakurs me Sensei Iura\, Stockholm
DESCRIPTION:﻿
URL:https://judo.se/event/katakurs-me-sensei-iura-stockholm/
LOCATION:SPIF Judo\, Tellusborgsvägen 22\, Hägersten\, 126 32\, Sverige
CATEGORIES:Läger
ORGANIZER;CN="Stockholms Judof%C3%B6rbund":MAILTO:info@stockholmsjudo.se
END:VEVENT
BEGIN:VEVENT
DTSTART;TZID=Europe/Stockholm:20220917T100000
DTEND;TZID=Europe/Stockholm:20220918T153000
DTSTAMP:20260422T194809
CREATED:20220808T102029Z
LAST-MODIFIED:20220808T102029Z
UID:11811-1663408800-1663515000@judo.se
SUMMARY:Katakurs med Sensei Iura\, Kristianstad
DESCRIPTION:﻿
URL:https://judo.se/event/katakurs-med-sensei-iura-kristianstad/
LOCATION:Kristianstads Judoklubb\, Björkhemsvägen 7a\, Kristianstad\, 29154\, Sverige
CATEGORIES:Startsida,Utbildningar
ORGANIZER;CN="Kristianstads Judoklubb":MAILTO:info@kristianstadjudo.se
END:VEVENT
BEGIN:VEVENT
DTSTART;TZID=Europe/Stockholm:20220827T100000
DTEND;TZID=Europe/Stockholm:20220827T170000
DTSTAMP:20260422T194809
CREATED:20220629T135333Z
LAST-MODIFIED:20220629T135333Z
UID:11751-1661594400-1661619600@judo.se
SUMMARY:Nordic Judo Kata Open Tournament 2022\, Helsingfors
DESCRIPTION:﻿
URL:https://judo.se/event/nordic-judo-kata-open-tournament-2022-helsingfors/
LOCATION:Helsingfors\, Finland\, Helsingfors\, Finland
CATEGORIES:Startsida,Tävlingar
END:VEVENT
BEGIN:VEVENT
DTSTART;TZID=Europe/Stockholm:20220820T100000
DTEND;TZID=Europe/Stockholm:20220821T150000
DTSTAMP:20260422T194809
CREATED:20220520T060000Z
LAST-MODIFIED:20220530T143812Z
UID:11169-1660989600-1661094000@judo.se
SUMMARY:Katadomarkurs\, Kristiansstad
DESCRIPTION:﻿
URL:https://judo.se/event/katadomarkurs-syd/
LOCATION:Kristianstads Judoklubb\, Björkhemsvägen 7a\, Kristianstad\, 29154\, Sverige
CATEGORIES:Startsida,Utbildningar
ORGANIZER;CN="Kristianstads Judoklubb":MAILTO:info@kristianstadjudo.se
END:VEVENT
BEGIN:VEVENT
DTSTART;TZID=Europe/Stockholm:20220415T100000
DTEND;TZID=Europe/Stockholm:20220415T160000
DTSTAMP:20260422T194809
CREATED:20220307T154430Z
LAST-MODIFIED:20220307T154430Z
UID:11130-1650016800-1650038400@judo.se
SUMMARY:Långfredagskata\, Kristiansstad
DESCRIPTION:﻿
URL:https://judo.se/event/langfredagskata-kristiansstad/
LOCATION:Kristianstads Judoklubb\, Björkhemsvägen 7a\, Kristianstad\, 29154\, Sverige
CATEGORIES:Läger
ORGANIZER;CN="Kristianstads Judoklubb":MAILTO:info@kristianstadjudo.se
END:VEVENT
BEGIN:VEVENT
DTSTART;TZID=Europe/Stockholm:20220409T100000
DTEND;TZID=Europe/Stockholm:20220410T153000
DTSTAMP:20260422T194809
CREATED:20220114T082856Z
LAST-MODIFIED:20220114T082856Z
UID:10869-1649498400-1649604600@judo.se
SUMMARY:Katautbildning\, Varberg
DESCRIPTION:﻿
URL:https://judo.se/event/katautbildning-varberg/
LOCATION:Varbergs Judoklubb\, Danska vägen 5\, Varberg\, 432 51\, Sverige
CATEGORIES:Startsida,Utbildningar
ORGANIZER;CN="Varbergs Judoklubb":MAILTO:info@vjk.nu
END:VEVENT
BEGIN:VEVENT
DTSTART;TZID=Europe/Stockholm:20210925T100000
DTEND;TZID=Europe/Stockholm:20210926T163000
DTSTAMP:20260422T194809
CREATED:20210723T060000Z
LAST-MODIFIED:20210826T070456Z
UID:10175-1632564000-1632673800@judo.se
SUMMARY:Katakurs med Sensei Iura
DESCRIPTION:Välkommen på katakurs med Sensei Iura\, Kodokan 8 Dan. \nLördag 25 september – Nage no kata \nSöndag 26 september – Katame no Kata \nMer info och anmälan hittar du på Kristianstads JKs hemsida!
URL:https://judo.se/event/katakurs-med-sensei-iura-2/
LOCATION:Kristianstads Judoklubb\, Björkhemsvägen 7a\, Kristianstad\, 29154\, Sverige
CATEGORIES:Startsida,Utbildningar
ORGANIZER;CN="Kristianstads Judoklubb":MAILTO:info@kristianstadjudo.se
END:VEVENT
BEGIN:VEVENT
DTSTART;TZID=Europe/Stockholm:20210319T090000
DTEND;TZID=Europe/Stockholm:20210320T160000
DTSTAMP:20260422T194809
CREATED:20210310T070000Z
LAST-MODIFIED:20210310T125623Z
UID:9452-1616144400-1616256000@judo.se
SUMMARY:Digital Riksfortbildning 7 Kodokan Kata
DESCRIPTION:﻿
URL:https://judo.se/event/digital-riksfortbildning-7-kodokan-kata/
LOCATION:Digitalt via zoom
CATEGORIES:Startsida,Utbildningar
END:VEVENT
BEGIN:VEVENT
DTSTART;TZID=Europe/Stockholm:20200926T100000
DTEND;TZID=Europe/Stockholm:20200927T160000
DTSTAMP:20260422T194809
CREATED:20191122T104508Z
LAST-MODIFIED:20200819T133543Z
UID:7137-1601114400-1601222400@judo.se
SUMMARY:Katakurs\, Kristianstad
DESCRIPTION:﻿
URL:https://judo.se/event/katakurs-med-sensei-lura-kristianstad/
LOCATION:Kristianstads Judoklubb\, Björkhemsvägen 7a\, Kristianstad\, 29154\, Sverige
CATEGORIES:Utbildningar
ORGANIZER;CN="Kristianstads Judoklubb":MAILTO:info@kristianstadjudo.se
END:VEVENT
BEGIN:VEVENT
DTSTART;TZID=Europe/Stockholm:20200410T090000
DTEND;TZID=Europe/Stockholm:20200410T170000
DTSTAMP:20260422T194809
CREATED:20191122T100852Z
LAST-MODIFIED:20200406T114534Z
UID:7118-1586509200-1586538000@judo.se
SUMMARY:Långfredagskata\, Kristianstad (INSTÄLLT)
DESCRIPTION:﻿
URL:https://judo.se/event/katautbildning/
LOCATION:Kristianstads Judoklubb\, Björkhemsvägen 7a\, Kristianstad\, 29154\, Sverige
CATEGORIES:Utbildningar
ORGANIZER;CN="Kristianstads Judoklubb":MAILTO:info@kristianstadjudo.se
END:VEVENT
BEGIN:VEVENT
DTSTART;TZID=Europe/Stockholm:20191026T100000
DTEND;TZID=Europe/Stockholm:20191027T160000
DTSTAMP:20260422T194809
CREATED:20190805T123014Z
LAST-MODIFIED:20190805T123014Z
UID:6251-1572084000-1572192000@judo.se
SUMMARY:Katakurs i Gävle
DESCRIPTION:﻿
URL:https://judo.se/event/katakurs-i-gavle/
LOCATION:Gävle Judo Club\, Utmarksvägen 33 B\, Gävle\, 80291\, Sverige
CATEGORIES:Utbildningar
ORGANIZER;CN="G%C3%A4vle Judo Club":MAILTO:info@gavlejudo.se
END:VEVENT
BEGIN:VEVENT
DTSTART;TZID=Europe/Stockholm:20190928T100000
DTEND;TZID=Europe/Stockholm:20190929T153000
DTSTAMP:20260422T194809
CREATED:20190805T122444Z
LAST-MODIFIED:20190805T123052Z
UID:6249-1569664800-1569771000@judo.se
SUMMARY:Katakurs med Sensei Lura
DESCRIPTION:﻿kr
URL:https://judo.se/event/katakurs-med-sensei-lura/
LOCATION:Kristianstads Judoklubb\, Björkhemsvägen 7a\, Kristianstad\, 29154\, Sverige
CATEGORIES:Utbildningar
ORGANIZER;CN="Kristianstads Judoklubb":MAILTO:info@kristianstadjudo.se
END:VEVENT
BEGIN:VEVENT
DTSTART;VALUE=DATE:20190825
DTEND;VALUE=DATE:20190826
DTSTAMP:20260422T194809
CREATED:20190115T093238Z
LAST-MODIFIED:20190806T111211Z
UID:4660-1566691200-1566777599@judo.se
SUMMARY:Kataseminarium
DESCRIPTION:﻿
URL:https://judo.se/event/katalager-2/
LOCATION:Kristianstads Judoklubb\, Björkhemsvägen 7a\, Kristianstad\, 29154\, Sverige
CATEGORIES:Läger,Tävlingar
ORGANIZER;CN="Kristianstads Judoklubb":MAILTO:info@kristianstadjudo.se
END:VEVENT
BEGIN:VEVENT
DTSTART;VALUE=DATE:20190824
DTEND;VALUE=DATE:20190825
DTSTAMP:20260422T194809
CREATED:20190115T093041Z
LAST-MODIFIED:20190412T073740Z
UID:4658-1566604800-1566691199@judo.se
SUMMARY:Öppna nordiska katamästerskapet
DESCRIPTION:﻿
URL:https://judo.se/event/oppna-nordiska-katamasterskapet/
LOCATION:Kristianstads Judoklubb\, Björkhemsvägen 7a\, Kristianstad\, 29154\, Sverige
CATEGORIES:Tävlingar
ORGANIZER;CN="Kristianstads Judoklubb":MAILTO:info@kristianstadjudo.se
END:VEVENT
BEGIN:VEVENT
DTSTART;TZID=Europe/Stockholm:20190419T080000
DTEND;TZID=Europe/Stockholm:20190419T170000
DTSTAMP:20260422T194809
CREATED:20190131T105952Z
LAST-MODIFIED:20190131T105952Z
UID:4871-1555660800-1555693200@judo.se
SUMMARY:Långfredagskata i Kristianstad
DESCRIPTION:﻿
URL:https://judo.se/event/langfredagskata-i-kristianstad/
LOCATION:Kristianstads Judoklubb\, Björkhemsvägen 7a\, Kristianstad\, 29154\, Sverige
CATEGORIES:Utbildningar
ORGANIZER;CN="Kristianstads Judoklubb":MAILTO:info@kristianstadjudo.se
END:VEVENT
BEGIN:VEVENT
DTSTART;TZID=Europe/Stockholm:20181020T120000
DTEND;TZID=Europe/Stockholm:20181021T140000
DTSTAMP:20260422T194809
CREATED:20180911T064551Z
LAST-MODIFIED:20180911T064551Z
UID:3896-1540036800-1540130400@judo.se
SUMMARY:Kataseminarium - Koshiki-no-kata med Iura Sensei i Linköping
DESCRIPTION:
URL:https://judo.se/event/kataseminarium-koshiki-no-kata-med-iura-sensei-i-linkoping/
LOCATION:Linköpings Judoklubb\, Nya Tanneforsvägen 13\, Linköping\, 582 42\, Sverige
CATEGORIES:Läger,Utbildningar
ORGANIZER;CN="Link%C3%B6pings JK":MAILTO:info@linkopingjudo.org
END:VEVENT
BEGIN:VEVENT
DTSTART;TZID=Europe/Stockholm:20180922T140000
DTEND;TZID=Europe/Stockholm:20180922T180000
DTSTAMP:20260422T194809
CREATED:20180815T090709Z
LAST-MODIFIED:20180815T090805Z
UID:3720-1537624800-1537639200@judo.se
SUMMARY:Seminarium om kataverksamheten i Sverige
DESCRIPTION:
URL:https://judo.se/event/seminarium-om-kataverksamheten-i-sverige/
LOCATION:Kristianstads Judoklubb\, Björkhemsvägen 7a\, Kristianstad\, 29154\, Sverige
CATEGORIES:Möten och Konferenser
ORGANIZER;CN="Svenska Judof%C3%B6rbundet":MAILTO:info@judo.se
END:VEVENT
BEGIN:VEVENT
DTSTART;TZID=Europe/Stockholm:20180922T100000
DTEND;TZID=Europe/Stockholm:20180923T153000
DTSTAMP:20260422T194809
CREATED:20180815T091124Z
LAST-MODIFIED:20180815T091250Z
UID:3722-1537610400-1537716600@judo.se
SUMMARY:Katakurs med Sensei Iura i Kristianstad
DESCRIPTION:
URL:https://judo.se/event/katakurs-med-sensei-iura-i-kristianstad/
LOCATION:Kristianstads Judoklubb\, Björkhemsvägen 7a\, Kristianstad\, 29154\, Sverige
CATEGORIES:Läger,Utbildningar
ORGANIZER;CN="Kristianstads Judoklubb":MAILTO:info@kristianstadjudo.se
END:VEVENT
BEGIN:VEVENT
DTSTART;VALUE=DATE:20171210
DTEND;VALUE=DATE:20171211
DTSTAMP:20260422T194809
CREATED:20170921T124431Z
LAST-MODIFIED:20170921T124959Z
UID:1886-1512864000-1512950399@judo.se
SUMMARY:Zongradering i Stockholm
DESCRIPTION:Arbetsgruppen för Dan-graderingar och Stockholms Judoklubb bjuder in till Zongradering för 1-2 DAN den 10 december 2017!
URL:https://judo.se/event/zongradering-stockholm/
LOCATION:Stockholms Judoklubb\, Tellusborgsvägen 10\, Stockholm\, 126 32\, Sverige
CATEGORIES:Graderingar
END:VEVENT
BEGIN:VEVENT
DTSTART;VALUE=DATE:20171202
DTEND;VALUE=DATE:20171204
DTSTAMP:20260422T194809
CREATED:20170919T100013Z
LAST-MODIFIED:20170919T100116Z
UID:1849-1512172800-1512345599@judo.se
SUMMARY:Katakurs i Nage No Kata & Ju No Kata
DESCRIPTION:
URL:https://judo.se/event/katakurs-i-nage-no-kata-ju-no-kata/
LOCATION:Vilhelmina Judoklubb\, Bondegatan 14\, Vilhelmina\, 91233\, Sverige
CATEGORIES:Utbildningar
END:VEVENT
BEGIN:VEVENT
DTSTART;VALUE=DATE:20171118
DTEND;VALUE=DATE:20171120
DTSTAMP:20260422T194809
CREATED:20170609T101010Z
LAST-MODIFIED:20171006T081103Z
UID:1134-1510963200-1511135999@judo.se
SUMMARY:Svenska Mästerskap och Riksmästerskap
DESCRIPTION:Svenska Mästerskapen för Lag \nSvenska Mästerskapen i Kata (Länk till TB för Kata) \nRiksmästerskap för Distriktslag \nSärskild excelfil för anmälan hittar du här! \n(Ladda hem och fyll i skickas till info@frovijudo.se senast 12 November)
URL:https://judo.se/event/svenska-masterskap-och-riksmasterskap/
LOCATION:Lindesberg Arena\, Nyborgsgatan 1\, Lindesberg\, Sverige
CATEGORIES:Tävlingar
ORGANIZER;CN="Fr%C3%B6vi Judoklubb":MAILTO:info@frovijudo.se
END:VEVENT
BEGIN:VEVENT
DTSTART;TZID=Europe/Stockholm:20170923T100000
DTEND;TZID=Europe/Stockholm:20170924T153000
DTSTAMP:20260422T194809
CREATED:20170815T092515Z
LAST-MODIFIED:20170815T092515Z
UID:1498-1506160800-1506267000@judo.se
SUMMARY:Katakurs
DESCRIPTION:Katakurs med Sensei Iura i Kristianstad! Under helgen kommer Sensei Yoshihiko Iura (8 Dan) gå igenom Nage No Kata och Katame No Kata.
URL:https://judo.se/event/katakurs/
LOCATION:Kristianstads Judoklubb\, Björkhemsvägen 7a\, Kristianstad\, 29154\, Sverige
CATEGORIES:Utbildningar
ORGANIZER;CN="Kristianstads Judoklubb":MAILTO:info@kristianstadjudo.se
END:VEVENT
END:VCALENDAR