BEGIN:VCALENDAR
VERSION:2.0
PRODID:-//Svenska Judoförbundet - ECPv6.15.20//NONSGML v1.0//EN
CALSCALE:GREGORIAN
METHOD:PUBLISH
X-ORIGINAL-URL:https://judo.se
X-WR-CALDESC:Händelser för Svenska Judoförbundet
REFRESH-INTERVAL;VALUE=DURATION:PT1H
X-Robots-Tag:noindex
X-PUBLISHED-TTL:PT1H
BEGIN:VTIMEZONE
TZID:Europe/Stockholm
BEGIN:DAYLIGHT
TZOFFSETFROM:+0100
TZOFFSETTO:+0200
TZNAME:CEST
DTSTART:20170326T010000
END:DAYLIGHT
BEGIN:STANDARD
TZOFFSETFROM:+0200
TZOFFSETTO:+0100
TZNAME:CET
DTSTART:20171029T010000
END:STANDARD
BEGIN:DAYLIGHT
TZOFFSETFROM:+0100
TZOFFSETTO:+0200
TZNAME:CEST
DTSTART:20180325T010000
END:DAYLIGHT
BEGIN:STANDARD
TZOFFSETFROM:+0200
TZOFFSETTO:+0100
TZNAME:CET
DTSTART:20181028T010000
END:STANDARD
BEGIN:DAYLIGHT
TZOFFSETFROM:+0100
TZOFFSETTO:+0200
TZNAME:CEST
DTSTART:20190331T010000
END:DAYLIGHT
BEGIN:STANDARD
TZOFFSETFROM:+0200
TZOFFSETTO:+0100
TZNAME:CET
DTSTART:20191027T010000
END:STANDARD
BEGIN:DAYLIGHT
TZOFFSETFROM:+0100
TZOFFSETTO:+0200
TZNAME:CEST
DTSTART:20200329T010000
END:DAYLIGHT
BEGIN:STANDARD
TZOFFSETFROM:+0200
TZOFFSETTO:+0100
TZNAME:CET
DTSTART:20201025T010000
END:STANDARD
BEGIN:DAYLIGHT
TZOFFSETFROM:+0100
TZOFFSETTO:+0200
TZNAME:CEST
DTSTART:20210328T010000
END:DAYLIGHT
BEGIN:STANDARD
TZOFFSETFROM:+0200
TZOFFSETTO:+0100
TZNAME:CET
DTSTART:20211031T010000
END:STANDARD
BEGIN:DAYLIGHT
TZOFFSETFROM:+0100
TZOFFSETTO:+0200
TZNAME:CEST
DTSTART:20220327T010000
END:DAYLIGHT
BEGIN:STANDARD
TZOFFSETFROM:+0200
TZOFFSETTO:+0100
TZNAME:CET
DTSTART:20221030T010000
END:STANDARD
END:VTIMEZONE
BEGIN:VEVENT
DTSTART;TZID=Europe/Stockholm:20210213T090000
DTEND;TZID=Europe/Stockholm:20210214T160000
DTSTAMP:20260423T024319
CREATED:20210213T070000Z
LAST-MODIFIED:20210203T094810Z
UID:8824-1613206800-1613318400@judo.se
SUMMARY:Judo4Balance-instruktörsutbildning\, Kallinge (INSTÄLLD)
DESCRIPTION:Mer info kommer senast 2 månader innan!
URL:https://judo.se/event/judo4balance-instruktorsutbildning-kallinge/
LOCATION:Ronneby Sporthall\, Blasius Köningsgatan 27\, Ronneby\, 37235
CATEGORIES:Utbildningar
ORGANIZER;CN="Kallinge Judoklubb":MAILTO:kallingejudoclub@outlook.com
END:VEVENT
BEGIN:VEVENT
DTSTART;TZID=Europe/Stockholm:20201205T080000
DTEND;TZID=Europe/Stockholm:20201206T140000
DTSTAMP:20260423T024319
CREATED:20201124T060000Z
LAST-MODIFIED:20201125T115052Z
UID:8794-1607155200-1607263200@judo.se
SUMMARY:Digital Judo4Balance-instruktörsutbildning
DESCRIPTION:﻿
URL:https://judo.se/event/digital-judo4balance-instruktorsutbildning-2/
LOCATION:Digitalt via zoom
CATEGORIES:Startsida,Utbildningar
ORGANIZER;CN="Svenska Judof%C3%B6rbundet":MAILTO:info@judo.se
END:VEVENT
BEGIN:VEVENT
DTSTART;TZID=Europe/Stockholm:20201114T080000
DTEND;TZID=Europe/Stockholm:20201115T160000
DTSTAMP:20260423T024319
CREATED:20201020T133213Z
LAST-MODIFIED:20201020T133213Z
UID:8701-1605340800-1605456000@judo.se
SUMMARY:Digital Judo4Balance instruktörsutbildning
DESCRIPTION:﻿
URL:https://judo.se/event/digital-judo4balance-instruktorsutbildning/
LOCATION:Digitalt via zoom
CATEGORIES:Startsida,Utbildningar
ORGANIZER;CN="Svenska Judof%C3%B6rbundet":MAILTO:info@judo.se
END:VEVENT
BEGIN:VEVENT
DTSTART;TZID=Europe/Stockholm:20200509T080000
DTEND;TZID=Europe/Stockholm:20200510T140000
DTSTAMP:20260423T024319
CREATED:20191122T104234Z
LAST-MODIFIED:20200331T105928Z
UID:7132-1589011200-1589119200@judo.se
SUMMARY:Judo4Balance instruktörsutbildning\, Kristianstad (INSTÄLLD)
DESCRIPTION:Inställd kurs på grund av spridningen av COVID-19. \n﻿
URL:https://judo.se/event/judo4balance-instruktorsutbildning-kristiansstad/
LOCATION:Kristianstads Judoklubb\, Björkhemsvägen 7a\, Kristianstad\, 29154\, Sverige
CATEGORIES:Startsida,Utbildningar
ORGANIZER;CN="Kristianstads Judoklubb":MAILTO:info@kristianstadjudo.se
END:VEVENT
BEGIN:VEVENT
DTSTART;VALUE=DATE:20200328
DTEND;VALUE=DATE:20200330
DTSTAMP:20260423T024319
CREATED:20191122T101308Z
LAST-MODIFIED:20220908T114727Z
UID:7121-1585353600-1585526399@judo.se
SUMMARY:Judo4Balance instruktörsutbildning\, Umeå (INSTÄLLT)
DESCRIPTION:Inställd med anledning av risk för smittspridning av Covid-19.
URL:https://judo.se/event/judo4balance-instruktorsutbildning-umea/
LOCATION:IKSU Sport\, Sportgränd 7\, Umeå\, Sverige
CATEGORIES:Startsida,Utbildningar
ORGANIZER;CN="IKSU Kampsport - Judo":MAILTO:info@iksukampsport.se
END:VEVENT
BEGIN:VEVENT
DTSTART;TZID=Europe/Stockholm:20200216T090000
DTEND;TZID=Europe/Stockholm:20200216T170000
DTSTAMP:20260423T024319
CREATED:20191213T094916Z
LAST-MODIFIED:20200113T102646Z
UID:7262-1581843600-1581872400@judo.se
SUMMARY:Judo4Balance Riksfortbildning\, Göteborg
DESCRIPTION:
URL:https://judo.se/event/judo4balance-riksfortbildning-goteborg/
LOCATION:Göteborg
CATEGORIES:Startsida,Utbildningar
ORGANIZER;CN="Svenska Judof%C3%B6rbundet":MAILTO:info@judo.se
END:VEVENT
BEGIN:VEVENT
DTSTART;TZID=Europe/Stockholm:20200215T090000
DTEND;TZID=Europe/Stockholm:20200215T170000
DTSTAMP:20260423T024319
CREATED:20191122T100437Z
LAST-MODIFIED:20200113T102515Z
UID:7114-1581757200-1581786000@judo.se
SUMMARY:Judo4Balance Riksfortbildning\, Stockholm
DESCRIPTION:﻿
URL:https://judo.se/event/judo4balance-riksfortbildning/
LOCATION:Stockholm\, Stockholm\, Sverige
CATEGORIES:Startsida,Utbildningar
ORGANIZER;CN="Svenska Judof%C3%B6rbundet":MAILTO:info@judo.se
END:VEVENT
BEGIN:VEVENT
DTSTART;TZID=Europe/Stockholm:20190907T080000
DTEND;TZID=Europe/Stockholm:20190908T140000
DTSTAMP:20260423T024319
CREATED:20190704T072429Z
LAST-MODIFIED:20190823T173830Z
UID:6170-1567843200-1567951200@judo.se
SUMMARY:Judo4Balance instruktörsutbildning Karlstad
DESCRIPTION:
URL:https://judo.se/event/judo4balance-instruktorsutbildning-karlstad/
LOCATION:Karlstad JK\, Orrholmsgatan 4\, Karlstad\, 652 15
CATEGORIES:Startsida,Utbildningar
END:VEVENT
BEGIN:VEVENT
DTSTART;TZID=Europe/Stockholm:20190518T080000
DTEND;TZID=Europe/Stockholm:20190519T140000
DTSTAMP:20260423T024319
CREATED:20190326T150758Z
LAST-MODIFIED:20190326T150758Z
UID:5300-1558166400-1558274400@judo.se
SUMMARY:Judo4Balance instruktörsutbildning Stockholm
DESCRIPTION:﻿
URL:https://judo.se/event/judo4balance-instruktorsutbildning-stockholm/
LOCATION:Stockholm Judo Dojo\, Birkagatan 24\, Stockholm\, 113 39\, Sverige
CATEGORIES:Utbildningar
END:VEVENT
BEGIN:VEVENT
DTSTART;TZID=Europe/Stockholm:20190309T090000
DTEND;TZID=Europe/Stockholm:20190310T140000
DTSTAMP:20260423T024319
CREATED:20190129T095311Z
LAST-MODIFIED:20190206T102309Z
UID:4813-1552122000-1552226400@judo.se
SUMMARY:Judo4Balance-instruktörsutbildning\, Kristianstad
DESCRIPTION:﻿
URL:https://judo.se/event/judo-4-balance-instruktorsutbildning-kristianstad/
LOCATION:Kristianstads Judoklubb\, Björkhemsvägen 7a\, Kristianstad\, 29154\, Sverige
CATEGORIES:Utbildningar
ORGANIZER;CN="Kristianstads Judoklubb":MAILTO:info@kristianstadjudo.se
END:VEVENT
BEGIN:VEVENT
DTSTART;TZID=Europe/Stockholm:20190309T080000
DTEND;TZID=Europe/Stockholm:20190310T140000
DTSTAMP:20260423T024319
CREATED:20190125T103810Z
LAST-MODIFIED:20190206T102403Z
UID:4789-1552118400-1552226400@judo.se
SUMMARY:Judo4Balance-instruktörsutbildning\, Mölndal
DESCRIPTION:﻿
URL:https://judo.se/event/judo-4-balance-instruktorsutbildning-molndal/
LOCATION:IKVM\, Pinnharvsgatan 11\, Mölndal\, Sverige
CATEGORIES:Utbildningar
ORGANIZER;CN="IKVM":MAILTO:malin.nordin@judo.se
END:VEVENT
BEGIN:VEVENT
DTSTART;TZID=Europe/Stockholm:20180915T083000
DTEND;TZID=Europe/Stockholm:20180916T140000
DTSTAMP:20260423T024319
CREATED:20180627T113036Z
LAST-MODIFIED:20180821T140151Z
UID:3548-1537000200-1537106400@judo.se
SUMMARY:Judo 4 Balance instruktörskurs i Kristianstad
DESCRIPTION:
URL:https://judo.se/event/judo-4-balance-instruktorskurs/
LOCATION:Kristianstads Judoklubb\, Björkhemsvägen 7a\, Kristianstad\, 29154\, Sverige
CATEGORIES:Utbildningar
ORGANIZER;CN="Svenska Judof%C3%B6rbundet":MAILTO:info@judo.se
END:VEVENT
END:VCALENDAR