BEGIN:VCALENDAR
VERSION:2.0
PRODID:-//Svenska Judoförbundet - ECPv6.15.20//NONSGML v1.0//EN
CALSCALE:GREGORIAN
METHOD:PUBLISH
X-WR-CALNAME:Svenska Judoförbundet
X-ORIGINAL-URL:https://judo.se
X-WR-CALDESC:Händelser för Svenska Judoförbundet
REFRESH-INTERVAL;VALUE=DURATION:PT1H
X-Robots-Tag:noindex
X-PUBLISHED-TTL:PT1H
BEGIN:VTIMEZONE
TZID:Europe/Stockholm
BEGIN:DAYLIGHT
TZOFFSETFROM:+0100
TZOFFSETTO:+0200
TZNAME:CEST
DTSTART:20160327T010000
END:DAYLIGHT
BEGIN:STANDARD
TZOFFSETFROM:+0200
TZOFFSETTO:+0100
TZNAME:CET
DTSTART:20161030T010000
END:STANDARD
BEGIN:DAYLIGHT
TZOFFSETFROM:+0100
TZOFFSETTO:+0200
TZNAME:CEST
DTSTART:20170326T010000
END:DAYLIGHT
BEGIN:STANDARD
TZOFFSETFROM:+0200
TZOFFSETTO:+0100
TZNAME:CET
DTSTART:20171029T010000
END:STANDARD
BEGIN:DAYLIGHT
TZOFFSETFROM:+0100
TZOFFSETTO:+0200
TZNAME:CEST
DTSTART:20180325T010000
END:DAYLIGHT
BEGIN:STANDARD
TZOFFSETFROM:+0200
TZOFFSETTO:+0100
TZNAME:CET
DTSTART:20181028T010000
END:STANDARD
BEGIN:DAYLIGHT
TZOFFSETFROM:+0100
TZOFFSETTO:+0200
TZNAME:CEST
DTSTART:20190331T010000
END:DAYLIGHT
BEGIN:STANDARD
TZOFFSETFROM:+0200
TZOFFSETTO:+0100
TZNAME:CET
DTSTART:20191027T010000
END:STANDARD
END:VTIMEZONE
BEGIN:VEVENT
DTSTART;TZID=Europe/Stockholm:20181027T083000
DTEND;TZID=Europe/Stockholm:20181028T143000
DTSTAMP:20260420T030144
CREATED:20180912T064139Z
LAST-MODIFIED:20180912T064139Z
UID:3906-1540629000-1540737000@judo.se
SUMMARY:Judo 4 Balance instruktörskurs i Köping
DESCRIPTION:
URL:https://judo.se/event/judo-4-balance-instruktorskurs-i-koping/
LOCATION:Hotel Scheele\, Köping\, Hultgrensgatan 10\, Köping\, 73150
CATEGORIES:Utbildningar
ORGANIZER;CN="Svenska Judof%C3%B6rbundet":MAILTO:info@judo.se
END:VEVENT
BEGIN:VEVENT
DTSTART;TZID=Europe/Stockholm:20180915T083000
DTEND;TZID=Europe/Stockholm:20180916T140000
DTSTAMP:20260420T030144
CREATED:20180627T113036Z
LAST-MODIFIED:20180821T140151Z
UID:3548-1537000200-1537106400@judo.se
SUMMARY:Judo 4 Balance instruktörskurs i Kristianstad
DESCRIPTION:
URL:https://judo.se/event/judo-4-balance-instruktorskurs/
LOCATION:Kristianstads Judoklubb\, Björkhemsvägen 7a\, Kristianstad\, 29154\, Sverige
CATEGORIES:Utbildningar
ORGANIZER;CN="Svenska Judof%C3%B6rbundet":MAILTO:info@judo.se
END:VEVENT
BEGIN:VEVENT
DTSTART;VALUE=DATE:20180901
DTEND;VALUE=DATE:20180903
DTSTAMP:20260420T030144
CREATED:20180523T071222Z
LAST-MODIFIED:20180523T071222Z
UID:3322-1535760000-1535932799@judo.se
SUMMARY:Riksfortbildning Judo4Life - Vuxna och Äldre samt Senior Power
DESCRIPTION:﻿
URL:https://judo.se/event/riksfortbildning-judo4life-vuxna-och-aldre-samt-senior-power/
LOCATION:Lindesberg Arena\, Nyborgsgatan 1\, Lindesberg\, Sverige
CATEGORIES:Utbildningar
ORGANIZER;CN="Judo4Life":MAILTO:karin.baathe@judo.se
END:VEVENT
BEGIN:VEVENT
DTSTART;VALUE=DATE:20180428
DTEND;VALUE=DATE:20180430
DTSTAMP:20260420T030144
CREATED:20170919T132512Z
LAST-MODIFIED:20171214T091003Z
UID:1863-1524873600-1525046399@judo.se
SUMMARY:Pilotutbildning av metodikhandledare i falltrygghet (2:a kurstillfället)
DESCRIPTION:Detta är en preliminär inbjudan till pilotutbildningen av metodikhandledare i falltrygghet. En mer detaljerad inbjudan kommer närmare inpå utbildningen! \nOBS! I inbjudan nedan står det 21-22 april. Rätt datum är 28-29 april! \n﻿
URL:https://judo.se/event/pilotutbildning-av-metodikhandledare-i-falltrygghet-2a-kurstillfallet/
CATEGORIES:Utbildningar
END:VEVENT
BEGIN:VEVENT
DTSTART;VALUE=DATE:20180203
DTEND;VALUE=DATE:20180205
DTSTAMP:20260420T030144
CREATED:20170919T132334Z
LAST-MODIFIED:20171215T131156Z
UID:1861-1517616000-1517788799@judo.se
SUMMARY:Pilotutbildning av metodikhandledare i falltrygghet
DESCRIPTION:Detta är en preliminär inbjudan till pilotutbildningen av metodikhandledare i falltrygghet. En mer detaljerad inbjudan kommer närmare inpå utbildningen! \nOBS! I inbjudan nedan står det att andra kurstillfället är den 21-22/4\, den har dock flyttats fram till den 28-29/4. \n﻿
URL:https://judo.se/event/pilotutbildning-av-metodikhandledare-i-falltrygghet/
CATEGORIES:Utbildningar
END:VEVENT
BEGIN:VEVENT
DTSTART;TZID=Europe/Stockholm:20170922T173000
DTEND;TZID=Europe/Stockholm:20170923T160000
DTSTAMP:20260420T030144
CREATED:20170919T124519Z
LAST-MODIFIED:20170919T124519Z
UID:1859-1506101400-1506182400@judo.se
SUMMARY:Introduktionskurs till falltrygghet
DESCRIPTION:
URL:https://judo.se/event/introduktionskurs-till-falltrygghet/
CATEGORIES:Utbildningar
END:VEVENT
END:VCALENDAR