BEGIN:VCALENDAR
VERSION:2.0
PRODID:-//Svenska Judoförbundet - ECPv6.15.20//NONSGML v1.0//EN
CALSCALE:GREGORIAN
METHOD:PUBLISH
X-WR-CALNAME:Svenska Judoförbundet
X-ORIGINAL-URL:https://judo.se
X-WR-CALDESC:Händelser för Svenska Judoförbundet
REFRESH-INTERVAL;VALUE=DURATION:PT1H
X-Robots-Tag:noindex
X-PUBLISHED-TTL:PT1H
BEGIN:VTIMEZONE
TZID:Europe/Stockholm
BEGIN:DAYLIGHT
TZOFFSETFROM:+0100
TZOFFSETTO:+0200
TZNAME:CEST
DTSTART:20170326T010000
END:DAYLIGHT
BEGIN:STANDARD
TZOFFSETFROM:+0200
TZOFFSETTO:+0100
TZNAME:CET
DTSTART:20171029T010000
END:STANDARD
BEGIN:DAYLIGHT
TZOFFSETFROM:+0100
TZOFFSETTO:+0200
TZNAME:CEST
DTSTART:20180325T010000
END:DAYLIGHT
BEGIN:STANDARD
TZOFFSETFROM:+0200
TZOFFSETTO:+0100
TZNAME:CET
DTSTART:20181028T010000
END:STANDARD
BEGIN:DAYLIGHT
TZOFFSETFROM:+0100
TZOFFSETTO:+0200
TZNAME:CEST
DTSTART:20190331T010000
END:DAYLIGHT
BEGIN:STANDARD
TZOFFSETFROM:+0200
TZOFFSETTO:+0100
TZNAME:CET
DTSTART:20191027T010000
END:STANDARD
BEGIN:DAYLIGHT
TZOFFSETFROM:+0100
TZOFFSETTO:+0200
TZNAME:CEST
DTSTART:20200329T010000
END:DAYLIGHT
BEGIN:STANDARD
TZOFFSETFROM:+0200
TZOFFSETTO:+0100
TZNAME:CET
DTSTART:20201025T010000
END:STANDARD
BEGIN:DAYLIGHT
TZOFFSETFROM:+0100
TZOFFSETTO:+0200
TZNAME:CEST
DTSTART:20210328T010000
END:DAYLIGHT
BEGIN:STANDARD
TZOFFSETFROM:+0200
TZOFFSETTO:+0100
TZNAME:CET
DTSTART:20211031T010000
END:STANDARD
BEGIN:DAYLIGHT
TZOFFSETFROM:+0100
TZOFFSETTO:+0200
TZNAME:CEST
DTSTART:20220327T010000
END:DAYLIGHT
BEGIN:STANDARD
TZOFFSETFROM:+0200
TZOFFSETTO:+0100
TZNAME:CET
DTSTART:20221030T010000
END:STANDARD
BEGIN:DAYLIGHT
TZOFFSETFROM:+0100
TZOFFSETTO:+0200
TZNAME:CEST
DTSTART:20230326T010000
END:DAYLIGHT
BEGIN:STANDARD
TZOFFSETFROM:+0200
TZOFFSETTO:+0100
TZNAME:CET
DTSTART:20231029T010000
END:STANDARD
BEGIN:DAYLIGHT
TZOFFSETFROM:+0100
TZOFFSETTO:+0200
TZNAME:CEST
DTSTART:20240331T010000
END:DAYLIGHT
BEGIN:STANDARD
TZOFFSETFROM:+0200
TZOFFSETTO:+0100
TZNAME:CET
DTSTART:20241027T010000
END:STANDARD
END:VTIMEZONE
BEGIN:VEVENT
DTSTART;TZID=Europe/Stockholm:20230507T100000
DTEND;TZID=Europe/Stockholm:20230507T180000
DTSTAMP:20260423T035303
CREATED:20230419T082140Z
LAST-MODIFIED:20230419T082140Z
UID:13652-1683453600-1683482400@judo.se
SUMMARY:Regelkurs\, Knivsta
DESCRIPTION:﻿
URL:https://judo.se/event/regelkurs-knivsta/
LOCATION:Knivsta Centrum för Idrott och Kultur\, Parkvägen 31 A\, Knivsta\, 74140\, Sverige
CATEGORIES:Startsida,Utbildningar
END:VEVENT
BEGIN:VEVENT
DTSTART;TZID=Europe/Stockholm:20220122T083000
DTEND;TZID=Europe/Stockholm:20220122T180000
DTSTAMP:20260423T035303
CREATED:20220101T060000Z
LAST-MODIFIED:20220111T082709Z
UID:10602-1642840200-1642874400@judo.se
SUMMARY:Regelkurs och Fortbildning\, Täby
DESCRIPTION:﻿
URL:https://judo.se/event/regelkurs-3/
LOCATION:Tibblehallen\, Attundavägen 5-7\, Täby\, 183 34\, Sverige
CATEGORIES:Startsida,Utbildningar
ORGANIZER;CN="Domarutskottet":MAILTO:du@judo.se
END:VEVENT
BEGIN:VEVENT
DTSTART;TZID=Europe/Stockholm:20220115T090000
DTEND;TZID=Europe/Stockholm:20220116T160000
DTSTAMP:20260423T035303
CREATED:20211203T130546Z
LAST-MODIFIED:20211203T130546Z
UID:10600-1642237200-1642348800@judo.se
SUMMARY:Regelkurs/D-domarkurs\, Borlänge
DESCRIPTION:
URL:https://judo.se/event/regelkurs-d-domarkurs-borlange/
LOCATION:Borlänge Judo Club\, Teknikergatan 1\, Borlänge\, 78170\, Sverige
CATEGORIES:Utbildningar
ORGANIZER;CN="Borl%C3%A4nge Judo Club":MAILTO:info@borlangejudo.se
END:VEVENT
BEGIN:VEVENT
DTSTART;VALUE=DATE:20191130
DTEND;VALUE=DATE:20191201
DTSTAMP:20260423T035303
CREATED:20190924T100254Z
LAST-MODIFIED:20191029T094819Z
UID:6737-1575072000-1575158399@judo.se
SUMMARY:Regelkurs i Kristianstad
DESCRIPTION:
URL:https://judo.se/event/regelkurs-i-kristianstad/
LOCATION:Kristianstads Judoklubb\, Björkhemsvägen 7a\, Kristianstad\, 29154\, Sverige
CATEGORIES:Startsida,Utbildningar
END:VEVENT
BEGIN:VEVENT
DTSTART;VALUE=DATE:20191124
DTEND;VALUE=DATE:20191125
DTSTAMP:20260423T035303
CREATED:20191029T084747Z
LAST-MODIFIED:20191029T094907Z
UID:6942-1574553600-1574639999@judo.se
SUMMARY:Regelkurs i Frölunda
DESCRIPTION:
URL:https://judo.se/event/regelkurs-i-frolunda-2/
LOCATION:Frölunda Judoklubb\, Klubbvägen 8\, Västra Frölunda\, 421 47\, Sverige
CATEGORIES:Startsida,Utbildningar
END:VEVENT
BEGIN:VEVENT
DTSTART;TZID=Europe/Stockholm:20190824T130000
DTEND;TZID=Europe/Stockholm:20190825T130000
DTSTAMP:20260423T035303
CREATED:20190315T084716Z
LAST-MODIFIED:20190315T084716Z
UID:5212-1566651600-1566738000@judo.se
SUMMARY:Domarutskottets seminarium för domare och tränare
DESCRIPTION:
URL:https://judo.se/event/domarutskottets-seminarium-for-domare-och-tranare/
CATEGORIES:Utbildningar
ORGANIZER;CN="Domarutskottet":MAILTO:du@judo.se
END:VEVENT
BEGIN:VEVENT
DTSTART;TZID=Europe/Stockholm:20190531T083000
DTEND;TZID=Europe/Stockholm:20190531T180000
DTSTAMP:20260423T035303
CREATED:20190315T085002Z
LAST-MODIFIED:20190315T085002Z
UID:5214-1559291400-1559325600@judo.se
SUMMARY:Regelkurs i Lund
DESCRIPTION:
URL:https://judo.se/event/regelkurs-i-lund-2/
CATEGORIES:Utbildningar
ORGANIZER;CN="Domarutskottet":MAILTO:du@judo.se
END:VEVENT
BEGIN:VEVENT
DTSTART;TZID=Europe/Stockholm:20190127T150000
DTEND;TZID=Europe/Stockholm:20190127T180000
DTSTAMP:20260423T035303
CREATED:20181219T200002Z
LAST-MODIFIED:20181219T200038Z
UID:4546-1548601200-1548612000@judo.se
SUMMARY:Zonfortbildning i Frölunda
DESCRIPTION:
URL:https://judo.se/event/zonfortbildning-i-vastra-frolunda/
LOCATION:Frölunda Judoklubb\, Klubbvägen 8\, Västra Frölunda\, 421 47\, Sverige
CATEGORIES:Utbildningar
ORGANIZER;CN="Domarutskottet":MAILTO:du@judo.se
END:VEVENT
BEGIN:VEVENT
DTSTART;TZID=Europe/Stockholm:20190127T083000
DTEND;TZID=Europe/Stockholm:20190127T180000
DTSTAMP:20260423T035303
CREATED:20181219T161019Z
LAST-MODIFIED:20181219T161019Z
UID:4544-1548577800-1548612000@judo.se
SUMMARY:Regelkurs i Frölunda
DESCRIPTION:
URL:https://judo.se/event/regelkurs-i-frolunda/
LOCATION:Frölunda Judoklubb\, Klubbvägen 8\, Västra Frölunda\, 421 47\, Sverige
CATEGORIES:Utbildningar
ORGANIZER;CN="Domarutskottet":MAILTO:du@judo.se
END:VEVENT
BEGIN:VEVENT
DTSTART;TZID=Europe/Stockholm:20181104T083000
DTEND;TZID=Europe/Stockholm:20181104T180000
DTSTAMP:20260423T035303
CREATED:20181022T060222Z
LAST-MODIFIED:20181022T060222Z
UID:4068-1541320200-1541354400@judo.se
SUMMARY:Regelkurs i Stenungsund
DESCRIPTION:
URL:https://judo.se/event/regelkurs-i-stenungsund/
LOCATION:Sundahallen\, Nösnäsvägen 2\, Stenungsund\, 44445\, Sverige
CATEGORIES:Utbildningar
ORGANIZER;CN="Domarutskottet":MAILTO:du@judo.se
END:VEVENT
END:VCALENDAR