BEGIN:VCALENDAR
VERSION:2.0
PRODID:-//Svenska Judoförbundet - ECPv6.15.20//NONSGML v1.0//EN
CALSCALE:GREGORIAN
METHOD:PUBLISH
X-WR-CALNAME:Svenska Judoförbundet
X-ORIGINAL-URL:https://judo.se
X-WR-CALDESC:Händelser för Svenska Judoförbundet
REFRESH-INTERVAL;VALUE=DURATION:PT1H
X-Robots-Tag:noindex
X-PUBLISHED-TTL:PT1H
BEGIN:VTIMEZONE
TZID:Europe/Stockholm
BEGIN:DAYLIGHT
TZOFFSETFROM:+0100
TZOFFSETTO:+0200
TZNAME:CEST
DTSTART:20240331T010000
END:DAYLIGHT
BEGIN:STANDARD
TZOFFSETFROM:+0200
TZOFFSETTO:+0100
TZNAME:CET
DTSTART:20241027T010000
END:STANDARD
BEGIN:DAYLIGHT
TZOFFSETFROM:+0100
TZOFFSETTO:+0200
TZNAME:CEST
DTSTART:20250330T010000
END:DAYLIGHT
BEGIN:STANDARD
TZOFFSETFROM:+0200
TZOFFSETTO:+0100
TZNAME:CET
DTSTART:20251026T010000
END:STANDARD
BEGIN:DAYLIGHT
TZOFFSETFROM:+0100
TZOFFSETTO:+0200
TZNAME:CEST
DTSTART:20260329T010000
END:DAYLIGHT
BEGIN:STANDARD
TZOFFSETFROM:+0200
TZOFFSETTO:+0100
TZNAME:CET
DTSTART:20261025T010000
END:STANDARD
END:VTIMEZONE
BEGIN:VEVENT
DTSTART;VALUE=DATE:20251213
DTEND;VALUE=DATE:20251214
DTSTAMP:20260423T105327
CREATED:20250926T083743Z
LAST-MODIFIED:20251113T082509Z
UID:17982-1765584000-1765670399@judo.se
SUMMARY:Riksgradering SPIF
DESCRIPTION:Se inbjudan här. \nAnmäl görs via denna länk
URL:https://judo.se/event/riksgradering-spif-2/
LOCATION:SPIF Judo\, Tellusborgsvägen 22\, Hägersten\, 126 32\, Sverige
CATEGORIES:Graderingar,Startsida
END:VEVENT
BEGIN:VEVENT
DTSTART;VALUE=DATE:20251214
DTEND;VALUE=DATE:20251215
DTSTAMP:20260423T105327
CREATED:20251013T121150Z
LAST-MODIFIED:20251013T121157Z
UID:18671-1765670400-1765756799@judo.se
SUMMARY:Riksgradering Uddevalla
DESCRIPTION:Info hittar du här  \nAnmäl görs via denna länk.
URL:https://judo.se/event/riksgradering-uddevalla/
LOCATION:Uddevalla Judoklubb\, Edingsvägen 81\, UDDEVALLA\, 45152
CATEGORIES:Graderingar,Startsida
END:VEVENT
END:VCALENDAR