BEGIN:VCALENDAR
VERSION:2.0
PRODID:-//Svenska Judoförbundet - ECPv6.15.20//NONSGML v1.0//EN
CALSCALE:GREGORIAN
METHOD:PUBLISH
X-ORIGINAL-URL:https://judo.se
X-WR-CALDESC:Händelser för Svenska Judoförbundet
REFRESH-INTERVAL;VALUE=DURATION:PT1H
X-Robots-Tag:noindex
X-PUBLISHED-TTL:PT1H
BEGIN:VTIMEZONE
TZID:Europe/Stockholm
BEGIN:DAYLIGHT
TZOFFSETFROM:+0100
TZOFFSETTO:+0200
TZNAME:CEST
DTSTART:20240331T010000
END:DAYLIGHT
BEGIN:STANDARD
TZOFFSETFROM:+0200
TZOFFSETTO:+0100
TZNAME:CET
DTSTART:20241027T010000
END:STANDARD
BEGIN:DAYLIGHT
TZOFFSETFROM:+0100
TZOFFSETTO:+0200
TZNAME:CEST
DTSTART:20250330T010000
END:DAYLIGHT
BEGIN:STANDARD
TZOFFSETFROM:+0200
TZOFFSETTO:+0100
TZNAME:CET
DTSTART:20251026T010000
END:STANDARD
BEGIN:DAYLIGHT
TZOFFSETFROM:+0100
TZOFFSETTO:+0200
TZNAME:CEST
DTSTART:20260329T010000
END:DAYLIGHT
BEGIN:STANDARD
TZOFFSETFROM:+0200
TZOFFSETTO:+0100
TZNAME:CET
DTSTART:20261025T010000
END:STANDARD
END:VTIMEZONE
BEGIN:VEVENT
DTSTART;VALUE=DATE:20251115
DTEND;VALUE=DATE:20251116
DTSTAMP:20260425T121711
CREATED:20250526T062529Z
LAST-MODIFIED:20250917T112110Z
UID:18154-1763164800-1763251199@judo.se
SUMMARY:Riksgradering\, Vilhelmina 2025
DESCRIPTION:Se info här \nAnsökningsblankett – dangrader
URL:https://judo.se/event/riksgradering-vilhelmina-2025/
LOCATION:Vilhelmina Judoklubb\, Bondegatan 14\, Vilhelmina\, 91233\, Sverige
CATEGORIES:Graderingar,Startsida
END:VEVENT
BEGIN:VEVENT
DTSTART;TZID=Europe/Stockholm:20251129T100000
DTEND;TZID=Europe/Stockholm:20251129T170000
DTSTAMP:20260425T121711
CREATED:20251014T080734Z
LAST-MODIFIED:20251014T081040Z
UID:18676-1764410400-1764435600@judo.se
SUMMARY:Zongradering\, Skurup
DESCRIPTION:Info och inbjudan hittar du här. \n 
URL:https://judo.se/event/zongradering-skurup-4/
LOCATION:Skurup Sparbanks Arena\,\, Vaktgatan\, Skurup\, 274 34\, Sverige
CATEGORIES:Graderingar,Startsida
END:VEVENT
END:VCALENDAR