BEGIN:VCALENDAR
VERSION:2.0
PRODID:-//Svenska Judoförbundet - ECPv6.15.20//NONSGML v1.0//EN
CALSCALE:GREGORIAN
METHOD:PUBLISH
X-ORIGINAL-URL:https://judo.se
X-WR-CALDESC:Händelser för Svenska Judoförbundet
REFRESH-INTERVAL;VALUE=DURATION:PT1H
X-Robots-Tag:noindex
X-PUBLISHED-TTL:PT1H
BEGIN:VTIMEZONE
TZID:Europe/Stockholm
BEGIN:DAYLIGHT
TZOFFSETFROM:+0100
TZOFFSETTO:+0200
TZNAME:CEST
DTSTART:20240331T010000
END:DAYLIGHT
BEGIN:STANDARD
TZOFFSETFROM:+0200
TZOFFSETTO:+0100
TZNAME:CET
DTSTART:20241027T010000
END:STANDARD
BEGIN:DAYLIGHT
TZOFFSETFROM:+0100
TZOFFSETTO:+0200
TZNAME:CEST
DTSTART:20250330T010000
END:DAYLIGHT
BEGIN:STANDARD
TZOFFSETFROM:+0200
TZOFFSETTO:+0100
TZNAME:CET
DTSTART:20251026T010000
END:STANDARD
BEGIN:DAYLIGHT
TZOFFSETFROM:+0100
TZOFFSETTO:+0200
TZNAME:CEST
DTSTART:20260329T010000
END:DAYLIGHT
BEGIN:STANDARD
TZOFFSETFROM:+0200
TZOFFSETTO:+0100
TZNAME:CET
DTSTART:20261025T010000
END:STANDARD
END:VTIMEZONE
BEGIN:VEVENT
DTSTART;TZID=Europe/Stockholm:20250518T100000
DTEND;TZID=Europe/Stockholm:20250518T170000
DTSTAMP:20260422T104610
CREATED:20250304T160242Z
LAST-MODIFIED:20250304T160253Z
UID:17741-1747562400-1747587600@judo.se
SUMMARY:Zongradering\, Lindesberg
DESCRIPTION:Inbjudan med mer info: Inbjudan_zongradering\, Lindesberg \n 
URL:https://judo.se/event/zongradering-lindesberg/
LOCATION:Lindesberg Arena\, Nyborgsgatan 1\, Lindesberg\, Sverige
CATEGORIES:Graderingar,Startsida
ORGANIZER;CN="Fr%C3%B6vi Judoklubb":MAILTO:info@frovijudo.se
END:VEVENT
BEGIN:VEVENT
DTSTART;TZID=Europe/Stockholm:20250531T090000
DTEND;TZID=Europe/Stockholm:20250531T170000
DTSTAMP:20260422T104610
CREATED:20250122T121247Z
LAST-MODIFIED:20250122T121247Z
UID:17250-1748682000-1748710800@judo.se
SUMMARY:Riksgradering Staffanstorp
DESCRIPTION:Inbjudan Staffanstorp 250531
URL:https://judo.se/event/riksgradering-staffanstorp-2/
LOCATION:Staffanstorps Judoklubb\, Hagalidvägen 4\, Staffanstorp\, 245 45\, Sverige
CATEGORIES:Graderingar,Startsida
ORGANIZER;CN="Staffanstorps JK":MAILTO:judogames@staffanstorpsjudo.se
END:VEVENT
END:VCALENDAR